BEGIN:VCALENDAR
VERSION:2.0
PRODID:-//Parkgate Community Church - ECPv6.15.20//NONSGML v1.0//EN
CALSCALE:GREGORIAN
METHOD:PUBLISH
X-WR-CALNAME:Parkgate Community Church
X-ORIGINAL-URL:https://www.parkgate.church
X-WR-CALDESC:Events for Parkgate Community Church
REFRESH-INTERVAL;VALUE=DURATION:PT1H
X-Robots-Tag:noindex
X-PUBLISHED-TTL:PT1H
BEGIN:VTIMEZONE
TZID:America/Chicago
BEGIN:DAYLIGHT
TZOFFSETFROM:-0600
TZOFFSETTO:-0500
TZNAME:CDT
DTSTART:20230312T080000
END:DAYLIGHT
BEGIN:STANDARD
TZOFFSETFROM:-0500
TZOFFSETTO:-0600
TZNAME:CST
DTSTART:20231105T070000
END:STANDARD
BEGIN:DAYLIGHT
TZOFFSETFROM:-0600
TZOFFSETTO:-0500
TZNAME:CDT
DTSTART:20240310T080000
END:DAYLIGHT
BEGIN:STANDARD
TZOFFSETFROM:-0500
TZOFFSETTO:-0600
TZNAME:CST
DTSTART:20241103T070000
END:STANDARD
BEGIN:DAYLIGHT
TZOFFSETFROM:-0600
TZOFFSETTO:-0500
TZNAME:CDT
DTSTART:20250309T080000
END:DAYLIGHT
BEGIN:STANDARD
TZOFFSETFROM:-0500
TZOFFSETTO:-0600
TZNAME:CST
DTSTART:20251102T070000
END:STANDARD
END:VTIMEZONE
BEGIN:VEVENT
DTSTART;VALUE=DATE:20240915
DTEND;VALUE=DATE:20240916
DTSTAMP:20260421T074006
CREATED:20240820T141706Z
LAST-MODIFIED:20240820T142522Z
UID:4922-1726358400-1726444799@www.parkgate.church
SUMMARY:Mentoring at Jensen Elementary
DESCRIPTION:Our church is partnering with Jensen Elementary to mentor students one-on-one. The students of Jensen are the same students who live in the surrounding community. All those who are available for a half-hour during the school week are invited to join us for the duration of the school year in making a difference in the lives of these students. Visit the link under ‘Website’ below to sign up today. \n*All volunteers must submit to a background check before serving.
URL:https://www.parkgate.church/event/mentoring-at-jensen-elementary/
LOCATION:Jensen Elementary\, 3514 Tulip St\, Pasadena\, TX\, 77504\, United States
CATEGORIES:Adults
ATTACH;FMTTYPE=image/png:https://www.parkgate.church/wp-content/uploads/2024/08/Jensen-Mentoring.png
ORGANIZER;CN="Bryan Axtell":MAILTO:axdad0104@gmail.com
END:VEVENT
END:VCALENDAR