BEGIN:VCALENDAR
VERSION:2.0
PRODID:-//Parkgate Community Church - ECPv6.15.20//NONSGML v1.0//EN
CALSCALE:GREGORIAN
METHOD:PUBLISH
X-WR-CALNAME:Parkgate Community Church
X-ORIGINAL-URL:https://www.parkgate.church
X-WR-CALDESC:Events for Parkgate Community Church
REFRESH-INTERVAL;VALUE=DURATION:PT1H
X-Robots-Tag:noindex
X-PUBLISHED-TTL:PT1H
BEGIN:VTIMEZONE
TZID:America/Chicago
BEGIN:DAYLIGHT
TZOFFSETFROM:-0600
TZOFFSETTO:-0500
TZNAME:CDT
DTSTART:20240310T080000
END:DAYLIGHT
BEGIN:STANDARD
TZOFFSETFROM:-0500
TZOFFSETTO:-0600
TZNAME:CST
DTSTART:20241103T070000
END:STANDARD
BEGIN:DAYLIGHT
TZOFFSETFROM:-0600
TZOFFSETTO:-0500
TZNAME:CDT
DTSTART:20250309T080000
END:DAYLIGHT
BEGIN:STANDARD
TZOFFSETFROM:-0500
TZOFFSETTO:-0600
TZNAME:CST
DTSTART:20251102T070000
END:STANDARD
BEGIN:DAYLIGHT
TZOFFSETFROM:-0600
TZOFFSETTO:-0500
TZNAME:CDT
DTSTART:20260308T080000
END:DAYLIGHT
BEGIN:STANDARD
TZOFFSETFROM:-0500
TZOFFSETTO:-0600
TZNAME:CST
DTSTART:20261101T070000
END:STANDARD
END:VTIMEZONE
BEGIN:VEVENT
DTSTART;TZID=America/Chicago:20250201T090000
DTEND;TZID=America/Chicago:20250201T103000
DTSTAMP:20260421T101935
CREATED:20250123T151902Z
LAST-MODIFIED:20250123T152508Z
UID:10006861-1738400400-1738405800@www.parkgate.church
SUMMARY:Intentional Mini
DESCRIPTION:In our world today\, many myths are taken as facts\, especially in the area of bringing up our kids. Join us Saturday\, February 1 in the KiX building to discuss Myths and Facts pertaining to one area where there is always confusion: the discipleship of our kids. We will be talking about what discipleship of our kids is and what it looks like. Along the way\, we will dismiss many myths that have been associated with discipling our children and truth on raising kids that love God. Parents of kids of all ages are welcome\, so we hope to see you there. \nChildcare will be available\, and a light breakfast will be provided. To be sure we are adequately prepared\, please register via the link.
URL:https://www.parkgate.church/event/intentional-mini/
LOCATION:Parkgate KiX Building\, 3715 Preston Avenue\, Pasadena\, TX\, 77505\, United States
CATEGORIES:Parents
ATTACH;FMTTYPE=image/png:https://www.parkgate.church/wp-content/uploads/2025/01/Intentional-Mini-Screen-02.01.png
ORGANIZER;CN="Bryan Axtell":MAILTO:axdad0104@gmail.com
END:VEVENT
END:VCALENDAR