BEGIN:VCALENDAR
VERSION:2.0
PRODID:-//Parkgate Community Church - ECPv6.15.20//NONSGML v1.0//EN
CALSCALE:GREGORIAN
METHOD:PUBLISH
X-WR-CALNAME:Parkgate Community Church
X-ORIGINAL-URL:https://www.parkgate.church
X-WR-CALDESC:Events for Parkgate Community Church
REFRESH-INTERVAL;VALUE=DURATION:PT1H
X-Robots-Tag:noindex
X-PUBLISHED-TTL:PT1H
BEGIN:VTIMEZONE
TZID:America/Chicago
BEGIN:DAYLIGHT
TZOFFSETFROM:-0600
TZOFFSETTO:-0500
TZNAME:CDT
DTSTART:20240310T080000
END:DAYLIGHT
BEGIN:STANDARD
TZOFFSETFROM:-0500
TZOFFSETTO:-0600
TZNAME:CST
DTSTART:20241103T070000
END:STANDARD
BEGIN:DAYLIGHT
TZOFFSETFROM:-0600
TZOFFSETTO:-0500
TZNAME:CDT
DTSTART:20250309T080000
END:DAYLIGHT
BEGIN:STANDARD
TZOFFSETFROM:-0500
TZOFFSETTO:-0600
TZNAME:CST
DTSTART:20251102T070000
END:STANDARD
BEGIN:DAYLIGHT
TZOFFSETFROM:-0600
TZOFFSETTO:-0500
TZNAME:CDT
DTSTART:20260308T080000
END:DAYLIGHT
BEGIN:STANDARD
TZOFFSETFROM:-0500
TZOFFSETTO:-0600
TZNAME:CST
DTSTART:20261101T070000
END:STANDARD
END:VTIMEZONE
BEGIN:VEVENT
DTSTART;TZID=America/Chicago:20250328T180000
DTEND;TZID=America/Chicago:20250328T200000
DTSTAMP:20260421T101947
CREATED:20240404T212604Z
LAST-MODIFIED:20240411T213122Z
UID:10005456-1743184800-1743192000@www.parkgate.church
SUMMARY:Pastor Kenneth's LifeGroup
DESCRIPTION:This LifeGroup is open to individuals and couples of all ages and seasons of life. For more details\, please reach out to Pastor Kenny at kboggs@parkgate.org.
URL:https://www.parkgate.church/event/pastor-kenneths-lifegroup/2025-03-28/
LOCATION:Pastor Kenneth’s House\, La Porte\, TX\, 77571\, United States
CATEGORIES:Adults,LifeGroups
ATTACH;FMTTYPE=image/png:https://www.parkgate.church/wp-content/uploads/2024/04/LifeGroup-Screen.png
END:VEVENT
BEGIN:VEVENT
DTSTART;TZID=America/Chicago:20250328T190000
DTEND;TZID=America/Chicago:20250328T200000
DTSTAMP:20260421T101947
CREATED:20250123T155301Z
LAST-MODIFIED:20250123T155301Z
UID:10006864-1743188400-1743192000@www.parkgate.church
SUMMARY:IMPACT Night of Worship
DESCRIPTION:Students join us for a night of worship as we come together with food and fellowship\, lifting our voices in praise to God. We are created to worship our creator\, so let’s deepen our love for God and draw closer to Him in our worship and closer to each other through fellowship. Come hungry and bring your friends.
URL:https://www.parkgate.church/event/impact-night-of-worship-2/
LOCATION:Parkgate Community Church\, 3715 Preston Avenue\, Pasadena\, TX\, 77505\, United States
CATEGORIES:IMPACT Student Ministry
ATTACH;FMTTYPE=image/png:https://www.parkgate.church/wp-content/uploads/2025/01/Impact-Night-of-Worship-Screen-03.28.png
ORGANIZER;CN="Pastor Daniel":MAILTO:dwalker@parkgate.org
END:VEVENT
END:VCALENDAR