BEGIN:VCALENDAR
VERSION:2.0
PRODID:-//Parkgate Community Church - ECPv6.15.20//NONSGML v1.0//EN
CALSCALE:GREGORIAN
METHOD:PUBLISH
X-WR-CALNAME:Parkgate Community Church
X-ORIGINAL-URL:https://www.parkgate.church
X-WR-CALDESC:Events for Parkgate Community Church
REFRESH-INTERVAL;VALUE=DURATION:PT1H
X-Robots-Tag:noindex
X-PUBLISHED-TTL:PT1H
BEGIN:VTIMEZONE
TZID:America/Chicago
BEGIN:DAYLIGHT
TZOFFSETFROM:-0600
TZOFFSETTO:-0500
TZNAME:CDT
DTSTART:20240310T080000
END:DAYLIGHT
BEGIN:STANDARD
TZOFFSETFROM:-0500
TZOFFSETTO:-0600
TZNAME:CST
DTSTART:20241103T070000
END:STANDARD
BEGIN:DAYLIGHT
TZOFFSETFROM:-0600
TZOFFSETTO:-0500
TZNAME:CDT
DTSTART:20250309T080000
END:DAYLIGHT
BEGIN:STANDARD
TZOFFSETFROM:-0500
TZOFFSETTO:-0600
TZNAME:CST
DTSTART:20251102T070000
END:STANDARD
BEGIN:DAYLIGHT
TZOFFSETFROM:-0600
TZOFFSETTO:-0500
TZNAME:CDT
DTSTART:20260308T080000
END:DAYLIGHT
BEGIN:STANDARD
TZOFFSETFROM:-0500
TZOFFSETTO:-0600
TZNAME:CST
DTSTART:20261101T070000
END:STANDARD
END:VTIMEZONE
BEGIN:VEVENT
DTSTART;TZID=America/Chicago:20250420T170000
DTEND;TZID=America/Chicago:20250420T190000
DTSTAMP:20260424T140912
CREATED:20240404T204714Z
LAST-MODIFIED:20240411T212024Z
UID:10002647-1745168400-1745175600@www.parkgate.church
SUMMARY:Young Adult LifeGroup
DESCRIPTION:Join us for an uplifting and engaging gathering tailored for young adults seeking community\, growth\, and faith. Discover a place where you belong and can journey together in faith. For more details\, please reach out to Pastor Kenny at kboggs@parkgate.org.
URL:https://www.parkgate.church/event/young-adult-lifegroup/2025-04-20/
LOCATION:Pastor Kenneth’s House\, La Porte\, TX\, 77571\, United States
CATEGORIES:Adults,LifeGroups
ATTACH;FMTTYPE=image/png:https://www.parkgate.church/wp-content/uploads/2024/04/LifeGroup-Screen.png
END:VEVENT
BEGIN:VEVENT
DTSTART;VALUE=DATE:20250420
DTEND;VALUE=DATE:20250421
DTSTAMP:20260424T140912
CREATED:20250401T162219Z
LAST-MODIFIED:20250401T162229Z
UID:10007187-1745107200-1745193599@www.parkgate.church
SUMMARY:Easter Sunday
DESCRIPTION:Join us in worship as we celebrate the resurrection of our Savior & King. Services at 9 & 10:45 a.m.
URL:https://www.parkgate.church/event/easter-sunday/
LOCATION:Parkgate Community Church\, 3715 Preston Avenue\, Pasadena\, TX\, 77505\, United States
CATEGORIES:Adults,IMPACT Student Ministry,KiX Children's Ministry
ATTACH;FMTTYPE=image/png:https://www.parkgate.church/wp-content/uploads/2025/04/Easter-Screen.png
END:VEVENT
BEGIN:VEVENT
DTSTART;TZID=America/Chicago:20250418T180000
DTEND;TZID=America/Chicago:20250418T200000
DTSTAMP:20260424T140912
CREATED:20240404T212604Z
LAST-MODIFIED:20240411T213122Z
UID:10005459-1744999200-1745006400@www.parkgate.church
SUMMARY:Pastor Kenneth's LifeGroup
DESCRIPTION:This LifeGroup is open to individuals and couples of all ages and seasons of life. For more details\, please reach out to Pastor Kenny at kboggs@parkgate.org.
URL:https://www.parkgate.church/event/pastor-kenneths-lifegroup/2025-04-18/
LOCATION:Pastor Kenneth’s House\, La Porte\, TX\, 77571\, United States
CATEGORIES:Adults,LifeGroups
ATTACH;FMTTYPE=image/png:https://www.parkgate.church/wp-content/uploads/2024/04/LifeGroup-Screen.png
END:VEVENT
BEGIN:VEVENT
DTSTART;TZID=America/Chicago:20250417T190000
DTEND;TZID=America/Chicago:20250417T200000
DTSTAMP:20260424T140912
CREATED:20250401T161607Z
LAST-MODIFIED:20250401T161607Z
UID:10007135-1744916400-1744920000@www.parkgate.church
SUMMARY:Worship Gathering
DESCRIPTION:Come join us for a time of worship and dedication during this special Worship Gathering on Thursday\, April 17\, at 7 p.m. as we prepare for Easter Sunday. This gathering will be a time of worship\, reflection\, prayer\, and renewal as we seek the heart of God together. \nIMPACT Students will join us for the Worship Gathering. Children ages 4 years old thru 5th grade will have a special Thursday edition of Club KiX. Childcare is provided for ages 1 – 3.
URL:https://www.parkgate.church/event/worship-gathering/
LOCATION:Parkgate Community Church\, 3715 Preston Avenue\, Pasadena\, TX\, 77505\, United States
CATEGORIES:Adults,IMPACT Student Ministry
ATTACH;FMTTYPE=image/png:https://www.parkgate.church/wp-content/uploads/2025/04/Maundy-Thursday-Screen-.png
ORGANIZER;CN="Pastor Kenny":MAILTO:kboggs@parkgate.org
END:VEVENT
BEGIN:VEVENT
DTSTART;TZID=America/Chicago:20250417T190000
DTEND;TZID=America/Chicago:20250417T200000
DTSTAMP:20260424T140912
CREATED:20240411T211312Z
LAST-MODIFIED:20240411T213038Z
UID:10007264-1744916400-1744920000@www.parkgate.church
SUMMARY:Frankie's LifeGroup
DESCRIPTION:This LifeGroup is open to individuals and couples of all ages and seasons of life. For more details\, please reach out to Pastor Kenny at kboggs@parkgate.org.
URL:https://www.parkgate.church/event/frankies-lifegroup/2025-04-17/
LOCATION:TX
CATEGORIES:Adults,LifeGroups
ATTACH;FMTTYPE=image/png:https://www.parkgate.church/wp-content/uploads/2024/04/LifeGroup-Screen.png
END:VEVENT
BEGIN:VEVENT
DTSTART;TZID=America/Chicago:20250417T120000
DTEND;TZID=America/Chicago:20250417T130000
DTSTAMP:20260424T140912
CREATED:20240404T211218Z
LAST-MODIFIED:20240404T211218Z
UID:10004676-1744891200-1744894800@www.parkgate.church
SUMMARY:Bible Study with Pastor Kenneth
DESCRIPTION:This LifeGroup is open to individuals and couples of all ages and seasons of life. For more details\, please reach out to Pastor Kenny at kboggs@parkgate.org.
URL:https://www.parkgate.church/event/bible-study-with-pastor-kenneth/2025-04-17/
LOCATION:Parkgate Community Church\, 3715 Preston Avenue\, Pasadena\, TX\, 77505\, United States
CATEGORIES:Adults,LifeGroups
END:VEVENT
BEGIN:VEVENT
DTSTART;TZID=America/Chicago:20250416T190000
DTEND;TZID=America/Chicago:20250416T200000
DTSTAMP:20260424T140912
CREATED:20240411T210511Z
LAST-MODIFIED:20240411T212819Z
UID:10004214-1744830000-1744833600@www.parkgate.church
SUMMARY:Troy's LifeGroup
DESCRIPTION:This LifeGroup is open to individuals and couples of all ages and seasons of life. For more details\, please reach out to Pastor Kenny at kboggs@parkgate.org.
URL:https://www.parkgate.church/event/troys-lifegroup/2025-04-16/
LOCATION:Troy’s House\, Deer Park\, TX\, 77536\, United States
CATEGORIES:Adults,LifeGroups
ATTACH;FMTTYPE=image/png:https://www.parkgate.church/wp-content/uploads/2024/04/LifeGroup-Screen.png
END:VEVENT
BEGIN:VEVENT
DTSTART;TZID=America/Chicago:20250416T190000
DTEND;TZID=America/Chicago:20250416T200000
DTSTAMP:20260424T140912
CREATED:20240404T205606Z
LAST-MODIFIED:20240411T212857Z
UID:10005726-1744830000-1744833600@www.parkgate.church
SUMMARY:Steven's LifeGroup
DESCRIPTION:This LifeGroup is open to individuals and couples of all ages and seasons of life. For more details\, please reach out to Pastor Kenny at kboggs@parkgate.org.
URL:https://www.parkgate.church/event/stevens-lifegroup/2025-04-16/
LOCATION:Parkgate Community Church\, 3715 Preston Avenue\, Pasadena\, TX\, 77505\, United States
CATEGORIES:Adults,LifeGroups
ATTACH;FMTTYPE=image/png:https://www.parkgate.church/wp-content/uploads/2024/04/LifeGroup-Screen.png
END:VEVENT
BEGIN:VEVENT
DTSTART;TZID=America/Chicago:20250415T183000
DTEND;TZID=America/Chicago:20250415T200000
DTSTAMP:20260424T140912
CREATED:20240411T210254Z
LAST-MODIFIED:20240411T212705Z
UID:10003692-1744741800-1744747200@www.parkgate.church
SUMMARY:Larry's LifeGroup
DESCRIPTION:This LifeGroup is comprised of couples and individuals aged 50 and up. For more details\, please reach out to Pastor Kenny at kboggs@parkgate.org.
URL:https://www.parkgate.church/event/larrys-lifegroup-2/2025-04-15/
LOCATION:TX
CATEGORIES:Adults,LifeGroups
ATTACH;FMTTYPE=image/png:https://www.parkgate.church/wp-content/uploads/2024/04/LifeGroup-Screen.png
END:VEVENT
BEGIN:VEVENT
DTSTART;TZID=America/Chicago:20250415T183000
DTEND;TZID=America/Chicago:20250415T193000
DTSTAMP:20260424T140912
CREATED:20250130T160540Z
LAST-MODIFIED:20250130T160540Z
UID:10006877-1744741800-1744745400@www.parkgate.church
SUMMARY:John & Cydni's LifeGroup
DESCRIPTION:This LifeGroup is comprised of couples and individuals aged 40 and up and meets online via Zoom. For more details\, please reach out to Pastor Kenny at kboggs@parkgate.org.
URL:https://www.parkgate.church/event/john-cydnis-lifegroup-2/2025-04-15/
LOCATION:Zoom
CATEGORIES:Adults,LifeGroups
ATTACH;FMTTYPE=image/png:https://www.parkgate.church/wp-content/uploads/2024/04/LifeGroup-Screen.png
ORGANIZER;CN="Pastor Kenny":MAILTO:kboggs@parkgate.org
END:VEVENT
BEGIN:VEVENT
DTSTART;TZID=America/Chicago:20250415T170000
DTEND;TZID=America/Chicago:20250415T183000
DTSTAMP:20260424T140912
CREATED:20240404T210855Z
LAST-MODIFIED:20240411T212625Z
UID:10004463-1744736400-1744741800@www.parkgate.church
SUMMARY:Judy's LifeGroup
DESCRIPTION:This LifeGroup is comprised of couples and individuals aged 50 and up. For more details\, please reach out to Pastor Kenny at kboggs@parkgate.org.
URL:https://www.parkgate.church/event/judys-lifegroup/2025-04-15/
LOCATION:Parkgate Community Church\, 3715 Preston Avenue\, Pasadena\, TX\, 77505\, United States
CATEGORIES:Adults,LifeGroups
ATTACH;FMTTYPE=image/png:https://www.parkgate.church/wp-content/uploads/2024/04/LifeGroup-Screen.png
END:VEVENT
BEGIN:VEVENT
DTSTART;TZID=America/Chicago:20250413T170000
DTEND;TZID=America/Chicago:20250413T190000
DTSTAMP:20260424T140912
CREATED:20240404T204714Z
LAST-MODIFIED:20240411T212024Z
UID:10002646-1744563600-1744570800@www.parkgate.church
SUMMARY:Young Adult LifeGroup
DESCRIPTION:Join us for an uplifting and engaging gathering tailored for young adults seeking community\, growth\, and faith. Discover a place where you belong and can journey together in faith. For more details\, please reach out to Pastor Kenny at kboggs@parkgate.org.
URL:https://www.parkgate.church/event/young-adult-lifegroup/2025-04-13/
LOCATION:Pastor Kenneth’s House\, La Porte\, TX\, 77571\, United States
CATEGORIES:Adults,LifeGroups
ATTACH;FMTTYPE=image/png:https://www.parkgate.church/wp-content/uploads/2024/04/LifeGroup-Screen.png
END:VEVENT
BEGIN:VEVENT
DTSTART;TZID=America/Chicago:20250411T180000
DTEND;TZID=America/Chicago:20250411T200000
DTSTAMP:20260424T140912
CREATED:20240404T212604Z
LAST-MODIFIED:20240411T213122Z
UID:10005458-1744394400-1744401600@www.parkgate.church
SUMMARY:Pastor Kenneth's LifeGroup
DESCRIPTION:This LifeGroup is open to individuals and couples of all ages and seasons of life. For more details\, please reach out to Pastor Kenny at kboggs@parkgate.org.
URL:https://www.parkgate.church/event/pastor-kenneths-lifegroup/2025-04-11/
LOCATION:Pastor Kenneth’s House\, La Porte\, TX\, 77571\, United States
CATEGORIES:Adults,LifeGroups
ATTACH;FMTTYPE=image/png:https://www.parkgate.church/wp-content/uploads/2024/04/LifeGroup-Screen.png
END:VEVENT
BEGIN:VEVENT
DTSTART;TZID=America/Chicago:20250410T190000
DTEND;TZID=America/Chicago:20250410T200000
DTSTAMP:20260424T140912
CREATED:20240411T211312Z
LAST-MODIFIED:20240411T213038Z
UID:10005197-1744311600-1744315200@www.parkgate.church
SUMMARY:Frankie's LifeGroup
DESCRIPTION:This LifeGroup is open to individuals and couples of all ages and seasons of life. For more details\, please reach out to Pastor Kenny at kboggs@parkgate.org.
URL:https://www.parkgate.church/event/frankies-lifegroup/2025-04-10/
LOCATION:TX
CATEGORIES:Adults,LifeGroups
ATTACH;FMTTYPE=image/png:https://www.parkgate.church/wp-content/uploads/2024/04/LifeGroup-Screen.png
END:VEVENT
BEGIN:VEVENT
DTSTART;TZID=America/Chicago:20250410T180000
DTEND;TZID=America/Chicago:20250410T200000
DTSTAMP:20260424T140913
CREATED:20240404T211622Z
LAST-MODIFIED:20240411T212959Z
UID:10004936-1744308000-1744315200@www.parkgate.church
SUMMARY:Larry's LifeGroup
DESCRIPTION:This LifeGroup is comprised of couples and individuals aged 50 and up. For more details\, please reach out to Pastor Kenny at kboggs@parkgate.org.
URL:https://www.parkgate.church/event/larrys-lifegroup/2025-04-10/
LOCATION:Duncan’s House\, Pasadena\, TX\, 77505\, United States
CATEGORIES:Adults,LifeGroups
ATTACH;FMTTYPE=image/png:https://www.parkgate.church/wp-content/uploads/2024/04/LifeGroup-Screen.png
END:VEVENT
BEGIN:VEVENT
DTSTART;TZID=America/Chicago:20250410T120000
DTEND;TZID=America/Chicago:20250410T130000
DTSTAMP:20260424T140913
CREATED:20240404T211218Z
LAST-MODIFIED:20240404T211218Z
UID:10004675-1744286400-1744290000@www.parkgate.church
SUMMARY:Bible Study with Pastor Kenneth
DESCRIPTION:This LifeGroup is open to individuals and couples of all ages and seasons of life. For more details\, please reach out to Pastor Kenny at kboggs@parkgate.org.
URL:https://www.parkgate.church/event/bible-study-with-pastor-kenneth/2025-04-10/
LOCATION:Parkgate Community Church\, 3715 Preston Avenue\, Pasadena\, TX\, 77505\, United States
CATEGORIES:Adults,LifeGroups
END:VEVENT
BEGIN:VEVENT
DTSTART;TZID=America/Chicago:20250409T190000
DTEND;TZID=America/Chicago:20250409T200000
DTSTAMP:20260424T140913
CREATED:20240411T210511Z
LAST-MODIFIED:20240411T212819Z
UID:10004213-1744225200-1744228800@www.parkgate.church
SUMMARY:Troy's LifeGroup
DESCRIPTION:This LifeGroup is open to individuals and couples of all ages and seasons of life. For more details\, please reach out to Pastor Kenny at kboggs@parkgate.org.
URL:https://www.parkgate.church/event/troys-lifegroup/2025-04-09/
LOCATION:Troy’s House\, Deer Park\, TX\, 77536\, United States
CATEGORIES:Adults,LifeGroups
ATTACH;FMTTYPE=image/png:https://www.parkgate.church/wp-content/uploads/2024/04/LifeGroup-Screen.png
END:VEVENT
BEGIN:VEVENT
DTSTART;TZID=America/Chicago:20250409T190000
DTEND;TZID=America/Chicago:20250409T200000
DTSTAMP:20260424T140913
CREATED:20240404T205606Z
LAST-MODIFIED:20240411T212857Z
UID:10005725-1744225200-1744228800@www.parkgate.church
SUMMARY:Steven's LifeGroup
DESCRIPTION:This LifeGroup is open to individuals and couples of all ages and seasons of life. For more details\, please reach out to Pastor Kenny at kboggs@parkgate.org.
URL:https://www.parkgate.church/event/stevens-lifegroup/2025-04-09/
LOCATION:Parkgate Community Church\, 3715 Preston Avenue\, Pasadena\, TX\, 77505\, United States
CATEGORIES:Adults,LifeGroups
ATTACH;FMTTYPE=image/png:https://www.parkgate.church/wp-content/uploads/2024/04/LifeGroup-Screen.png
END:VEVENT
BEGIN:VEVENT
DTSTART;TZID=America/Chicago:20250408T183000
DTEND;TZID=America/Chicago:20250408T200000
DTSTAMP:20260424T140913
CREATED:20240411T210254Z
LAST-MODIFIED:20240411T212705Z
UID:10003691-1744137000-1744142400@www.parkgate.church
SUMMARY:Larry's LifeGroup
DESCRIPTION:This LifeGroup is comprised of couples and individuals aged 50 and up. For more details\, please reach out to Pastor Kenny at kboggs@parkgate.org.
URL:https://www.parkgate.church/event/larrys-lifegroup-2/2025-04-08/
LOCATION:TX
CATEGORIES:Adults,LifeGroups
ATTACH;FMTTYPE=image/png:https://www.parkgate.church/wp-content/uploads/2024/04/LifeGroup-Screen.png
END:VEVENT
BEGIN:VEVENT
DTSTART;TZID=America/Chicago:20250408T183000
DTEND;TZID=America/Chicago:20250408T193000
DTSTAMP:20260424T140913
CREATED:20250130T160540Z
LAST-MODIFIED:20250130T160540Z
UID:10006876-1744137000-1744140600@www.parkgate.church
SUMMARY:John & Cydni's LifeGroup
DESCRIPTION:This LifeGroup is comprised of couples and individuals aged 40 and up and meets online via Zoom. For more details\, please reach out to Pastor Kenny at kboggs@parkgate.org.
URL:https://www.parkgate.church/event/john-cydnis-lifegroup-2/2025-04-08/
LOCATION:Zoom
CATEGORIES:Adults,LifeGroups
ATTACH;FMTTYPE=image/png:https://www.parkgate.church/wp-content/uploads/2024/04/LifeGroup-Screen.png
ORGANIZER;CN="Pastor Kenny":MAILTO:kboggs@parkgate.org
END:VEVENT
BEGIN:VEVENT
DTSTART;TZID=America/Chicago:20250408T170000
DTEND;TZID=America/Chicago:20250408T183000
DTSTAMP:20260424T140913
CREATED:20240404T210855Z
LAST-MODIFIED:20240411T212625Z
UID:10004462-1744131600-1744137000@www.parkgate.church
SUMMARY:Judy's LifeGroup
DESCRIPTION:This LifeGroup is comprised of couples and individuals aged 50 and up. For more details\, please reach out to Pastor Kenny at kboggs@parkgate.org.
URL:https://www.parkgate.church/event/judys-lifegroup/2025-04-08/
LOCATION:Parkgate Community Church\, 3715 Preston Avenue\, Pasadena\, TX\, 77505\, United States
CATEGORIES:Adults,LifeGroups
ATTACH;FMTTYPE=image/png:https://www.parkgate.church/wp-content/uploads/2024/04/LifeGroup-Screen.png
END:VEVENT
BEGIN:VEVENT
DTSTART;TZID=America/Chicago:20250406T170000
DTEND;TZID=America/Chicago:20250406T190000
DTSTAMP:20260424T140913
CREATED:20240404T204714Z
LAST-MODIFIED:20240411T212024Z
UID:10002645-1743958800-1743966000@www.parkgate.church
SUMMARY:Young Adult LifeGroup
DESCRIPTION:Join us for an uplifting and engaging gathering tailored for young adults seeking community\, growth\, and faith. Discover a place where you belong and can journey together in faith. For more details\, please reach out to Pastor Kenny at kboggs@parkgate.org.
URL:https://www.parkgate.church/event/young-adult-lifegroup/2025-04-06/
LOCATION:Pastor Kenneth’s House\, La Porte\, TX\, 77571\, United States
CATEGORIES:Adults,LifeGroups
ATTACH;FMTTYPE=image/png:https://www.parkgate.church/wp-content/uploads/2024/04/LifeGroup-Screen.png
END:VEVENT
BEGIN:VEVENT
DTSTART;TZID=America/Chicago:20250404T180000
DTEND;TZID=America/Chicago:20250404T200000
DTSTAMP:20260424T140913
CREATED:20240404T212604Z
LAST-MODIFIED:20240411T213122Z
UID:10005457-1743789600-1743796800@www.parkgate.church
SUMMARY:Pastor Kenneth's LifeGroup
DESCRIPTION:This LifeGroup is open to individuals and couples of all ages and seasons of life. For more details\, please reach out to Pastor Kenny at kboggs@parkgate.org.
URL:https://www.parkgate.church/event/pastor-kenneths-lifegroup/2025-04-04/
LOCATION:Pastor Kenneth’s House\, La Porte\, TX\, 77571\, United States
CATEGORIES:Adults,LifeGroups
ATTACH;FMTTYPE=image/png:https://www.parkgate.church/wp-content/uploads/2024/04/LifeGroup-Screen.png
END:VEVENT
BEGIN:VEVENT
DTSTART;TZID=America/Chicago:20250404T180000
DTEND;TZID=America/Chicago:20250404T190000
DTSTAMP:20260424T140913
CREATED:20250311T182640Z
LAST-MODIFIED:20250311T182701Z
UID:10007132-1743789600-1743793200@www.parkgate.church
SUMMARY:IMPACT Game Night Mixer
DESCRIPTION:Join us for an evening of games\, laughter\, and unforgettable connections! Parkgate youth and adults come together for a multigenerational showdown in the KiX Building. Get ready to forge new friendships and build unity within our Church community. Don’t miss out on this incredible opportunity to connect compete and create lasting memories. Bring your favorite games and your best game face. Game on!
URL:https://www.parkgate.church/event/impact-game-night-mixer/
LOCATION:Parkgate KiX Building\, 3715 Preston Avenue\, Pasadena\, TX\, 77505\, United States
CATEGORIES:Adults,IMPACT Student Ministry
ATTACH;FMTTYPE=image/png:https://www.parkgate.church/wp-content/uploads/2025/03/Impact-Mixer-Game-Night-Screen.png
ORGANIZER;CN="Pastor Daniel":MAILTO:dwalker@parkgate.org
END:VEVENT
BEGIN:VEVENT
DTSTART;TZID=America/Chicago:20250403T190000
DTEND;TZID=America/Chicago:20250403T200000
DTSTAMP:20260424T140913
CREATED:20240411T211312Z
LAST-MODIFIED:20240411T213038Z
UID:10005196-1743706800-1743710400@www.parkgate.church
SUMMARY:Frankie's LifeGroup
DESCRIPTION:This LifeGroup is open to individuals and couples of all ages and seasons of life. For more details\, please reach out to Pastor Kenny at kboggs@parkgate.org.
URL:https://www.parkgate.church/event/frankies-lifegroup/2025-04-03/
LOCATION:TX
CATEGORIES:Adults,LifeGroups
ATTACH;FMTTYPE=image/png:https://www.parkgate.church/wp-content/uploads/2024/04/LifeGroup-Screen.png
END:VEVENT
BEGIN:VEVENT
DTSTART;TZID=America/Chicago:20250403T180000
DTEND;TZID=America/Chicago:20250403T200000
DTSTAMP:20260424T140913
CREATED:20240404T211622Z
LAST-MODIFIED:20240411T212959Z
UID:10004935-1743703200-1743710400@www.parkgate.church
SUMMARY:Larry's LifeGroup
DESCRIPTION:This LifeGroup is comprised of couples and individuals aged 50 and up. For more details\, please reach out to Pastor Kenny at kboggs@parkgate.org.
URL:https://www.parkgate.church/event/larrys-lifegroup/2025-04-03/
LOCATION:Duncan’s House\, Pasadena\, TX\, 77505\, United States
CATEGORIES:Adults,LifeGroups
ATTACH;FMTTYPE=image/png:https://www.parkgate.church/wp-content/uploads/2024/04/LifeGroup-Screen.png
END:VEVENT
BEGIN:VEVENT
DTSTART;TZID=America/Chicago:20250403T120000
DTEND;TZID=America/Chicago:20250403T130000
DTSTAMP:20260424T140913
CREATED:20240404T211218Z
LAST-MODIFIED:20240404T211218Z
UID:10004674-1743681600-1743685200@www.parkgate.church
SUMMARY:Bible Study with Pastor Kenneth
DESCRIPTION:This LifeGroup is open to individuals and couples of all ages and seasons of life. For more details\, please reach out to Pastor Kenny at kboggs@parkgate.org.
URL:https://www.parkgate.church/event/bible-study-with-pastor-kenneth/2025-04-03/
LOCATION:Parkgate Community Church\, 3715 Preston Avenue\, Pasadena\, TX\, 77505\, United States
CATEGORIES:Adults,LifeGroups
END:VEVENT
BEGIN:VEVENT
DTSTART;TZID=America/Chicago:20250402T190000
DTEND;TZID=America/Chicago:20250402T200000
DTSTAMP:20260424T140913
CREATED:20240411T210511Z
LAST-MODIFIED:20240411T212819Z
UID:10004212-1743620400-1743624000@www.parkgate.church
SUMMARY:Troy's LifeGroup
DESCRIPTION:This LifeGroup is open to individuals and couples of all ages and seasons of life. For more details\, please reach out to Pastor Kenny at kboggs@parkgate.org.
URL:https://www.parkgate.church/event/troys-lifegroup/2025-04-02/
LOCATION:Troy’s House\, Deer Park\, TX\, 77536\, United States
CATEGORIES:Adults,LifeGroups
ATTACH;FMTTYPE=image/png:https://www.parkgate.church/wp-content/uploads/2024/04/LifeGroup-Screen.png
END:VEVENT
BEGIN:VEVENT
DTSTART;TZID=America/Chicago:20250402T190000
DTEND;TZID=America/Chicago:20250402T200000
DTSTAMP:20260424T140913
CREATED:20240404T205606Z
LAST-MODIFIED:20240411T212857Z
UID:10005724-1743620400-1743624000@www.parkgate.church
SUMMARY:Steven's LifeGroup
DESCRIPTION:This LifeGroup is open to individuals and couples of all ages and seasons of life. For more details\, please reach out to Pastor Kenny at kboggs@parkgate.org.
URL:https://www.parkgate.church/event/stevens-lifegroup/2025-04-02/
LOCATION:Parkgate Community Church\, 3715 Preston Avenue\, Pasadena\, TX\, 77505\, United States
CATEGORIES:Adults,LifeGroups
ATTACH;FMTTYPE=image/png:https://www.parkgate.church/wp-content/uploads/2024/04/LifeGroup-Screen.png
END:VEVENT
BEGIN:VEVENT
DTSTART;TZID=America/Chicago:20250402T180000
DTEND;TZID=America/Chicago:20250402T200000
DTSTAMP:20260424T140913
CREATED:20231212T163824Z
LAST-MODIFIED:20240724T195525Z
UID:10001882-1743616800-1743624000@www.parkgate.church
SUMMARY:Fun Night
DESCRIPTION:Join fellow Parkgate adults in the Fellowship Room at 6 p.m. for a time of board games and cards\, fellowship\, and a light meal.
URL:https://www.parkgate.church/event/fellowship-game-night/2025-04-02/
LOCATION:Parkgate Community Church\, 3715 Preston Avenue\, Pasadena\, TX\, 77505\, United States
CATEGORIES:Adults
ATTACH;FMTTYPE=image/png:https://www.parkgate.church/wp-content/uploads/2023/12/Fun-Night-Screen.png
END:VEVENT
END:VCALENDAR