BEGIN:VCALENDAR
VERSION:2.0
PRODID:-//Parkgate Community Church - ECPv6.15.20//NONSGML v1.0//EN
CALSCALE:GREGORIAN
METHOD:PUBLISH
X-ORIGINAL-URL:https://www.parkgate.church
X-WR-CALDESC:Events for Parkgate Community Church
REFRESH-INTERVAL;VALUE=DURATION:PT1H
X-Robots-Tag:noindex
X-PUBLISHED-TTL:PT1H
BEGIN:VTIMEZONE
TZID:America/Chicago
BEGIN:DAYLIGHT
TZOFFSETFROM:-0600
TZOFFSETTO:-0500
TZNAME:CDT
DTSTART:20240310T080000
END:DAYLIGHT
BEGIN:STANDARD
TZOFFSETFROM:-0500
TZOFFSETTO:-0600
TZNAME:CST
DTSTART:20241103T070000
END:STANDARD
BEGIN:DAYLIGHT
TZOFFSETFROM:-0600
TZOFFSETTO:-0500
TZNAME:CDT
DTSTART:20250309T080000
END:DAYLIGHT
BEGIN:STANDARD
TZOFFSETFROM:-0500
TZOFFSETTO:-0600
TZNAME:CST
DTSTART:20251102T070000
END:STANDARD
BEGIN:DAYLIGHT
TZOFFSETFROM:-0600
TZOFFSETTO:-0500
TZNAME:CDT
DTSTART:20260308T080000
END:DAYLIGHT
BEGIN:STANDARD
TZOFFSETFROM:-0500
TZOFFSETTO:-0600
TZNAME:CST
DTSTART:20261101T070000
END:STANDARD
BEGIN:DAYLIGHT
TZOFFSETFROM:-0600
TZOFFSETTO:-0500
TZNAME:CDT
DTSTART:20270314T080000
END:DAYLIGHT
BEGIN:STANDARD
TZOFFSETFROM:-0500
TZOFFSETTO:-0600
TZNAME:CST
DTSTART:20271107T070000
END:STANDARD
END:VTIMEZONE
BEGIN:VEVENT
DTSTART;TZID=America/Chicago:20260111T170000
DTEND;TZID=America/Chicago:20260111T190000
DTSTAMP:20260421T130748
CREATED:20240404T204714Z
LAST-MODIFIED:20240411T212024Z
UID:10002685-1768150800-1768158000@www.parkgate.church
SUMMARY:Young Adult LifeGroup
DESCRIPTION:Join us for an uplifting and engaging gathering tailored for young adults seeking community\, growth\, and faith. Discover a place where you belong and can journey together in faith. For more details\, please reach out to Pastor Kenny at kboggs@parkgate.org.
URL:https://www.parkgate.church/event/young-adult-lifegroup/2026-01-11/
LOCATION:Pastor Kenneth’s House\, La Porte\, TX\, 77571\, United States
CATEGORIES:Adults,LifeGroups
ATTACH;FMTTYPE=image/png:https://www.parkgate.church/wp-content/uploads/2024/04/LifeGroup-Screen.png
END:VEVENT
BEGIN:VEVENT
DTSTART;TZID=America/Chicago:20260107T190000
DTEND;TZID=America/Chicago:20260107T200000
DTSTAMP:20260421T130748
CREATED:20251209T234534Z
LAST-MODIFIED:20251209T234534Z
UID:10007369-1767812400-1767816000@www.parkgate.church
SUMMARY:Encounter Service
DESCRIPTION:Join us for our Encounter Service as we seek the Lord together through prayer and worship. Our KiX Children’s Ministry and Impact Youth Ministry will join us\, allowing families to experience this special time of connection with God together. Childcare will be available for children 3 years and under.
URL:https://www.parkgate.church/event/encounter-service/
LOCATION:Parkgate Community Church\, 3715 Preston Avenue\, Pasadena\, TX\, 77505\, United States
CATEGORIES:Adults,IMPACT Student Ministry,KiX Children's Ministry
ATTACH;FMTTYPE=image/png:https://www.parkgate.church/wp-content/uploads/2025/12/Encounter-Screen-No-Date.png
ORGANIZER;CN="Pastor Kenny":MAILTO:kboggs@parkgate.org
END:VEVENT
BEGIN:VEVENT
DTSTART;TZID=America/Chicago:20260107T180000
DTEND;TZID=America/Chicago:20260107T200000
DTSTAMP:20260421T130748
CREATED:20231212T163824Z
LAST-MODIFIED:20240724T195525Z
UID:10001891-1767808800-1767816000@www.parkgate.church
SUMMARY:Fun Night
DESCRIPTION:Join fellow Parkgate adults in the Fellowship Room at 6 p.m. for a time of board games and cards\, fellowship\, and a light meal.
URL:https://www.parkgate.church/event/fellowship-game-night/2026-01-07/
LOCATION:Parkgate Community Church\, 3715 Preston Avenue\, Pasadena\, TX\, 77505\, United States
CATEGORIES:Adults
ATTACH;FMTTYPE=image/png:https://www.parkgate.church/wp-content/uploads/2023/12/Fun-Night-Screen.png
END:VEVENT
BEGIN:VEVENT
DTSTART;TZID=America/Chicago:20260104T170000
DTEND;TZID=America/Chicago:20260104T190000
DTSTAMP:20260421T130748
CREATED:20240404T204714Z
LAST-MODIFIED:20240411T212024Z
UID:10002684-1767546000-1767553200@www.parkgate.church
SUMMARY:Young Adult LifeGroup
DESCRIPTION:Join us for an uplifting and engaging gathering tailored for young adults seeking community\, growth\, and faith. Discover a place where you belong and can journey together in faith. For more details\, please reach out to Pastor Kenny at kboggs@parkgate.org.
URL:https://www.parkgate.church/event/young-adult-lifegroup/2026-01-04/
LOCATION:Pastor Kenneth’s House\, La Porte\, TX\, 77571\, United States
CATEGORIES:Adults,LifeGroups
ATTACH;FMTTYPE=image/png:https://www.parkgate.church/wp-content/uploads/2024/04/LifeGroup-Screen.png
END:VEVENT
BEGIN:VEVENT
DTSTART;TZID=America/Chicago:20251228T170000
DTEND;TZID=America/Chicago:20251228T190000
DTSTAMP:20260421T130748
CREATED:20240404T204714Z
LAST-MODIFIED:20240411T212024Z
UID:10002683-1766941200-1766948400@www.parkgate.church
SUMMARY:Young Adult LifeGroup
DESCRIPTION:Join us for an uplifting and engaging gathering tailored for young adults seeking community\, growth\, and faith. Discover a place where you belong and can journey together in faith. For more details\, please reach out to Pastor Kenny at kboggs@parkgate.org.
URL:https://www.parkgate.church/event/young-adult-lifegroup/2025-12-28/
LOCATION:Pastor Kenneth’s House\, La Porte\, TX\, 77571\, United States
CATEGORIES:Adults,LifeGroups
ATTACH;FMTTYPE=image/png:https://www.parkgate.church/wp-content/uploads/2024/04/LifeGroup-Screen.png
END:VEVENT
BEGIN:VEVENT
DTSTART;TZID=America/Chicago:20251221T170000
DTEND;TZID=America/Chicago:20251221T190000
DTSTAMP:20260421T130748
CREATED:20240404T204714Z
LAST-MODIFIED:20240411T212024Z
UID:10002682-1766336400-1766343600@www.parkgate.church
SUMMARY:Young Adult LifeGroup
DESCRIPTION:Join us for an uplifting and engaging gathering tailored for young adults seeking community\, growth\, and faith. Discover a place where you belong and can journey together in faith. For more details\, please reach out to Pastor Kenny at kboggs@parkgate.org.
URL:https://www.parkgate.church/event/young-adult-lifegroup/2025-12-21/
LOCATION:Pastor Kenneth’s House\, La Porte\, TX\, 77571\, United States
CATEGORIES:Adults,LifeGroups
ATTACH;FMTTYPE=image/png:https://www.parkgate.church/wp-content/uploads/2024/04/LifeGroup-Screen.png
END:VEVENT
BEGIN:VEVENT
DTSTART;TZID=America/Chicago:20251214T170000
DTEND;TZID=America/Chicago:20251214T190000
DTSTAMP:20260421T130748
CREATED:20240404T204714Z
LAST-MODIFIED:20240411T212024Z
UID:10002681-1765731600-1765738800@www.parkgate.church
SUMMARY:Young Adult LifeGroup
DESCRIPTION:Join us for an uplifting and engaging gathering tailored for young adults seeking community\, growth\, and faith. Discover a place where you belong and can journey together in faith. For more details\, please reach out to Pastor Kenny at kboggs@parkgate.org.
URL:https://www.parkgate.church/event/young-adult-lifegroup/2025-12-14/
LOCATION:Pastor Kenneth’s House\, La Porte\, TX\, 77571\, United States
CATEGORIES:Adults,LifeGroups
ATTACH;FMTTYPE=image/png:https://www.parkgate.church/wp-content/uploads/2024/04/LifeGroup-Screen.png
END:VEVENT
BEGIN:VEVENT
DTSTART;TZID=America/Chicago:20251207T170000
DTEND;TZID=America/Chicago:20251207T190000
DTSTAMP:20260421T130748
CREATED:20240404T204714Z
LAST-MODIFIED:20240411T212024Z
UID:10002680-1765126800-1765134000@www.parkgate.church
SUMMARY:Young Adult LifeGroup
DESCRIPTION:Join us for an uplifting and engaging gathering tailored for young adults seeking community\, growth\, and faith. Discover a place where you belong and can journey together in faith. For more details\, please reach out to Pastor Kenny at kboggs@parkgate.org.
URL:https://www.parkgate.church/event/young-adult-lifegroup/2025-12-07/
LOCATION:Pastor Kenneth’s House\, La Porte\, TX\, 77571\, United States
CATEGORIES:Adults,LifeGroups
ATTACH;FMTTYPE=image/png:https://www.parkgate.church/wp-content/uploads/2024/04/LifeGroup-Screen.png
END:VEVENT
BEGIN:VEVENT
DTSTART;TZID=America/Chicago:20251203T180000
DTEND;TZID=America/Chicago:20251203T200000
DTSTAMP:20260421T130748
CREATED:20231212T163824Z
LAST-MODIFIED:20240724T195525Z
UID:10001890-1764784800-1764792000@www.parkgate.church
SUMMARY:Fun Night
DESCRIPTION:Join fellow Parkgate adults in the Fellowship Room at 6 p.m. for a time of board games and cards\, fellowship\, and a light meal.
URL:https://www.parkgate.church/event/fellowship-game-night/2025-12-03/
LOCATION:Parkgate Community Church\, 3715 Preston Avenue\, Pasadena\, TX\, 77505\, United States
CATEGORIES:Adults
ATTACH;FMTTYPE=image/png:https://www.parkgate.church/wp-content/uploads/2023/12/Fun-Night-Screen.png
END:VEVENT
BEGIN:VEVENT
DTSTART;TZID=America/Chicago:20251130T170000
DTEND;TZID=America/Chicago:20251130T190000
DTSTAMP:20260421T130748
CREATED:20240404T204714Z
LAST-MODIFIED:20240411T212024Z
UID:10002679-1764522000-1764529200@www.parkgate.church
SUMMARY:Young Adult LifeGroup
DESCRIPTION:Join us for an uplifting and engaging gathering tailored for young adults seeking community\, growth\, and faith. Discover a place where you belong and can journey together in faith. For more details\, please reach out to Pastor Kenny at kboggs@parkgate.org.
URL:https://www.parkgate.church/event/young-adult-lifegroup/2025-11-30/
LOCATION:Pastor Kenneth’s House\, La Porte\, TX\, 77571\, United States
CATEGORIES:Adults,LifeGroups
ATTACH;FMTTYPE=image/png:https://www.parkgate.church/wp-content/uploads/2024/04/LifeGroup-Screen.png
END:VEVENT
BEGIN:VEVENT
DTSTART;TZID=America/Chicago:20251123T170000
DTEND;TZID=America/Chicago:20251123T190000
DTSTAMP:20260421T130748
CREATED:20240404T204714Z
LAST-MODIFIED:20240411T212024Z
UID:10002678-1763917200-1763924400@www.parkgate.church
SUMMARY:Young Adult LifeGroup
DESCRIPTION:Join us for an uplifting and engaging gathering tailored for young adults seeking community\, growth\, and faith. Discover a place where you belong and can journey together in faith. For more details\, please reach out to Pastor Kenny at kboggs@parkgate.org.
URL:https://www.parkgate.church/event/young-adult-lifegroup/2025-11-23/
LOCATION:Pastor Kenneth’s House\, La Porte\, TX\, 77571\, United States
CATEGORIES:Adults,LifeGroups
ATTACH;FMTTYPE=image/png:https://www.parkgate.church/wp-content/uploads/2024/04/LifeGroup-Screen.png
END:VEVENT
BEGIN:VEVENT
DTSTART;TZID=America/Chicago:20251116T170000
DTEND;TZID=America/Chicago:20251116T190000
DTSTAMP:20260421T130748
CREATED:20240404T204714Z
LAST-MODIFIED:20240411T212024Z
UID:10002677-1763312400-1763319600@www.parkgate.church
SUMMARY:Young Adult LifeGroup
DESCRIPTION:Join us for an uplifting and engaging gathering tailored for young adults seeking community\, growth\, and faith. Discover a place where you belong and can journey together in faith. For more details\, please reach out to Pastor Kenny at kboggs@parkgate.org.
URL:https://www.parkgate.church/event/young-adult-lifegroup/2025-11-16/
LOCATION:Pastor Kenneth’s House\, La Porte\, TX\, 77571\, United States
CATEGORIES:Adults,LifeGroups
ATTACH;FMTTYPE=image/png:https://www.parkgate.church/wp-content/uploads/2024/04/LifeGroup-Screen.png
END:VEVENT
BEGIN:VEVENT
DTSTART;TZID=America/Chicago:20251109T170000
DTEND;TZID=America/Chicago:20251109T190000
DTSTAMP:20260421T130748
CREATED:20240404T204714Z
LAST-MODIFIED:20240411T212024Z
UID:10002676-1762707600-1762714800@www.parkgate.church
SUMMARY:Young Adult LifeGroup
DESCRIPTION:Join us for an uplifting and engaging gathering tailored for young adults seeking community\, growth\, and faith. Discover a place where you belong and can journey together in faith. For more details\, please reach out to Pastor Kenny at kboggs@parkgate.org.
URL:https://www.parkgate.church/event/young-adult-lifegroup/2025-11-09/
LOCATION:Pastor Kenneth’s House\, La Porte\, TX\, 77571\, United States
CATEGORIES:Adults,LifeGroups
ATTACH;FMTTYPE=image/png:https://www.parkgate.church/wp-content/uploads/2024/04/LifeGroup-Screen.png
END:VEVENT
BEGIN:VEVENT
DTSTART;TZID=America/Chicago:20251106T120000
DTEND;TZID=America/Chicago:20251106T130000
DTSTAMP:20260421T130748
CREATED:20240404T211218Z
LAST-MODIFIED:20240404T211218Z
UID:10004705-1762430400-1762434000@www.parkgate.church
SUMMARY:Bible Study with Pastor Kenneth
DESCRIPTION:This LifeGroup is open to individuals and couples of all ages and seasons of life. For more details\, please reach out to Pastor Kenny at kboggs@parkgate.org.
URL:https://www.parkgate.church/event/bible-study-with-pastor-kenneth/2025-11-06/
LOCATION:Parkgate Community Church\, 3715 Preston Avenue\, Pasadena\, TX\, 77505\, United States
CATEGORIES:Adults,LifeGroups
END:VEVENT
BEGIN:VEVENT
DTSTART;TZID=America/Chicago:20251105T180000
DTEND;TZID=America/Chicago:20251105T200000
DTSTAMP:20260421T130748
CREATED:20231212T163824Z
LAST-MODIFIED:20240724T195525Z
UID:10001889-1762365600-1762372800@www.parkgate.church
SUMMARY:Fun Night
DESCRIPTION:Join fellow Parkgate adults in the Fellowship Room at 6 p.m. for a time of board games and cards\, fellowship\, and a light meal.
URL:https://www.parkgate.church/event/fellowship-game-night/2025-11-05/
LOCATION:Parkgate Community Church\, 3715 Preston Avenue\, Pasadena\, TX\, 77505\, United States
CATEGORIES:Adults
ATTACH;FMTTYPE=image/png:https://www.parkgate.church/wp-content/uploads/2023/12/Fun-Night-Screen.png
END:VEVENT
BEGIN:VEVENT
DTSTART;TZID=America/Chicago:20251102T170000
DTEND;TZID=America/Chicago:20251102T190000
DTSTAMP:20260421T130748
CREATED:20240404T204714Z
LAST-MODIFIED:20240411T212024Z
UID:10002675-1762102800-1762110000@www.parkgate.church
SUMMARY:Young Adult LifeGroup
DESCRIPTION:Join us for an uplifting and engaging gathering tailored for young adults seeking community\, growth\, and faith. Discover a place where you belong and can journey together in faith. For more details\, please reach out to Pastor Kenny at kboggs@parkgate.org.
URL:https://www.parkgate.church/event/young-adult-lifegroup/2025-11-02/
LOCATION:Pastor Kenneth’s House\, La Porte\, TX\, 77571\, United States
CATEGORIES:Adults,LifeGroups
ATTACH;FMTTYPE=image/png:https://www.parkgate.church/wp-content/uploads/2024/04/LifeGroup-Screen.png
END:VEVENT
BEGIN:VEVENT
DTSTART;TZID=America/Chicago:20251030T120000
DTEND;TZID=America/Chicago:20251030T130000
DTSTAMP:20260421T130748
CREATED:20240404T211218Z
LAST-MODIFIED:20240404T211218Z
UID:10004704-1761825600-1761829200@www.parkgate.church
SUMMARY:Bible Study with Pastor Kenneth
DESCRIPTION:This LifeGroup is open to individuals and couples of all ages and seasons of life. For more details\, please reach out to Pastor Kenny at kboggs@parkgate.org.
URL:https://www.parkgate.church/event/bible-study-with-pastor-kenneth/2025-10-30/
LOCATION:Parkgate Community Church\, 3715 Preston Avenue\, Pasadena\, TX\, 77505\, United States
CATEGORIES:Adults,LifeGroups
END:VEVENT
BEGIN:VEVENT
DTSTART;TZID=America/Chicago:20251026T170000
DTEND;TZID=America/Chicago:20251026T190000
DTSTAMP:20260421T130748
CREATED:20240404T204714Z
LAST-MODIFIED:20240411T212024Z
UID:10002674-1761498000-1761505200@www.parkgate.church
SUMMARY:Young Adult LifeGroup
DESCRIPTION:Join us for an uplifting and engaging gathering tailored for young adults seeking community\, growth\, and faith. Discover a place where you belong and can journey together in faith. For more details\, please reach out to Pastor Kenny at kboggs@parkgate.org.
URL:https://www.parkgate.church/event/young-adult-lifegroup/2025-10-26/
LOCATION:Pastor Kenneth’s House\, La Porte\, TX\, 77571\, United States
CATEGORIES:Adults,LifeGroups
ATTACH;FMTTYPE=image/png:https://www.parkgate.church/wp-content/uploads/2024/04/LifeGroup-Screen.png
END:VEVENT
BEGIN:VEVENT
DTSTART;TZID=America/Chicago:20251023T120000
DTEND;TZID=America/Chicago:20251023T130000
DTSTAMP:20260421T130748
CREATED:20240404T211218Z
LAST-MODIFIED:20240404T211218Z
UID:10004703-1761220800-1761224400@www.parkgate.church
SUMMARY:Bible Study with Pastor Kenneth
DESCRIPTION:This LifeGroup is open to individuals and couples of all ages and seasons of life. For more details\, please reach out to Pastor Kenny at kboggs@parkgate.org.
URL:https://www.parkgate.church/event/bible-study-with-pastor-kenneth/2025-10-23/
LOCATION:Parkgate Community Church\, 3715 Preston Avenue\, Pasadena\, TX\, 77505\, United States
CATEGORIES:Adults,LifeGroups
END:VEVENT
BEGIN:VEVENT
DTSTART;TZID=America/Chicago:20251019T170000
DTEND;TZID=America/Chicago:20251019T190000
DTSTAMP:20260421T130748
CREATED:20240404T204714Z
LAST-MODIFIED:20240411T212024Z
UID:10002673-1760893200-1760900400@www.parkgate.church
SUMMARY:Young Adult LifeGroup
DESCRIPTION:Join us for an uplifting and engaging gathering tailored for young adults seeking community\, growth\, and faith. Discover a place where you belong and can journey together in faith. For more details\, please reach out to Pastor Kenny at kboggs@parkgate.org.
URL:https://www.parkgate.church/event/young-adult-lifegroup/2025-10-19/
LOCATION:Pastor Kenneth’s House\, La Porte\, TX\, 77571\, United States
CATEGORIES:Adults,LifeGroups
ATTACH;FMTTYPE=image/png:https://www.parkgate.church/wp-content/uploads/2024/04/LifeGroup-Screen.png
END:VEVENT
BEGIN:VEVENT
DTSTART;TZID=America/Chicago:20251016T120000
DTEND;TZID=America/Chicago:20251016T130000
DTSTAMP:20260421T130748
CREATED:20240404T211218Z
LAST-MODIFIED:20240404T211218Z
UID:10004702-1760616000-1760619600@www.parkgate.church
SUMMARY:Bible Study with Pastor Kenneth
DESCRIPTION:This LifeGroup is open to individuals and couples of all ages and seasons of life. For more details\, please reach out to Pastor Kenny at kboggs@parkgate.org.
URL:https://www.parkgate.church/event/bible-study-with-pastor-kenneth/2025-10-16/
LOCATION:Parkgate Community Church\, 3715 Preston Avenue\, Pasadena\, TX\, 77505\, United States
CATEGORIES:Adults,LifeGroups
END:VEVENT
BEGIN:VEVENT
DTSTART;TZID=America/Chicago:20251012T170000
DTEND;TZID=America/Chicago:20251012T190000
DTSTAMP:20260421T130748
CREATED:20240404T204714Z
LAST-MODIFIED:20240411T212024Z
UID:10002672-1760288400-1760295600@www.parkgate.church
SUMMARY:Young Adult LifeGroup
DESCRIPTION:Join us for an uplifting and engaging gathering tailored for young adults seeking community\, growth\, and faith. Discover a place where you belong and can journey together in faith. For more details\, please reach out to Pastor Kenny at kboggs@parkgate.org.
URL:https://www.parkgate.church/event/young-adult-lifegroup/2025-10-12/
LOCATION:Pastor Kenneth’s House\, La Porte\, TX\, 77571\, United States
CATEGORIES:Adults,LifeGroups
ATTACH;FMTTYPE=image/png:https://www.parkgate.church/wp-content/uploads/2024/04/LifeGroup-Screen.png
END:VEVENT
BEGIN:VEVENT
DTSTART;TZID=America/Chicago:20251009T120000
DTEND;TZID=America/Chicago:20251009T130000
DTSTAMP:20260421T130748
CREATED:20240404T211218Z
LAST-MODIFIED:20240404T211218Z
UID:10004701-1760011200-1760014800@www.parkgate.church
SUMMARY:Bible Study with Pastor Kenneth
DESCRIPTION:This LifeGroup is open to individuals and couples of all ages and seasons of life. For more details\, please reach out to Pastor Kenny at kboggs@parkgate.org.
URL:https://www.parkgate.church/event/bible-study-with-pastor-kenneth/2025-10-09/
LOCATION:Parkgate Community Church\, 3715 Preston Avenue\, Pasadena\, TX\, 77505\, United States
CATEGORIES:Adults,LifeGroups
END:VEVENT
BEGIN:VEVENT
DTSTART;TZID=America/Chicago:20251005T170000
DTEND;TZID=America/Chicago:20251005T190000
DTSTAMP:20260421T130748
CREATED:20240404T204714Z
LAST-MODIFIED:20240411T212024Z
UID:10002671-1759683600-1759690800@www.parkgate.church
SUMMARY:Young Adult LifeGroup
DESCRIPTION:Join us for an uplifting and engaging gathering tailored for young adults seeking community\, growth\, and faith. Discover a place where you belong and can journey together in faith. For more details\, please reach out to Pastor Kenny at kboggs@parkgate.org.
URL:https://www.parkgate.church/event/young-adult-lifegroup/2025-10-05/
LOCATION:Pastor Kenneth’s House\, La Porte\, TX\, 77571\, United States
CATEGORIES:Adults,LifeGroups
ATTACH;FMTTYPE=image/png:https://www.parkgate.church/wp-content/uploads/2024/04/LifeGroup-Screen.png
END:VEVENT
BEGIN:VEVENT
DTSTART;TZID=America/Chicago:20251002T120000
DTEND;TZID=America/Chicago:20251002T130000
DTSTAMP:20260421T130748
CREATED:20240404T211218Z
LAST-MODIFIED:20240404T211218Z
UID:10004700-1759406400-1759410000@www.parkgate.church
SUMMARY:Bible Study with Pastor Kenneth
DESCRIPTION:This LifeGroup is open to individuals and couples of all ages and seasons of life. For more details\, please reach out to Pastor Kenny at kboggs@parkgate.org.
URL:https://www.parkgate.church/event/bible-study-with-pastor-kenneth/2025-10-02/
LOCATION:Parkgate Community Church\, 3715 Preston Avenue\, Pasadena\, TX\, 77505\, United States
CATEGORIES:Adults,LifeGroups
END:VEVENT
BEGIN:VEVENT
DTSTART;TZID=America/Chicago:20251001T180000
DTEND;TZID=America/Chicago:20251001T200000
DTSTAMP:20260421T130748
CREATED:20231212T163824Z
LAST-MODIFIED:20240724T195525Z
UID:10001888-1759341600-1759348800@www.parkgate.church
SUMMARY:Fun Night
DESCRIPTION:Join fellow Parkgate adults in the Fellowship Room at 6 p.m. for a time of board games and cards\, fellowship\, and a light meal.
URL:https://www.parkgate.church/event/fellowship-game-night/2025-10-01/
LOCATION:Parkgate Community Church\, 3715 Preston Avenue\, Pasadena\, TX\, 77505\, United States
CATEGORIES:Adults
ATTACH;FMTTYPE=image/png:https://www.parkgate.church/wp-content/uploads/2023/12/Fun-Night-Screen.png
END:VEVENT
BEGIN:VEVENT
DTSTART;TZID=America/Chicago:20250928T170000
DTEND;TZID=America/Chicago:20250928T190000
DTSTAMP:20260421T130748
CREATED:20240404T204714Z
LAST-MODIFIED:20240411T212024Z
UID:10002670-1759078800-1759086000@www.parkgate.church
SUMMARY:Young Adult LifeGroup
DESCRIPTION:Join us for an uplifting and engaging gathering tailored for young adults seeking community\, growth\, and faith. Discover a place where you belong and can journey together in faith. For more details\, please reach out to Pastor Kenny at kboggs@parkgate.org.
URL:https://www.parkgate.church/event/young-adult-lifegroup/2025-09-28/
LOCATION:Pastor Kenneth’s House\, La Porte\, TX\, 77571\, United States
CATEGORIES:Adults,LifeGroups
ATTACH;FMTTYPE=image/png:https://www.parkgate.church/wp-content/uploads/2024/04/LifeGroup-Screen.png
END:VEVENT
BEGIN:VEVENT
DTSTART;TZID=America/Chicago:20250925T120000
DTEND;TZID=America/Chicago:20250925T130000
DTSTAMP:20260421T130748
CREATED:20240404T211218Z
LAST-MODIFIED:20240404T211218Z
UID:10004699-1758801600-1758805200@www.parkgate.church
SUMMARY:Bible Study with Pastor Kenneth
DESCRIPTION:This LifeGroup is open to individuals and couples of all ages and seasons of life. For more details\, please reach out to Pastor Kenny at kboggs@parkgate.org.
URL:https://www.parkgate.church/event/bible-study-with-pastor-kenneth/2025-09-25/
LOCATION:Parkgate Community Church\, 3715 Preston Avenue\, Pasadena\, TX\, 77505\, United States
CATEGORIES:Adults,LifeGroups
END:VEVENT
BEGIN:VEVENT
DTSTART;TZID=America/Chicago:20250921T170000
DTEND;TZID=America/Chicago:20250921T190000
DTSTAMP:20260421T130748
CREATED:20240404T204714Z
LAST-MODIFIED:20240411T212024Z
UID:10002669-1758474000-1758481200@www.parkgate.church
SUMMARY:Young Adult LifeGroup
DESCRIPTION:Join us for an uplifting and engaging gathering tailored for young adults seeking community\, growth\, and faith. Discover a place where you belong and can journey together in faith. For more details\, please reach out to Pastor Kenny at kboggs@parkgate.org.
URL:https://www.parkgate.church/event/young-adult-lifegroup/2025-09-21/
LOCATION:Pastor Kenneth’s House\, La Porte\, TX\, 77571\, United States
CATEGORIES:Adults,LifeGroups
ATTACH;FMTTYPE=image/png:https://www.parkgate.church/wp-content/uploads/2024/04/LifeGroup-Screen.png
END:VEVENT
BEGIN:VEVENT
DTSTART;TZID=America/Chicago:20250918T120000
DTEND;TZID=America/Chicago:20250918T130000
DTSTAMP:20260421T130748
CREATED:20240404T211218Z
LAST-MODIFIED:20240404T211218Z
UID:10004698-1758196800-1758200400@www.parkgate.church
SUMMARY:Bible Study with Pastor Kenneth
DESCRIPTION:This LifeGroup is open to individuals and couples of all ages and seasons of life. For more details\, please reach out to Pastor Kenny at kboggs@parkgate.org.
URL:https://www.parkgate.church/event/bible-study-with-pastor-kenneth/2025-09-18/
LOCATION:Parkgate Community Church\, 3715 Preston Avenue\, Pasadena\, TX\, 77505\, United States
CATEGORIES:Adults,LifeGroups
END:VEVENT
END:VCALENDAR