BEGIN:VCALENDAR
VERSION:2.0
PRODID:-//Parkgate Community Church - ECPv6.15.20//NONSGML v1.0//EN
CALSCALE:GREGORIAN
METHOD:PUBLISH
X-ORIGINAL-URL:https://www.parkgate.church
X-WR-CALDESC:Events for Parkgate Community Church
REFRESH-INTERVAL;VALUE=DURATION:PT1H
X-Robots-Tag:noindex
X-PUBLISHED-TTL:PT1H
BEGIN:VTIMEZONE
TZID:America/Chicago
BEGIN:DAYLIGHT
TZOFFSETFROM:-0600
TZOFFSETTO:-0500
TZNAME:CDT
DTSTART:20220313T080000
END:DAYLIGHT
BEGIN:STANDARD
TZOFFSETFROM:-0500
TZOFFSETTO:-0600
TZNAME:CST
DTSTART:20221106T070000
END:STANDARD
BEGIN:DAYLIGHT
TZOFFSETFROM:-0600
TZOFFSETTO:-0500
TZNAME:CDT
DTSTART:20230312T080000
END:DAYLIGHT
BEGIN:STANDARD
TZOFFSETFROM:-0500
TZOFFSETTO:-0600
TZNAME:CST
DTSTART:20231105T070000
END:STANDARD
BEGIN:DAYLIGHT
TZOFFSETFROM:-0600
TZOFFSETTO:-0500
TZNAME:CDT
DTSTART:20240310T080000
END:DAYLIGHT
BEGIN:STANDARD
TZOFFSETFROM:-0500
TZOFFSETTO:-0600
TZNAME:CST
DTSTART:20241103T070000
END:STANDARD
END:VTIMEZONE
BEGIN:VEVENT
DTSTART;TZID=America/Chicago:20231202T103000
DTEND;TZID=America/Chicago:20231202T120000
DTSTAMP:20260424T104316
CREATED:20231212T163408Z
LAST-MODIFIED:20231212T163534Z
UID:10001864-1701513000-1701518400@www.parkgate.church
SUMMARY:Women's Ornament Exchange
DESCRIPTION:Ladies\, join us for our annual Women’s Ornament Exchange on Saturday\, December 2 at 10:30 a.m. We’ll enjoy exchanging ornaments while playing bingo. Bring a wrapped ornament for the exchange and a treat to share. Wear your most festive Christmas ensemble. You won’t want to miss this fun time of fellowship in the KiX Building!
URL:https://www.parkgate.church/event/womens-ornament-exchange/
LOCATION:Parkgate Community Church\, 3715 Preston Avenue\, Pasadena\, TX\, 77505\, United States
CATEGORIES:Christmas,Women
ATTACH;FMTTYPE=image/png:https://www.parkgate.church/wp-content/uploads/2023/12/Womens-Ornament-Exchange-Screen.png
END:VEVENT
BEGIN:VEVENT
DTSTART;TZID=America/Chicago:20231203T180000
DTEND;TZID=America/Chicago:20231203T193000
DTSTAMP:20260424T104316
CREATED:20231212T163513Z
LAST-MODIFIED:20231212T163513Z
UID:10001865-1701626400-1701631800@www.parkgate.church
SUMMARY:Cookies & Carols: An Evening of Songs & Sweets
DESCRIPTION:Join us Sunday\, December 3 at 6 p.m. for Cookies & Carols: An Evening of Songs & Sweets. Our kids will lead us in a Christmas carol singalong. There’s nothing like the joy of a child at Christmas singing lyrics about our Savior’s birth to help you rediscover your sense of wonder this season! Stick around afterwards for cookies and pictures with Santa and his elves.
URL:https://www.parkgate.church/event/cookies-carols-an-evening-of-songs-sweets/
LOCATION:TX
CATEGORIES:Christmas,KiX Children's Ministry
ATTACH;FMTTYPE=image/png:https://www.parkgate.church/wp-content/uploads/2023/12/Cookies-Carols-Screen.png
END:VEVENT
END:VCALENDAR