BEGIN:VCALENDAR
VERSION:2.0
PRODID:-//Parkgate Community Church - ECPv6.15.20//NONSGML v1.0//EN
CALSCALE:GREGORIAN
METHOD:PUBLISH
X-WR-CALNAME:Parkgate Community Church
X-ORIGINAL-URL:https://www.parkgate.church
X-WR-CALDESC:Events for Parkgate Community Church
REFRESH-INTERVAL;VALUE=DURATION:PT1H
X-Robots-Tag:noindex
X-PUBLISHED-TTL:PT1H
BEGIN:VTIMEZONE
TZID:America/Chicago
BEGIN:DAYLIGHT
TZOFFSETFROM:-0600
TZOFFSETTO:-0500
TZNAME:CDT
DTSTART:20260308T080000
END:DAYLIGHT
BEGIN:STANDARD
TZOFFSETFROM:-0500
TZOFFSETTO:-0600
TZNAME:CST
DTSTART:20261101T070000
END:STANDARD
BEGIN:DAYLIGHT
TZOFFSETFROM:-0600
TZOFFSETTO:-0500
TZNAME:CDT
DTSTART:20270314T080000
END:DAYLIGHT
BEGIN:STANDARD
TZOFFSETFROM:-0500
TZOFFSETTO:-0600
TZNAME:CST
DTSTART:20271107T070000
END:STANDARD
BEGIN:DAYLIGHT
TZOFFSETFROM:-0600
TZOFFSETTO:-0500
TZNAME:CDT
DTSTART:20280312T080000
END:DAYLIGHT
BEGIN:STANDARD
TZOFFSETFROM:-0500
TZOFFSETTO:-0600
TZNAME:CST
DTSTART:20281105T070000
END:STANDARD
END:VTIMEZONE
BEGIN:VEVENT
DTSTART;TZID=America/Chicago:20270929T190000
DTEND;TZID=America/Chicago:20270929T200000
DTSTAMP:20260424T105310
CREATED:20231212T173720Z
LAST-MODIFIED:20240731T215945Z
UID:10002193-1822244400-1822248000@www.parkgate.church
SUMMARY:Club KiX
DESCRIPTION:Kids age 4 – 5th grade are invited to join us at Club KiX\, a high-energy\, hands-on hour of Bible learning and practical application.
URL:https://www.parkgate.church/event/club-kix/2027-09-29/
LOCATION:Parkgate Community Church\, 3715 Preston Avenue\, Pasadena\, TX\, 77505\, United States
CATEGORIES:KiX Children's Ministry
ATTACH;FMTTYPE=image/png:https://www.parkgate.church/wp-content/uploads/2024/07/Club-KiX-Screen.png
END:VEVENT
BEGIN:VEVENT
DTSTART;TZID=America/Chicago:20271003T090000
DTEND;TZID=America/Chicago:20271003T101500
DTSTAMP:20260424T105310
CREATED:20231025T073903Z
LAST-MODIFIED:20231212T161518Z
UID:10001273-1822554000-1822558500@www.parkgate.church
SUMMARY:Sundays @ 9 a.m.
DESCRIPTION:On Sundays at 9 a.m.\, we offer: \n\nWorship Service\nSundayLife Gatherings\nKiX Children’s Ministry\nIMPACT Student Ministry
URL:https://www.parkgate.church/event/sundays-9-a-m/2027-10-03/
LOCATION:Parkgate Community Church\, 3715 Preston Avenue\, Pasadena\, TX\, 77505\, United States
CATEGORIES:IMPACT Student Ministry,KiX Children's Ministry,Sunday Mornings,SundayLife
ATTACH;FMTTYPE=image/png:https://www.parkgate.church/wp-content/uploads/2023/10/Sundays-at-9-a.m.png
END:VEVENT
BEGIN:VEVENT
DTSTART;TZID=America/Chicago:20271003T104500
DTEND;TZID=America/Chicago:20271003T120000
DTSTAMP:20260424T105310
CREATED:20231212T161833Z
LAST-MODIFIED:20231212T161833Z
UID:10001540-1822560300-1822564800@www.parkgate.church
SUMMARY:Sundays @ 10:45 a.m.
DESCRIPTION:On Sundays at 10:45 a.m.\, we offer: \n\nWorship Service\nSundayLife Gatherings\nKiX Children’s Ministry\n\nOur students (6th – 12th grades) are invited to participate in our worship service.
URL:https://www.parkgate.church/event/sundays-1045-a-m/2027-10-03/
LOCATION:Parkgate Community Church\, 3715 Preston Avenue\, Pasadena\, TX\, 77505\, United States
CATEGORIES:KiX Children's Ministry,Sunday Mornings,SundayLife
ATTACH;FMTTYPE=image/png:https://www.parkgate.church/wp-content/uploads/2023/12/Sundays-at-1045-a.m.png
END:VEVENT
BEGIN:VEVENT
DTSTART;TZID=America/Chicago:20271006T190000
DTEND;TZID=America/Chicago:20271006T200000
DTSTAMP:20260424T105310
CREATED:20231212T173720Z
LAST-MODIFIED:20240731T215945Z
UID:10002194-1822849200-1822852800@www.parkgate.church
SUMMARY:Club KiX
DESCRIPTION:Kids age 4 – 5th grade are invited to join us at Club KiX\, a high-energy\, hands-on hour of Bible learning and practical application.
URL:https://www.parkgate.church/event/club-kix/2027-10-06/
LOCATION:Parkgate Community Church\, 3715 Preston Avenue\, Pasadena\, TX\, 77505\, United States
CATEGORIES:KiX Children's Ministry
ATTACH;FMTTYPE=image/png:https://www.parkgate.church/wp-content/uploads/2024/07/Club-KiX-Screen.png
END:VEVENT
BEGIN:VEVENT
DTSTART;TZID=America/Chicago:20271010T090000
DTEND;TZID=America/Chicago:20271010T101500
DTSTAMP:20260424T105310
CREATED:20231025T073903Z
LAST-MODIFIED:20231212T161518Z
UID:10001274-1823158800-1823163300@www.parkgate.church
SUMMARY:Sundays @ 9 a.m.
DESCRIPTION:On Sundays at 9 a.m.\, we offer: \n\nWorship Service\nSundayLife Gatherings\nKiX Children’s Ministry\nIMPACT Student Ministry
URL:https://www.parkgate.church/event/sundays-9-a-m/2027-10-10/
LOCATION:Parkgate Community Church\, 3715 Preston Avenue\, Pasadena\, TX\, 77505\, United States
CATEGORIES:IMPACT Student Ministry,KiX Children's Ministry,Sunday Mornings,SundayLife
ATTACH;FMTTYPE=image/png:https://www.parkgate.church/wp-content/uploads/2023/10/Sundays-at-9-a.m.png
END:VEVENT
BEGIN:VEVENT
DTSTART;TZID=America/Chicago:20271010T104500
DTEND;TZID=America/Chicago:20271010T120000
DTSTAMP:20260424T105310
CREATED:20231212T161833Z
LAST-MODIFIED:20231212T161833Z
UID:10001541-1823165100-1823169600@www.parkgate.church
SUMMARY:Sundays @ 10:45 a.m.
DESCRIPTION:On Sundays at 10:45 a.m.\, we offer: \n\nWorship Service\nSundayLife Gatherings\nKiX Children’s Ministry\n\nOur students (6th – 12th grades) are invited to participate in our worship service.
URL:https://www.parkgate.church/event/sundays-1045-a-m/2027-10-10/
LOCATION:Parkgate Community Church\, 3715 Preston Avenue\, Pasadena\, TX\, 77505\, United States
CATEGORIES:KiX Children's Ministry,Sunday Mornings,SundayLife
ATTACH;FMTTYPE=image/png:https://www.parkgate.church/wp-content/uploads/2023/12/Sundays-at-1045-a.m.png
END:VEVENT
BEGIN:VEVENT
DTSTART;TZID=America/Chicago:20271013T190000
DTEND;TZID=America/Chicago:20271013T200000
DTSTAMP:20260424T105310
CREATED:20231212T173720Z
LAST-MODIFIED:20240731T215945Z
UID:10002195-1823454000-1823457600@www.parkgate.church
SUMMARY:Club KiX
DESCRIPTION:Kids age 4 – 5th grade are invited to join us at Club KiX\, a high-energy\, hands-on hour of Bible learning and practical application.
URL:https://www.parkgate.church/event/club-kix/2027-10-13/
LOCATION:Parkgate Community Church\, 3715 Preston Avenue\, Pasadena\, TX\, 77505\, United States
CATEGORIES:KiX Children's Ministry
ATTACH;FMTTYPE=image/png:https://www.parkgate.church/wp-content/uploads/2024/07/Club-KiX-Screen.png
END:VEVENT
BEGIN:VEVENT
DTSTART;TZID=America/Chicago:20271017T090000
DTEND;TZID=America/Chicago:20271017T101500
DTSTAMP:20260424T105310
CREATED:20231025T073903Z
LAST-MODIFIED:20231212T161518Z
UID:10001275-1823763600-1823768100@www.parkgate.church
SUMMARY:Sundays @ 9 a.m.
DESCRIPTION:On Sundays at 9 a.m.\, we offer: \n\nWorship Service\nSundayLife Gatherings\nKiX Children’s Ministry\nIMPACT Student Ministry
URL:https://www.parkgate.church/event/sundays-9-a-m/2027-10-17/
LOCATION:Parkgate Community Church\, 3715 Preston Avenue\, Pasadena\, TX\, 77505\, United States
CATEGORIES:IMPACT Student Ministry,KiX Children's Ministry,Sunday Mornings,SundayLife
ATTACH;FMTTYPE=image/png:https://www.parkgate.church/wp-content/uploads/2023/10/Sundays-at-9-a.m.png
END:VEVENT
BEGIN:VEVENT
DTSTART;TZID=America/Chicago:20271017T104500
DTEND;TZID=America/Chicago:20271017T120000
DTSTAMP:20260424T105310
CREATED:20231212T161833Z
LAST-MODIFIED:20231212T161833Z
UID:10001542-1823769900-1823774400@www.parkgate.church
SUMMARY:Sundays @ 10:45 a.m.
DESCRIPTION:On Sundays at 10:45 a.m.\, we offer: \n\nWorship Service\nSundayLife Gatherings\nKiX Children’s Ministry\n\nOur students (6th – 12th grades) are invited to participate in our worship service.
URL:https://www.parkgate.church/event/sundays-1045-a-m/2027-10-17/
LOCATION:Parkgate Community Church\, 3715 Preston Avenue\, Pasadena\, TX\, 77505\, United States
CATEGORIES:KiX Children's Ministry,Sunday Mornings,SundayLife
ATTACH;FMTTYPE=image/png:https://www.parkgate.church/wp-content/uploads/2023/12/Sundays-at-1045-a.m.png
END:VEVENT
BEGIN:VEVENT
DTSTART;TZID=America/Chicago:20271020T190000
DTEND;TZID=America/Chicago:20271020T200000
DTSTAMP:20260424T105310
CREATED:20231212T173720Z
LAST-MODIFIED:20240731T215945Z
UID:10002196-1824058800-1824062400@www.parkgate.church
SUMMARY:Club KiX
DESCRIPTION:Kids age 4 – 5th grade are invited to join us at Club KiX\, a high-energy\, hands-on hour of Bible learning and practical application.
URL:https://www.parkgate.church/event/club-kix/2027-10-20/
LOCATION:Parkgate Community Church\, 3715 Preston Avenue\, Pasadena\, TX\, 77505\, United States
CATEGORIES:KiX Children's Ministry
ATTACH;FMTTYPE=image/png:https://www.parkgate.church/wp-content/uploads/2024/07/Club-KiX-Screen.png
END:VEVENT
BEGIN:VEVENT
DTSTART;TZID=America/Chicago:20271024T090000
DTEND;TZID=America/Chicago:20271024T101500
DTSTAMP:20260424T105310
CREATED:20231025T073903Z
LAST-MODIFIED:20231212T161518Z
UID:10001276-1824368400-1824372900@www.parkgate.church
SUMMARY:Sundays @ 9 a.m.
DESCRIPTION:On Sundays at 9 a.m.\, we offer: \n\nWorship Service\nSundayLife Gatherings\nKiX Children’s Ministry\nIMPACT Student Ministry
URL:https://www.parkgate.church/event/sundays-9-a-m/2027-10-24/
LOCATION:Parkgate Community Church\, 3715 Preston Avenue\, Pasadena\, TX\, 77505\, United States
CATEGORIES:IMPACT Student Ministry,KiX Children's Ministry,Sunday Mornings,SundayLife
ATTACH;FMTTYPE=image/png:https://www.parkgate.church/wp-content/uploads/2023/10/Sundays-at-9-a.m.png
END:VEVENT
BEGIN:VEVENT
DTSTART;TZID=America/Chicago:20271024T104500
DTEND;TZID=America/Chicago:20271024T120000
DTSTAMP:20260424T105310
CREATED:20231212T161833Z
LAST-MODIFIED:20231212T161833Z
UID:10001543-1824374700-1824379200@www.parkgate.church
SUMMARY:Sundays @ 10:45 a.m.
DESCRIPTION:On Sundays at 10:45 a.m.\, we offer: \n\nWorship Service\nSundayLife Gatherings\nKiX Children’s Ministry\n\nOur students (6th – 12th grades) are invited to participate in our worship service.
URL:https://www.parkgate.church/event/sundays-1045-a-m/2027-10-24/
LOCATION:Parkgate Community Church\, 3715 Preston Avenue\, Pasadena\, TX\, 77505\, United States
CATEGORIES:KiX Children's Ministry,Sunday Mornings,SundayLife
ATTACH;FMTTYPE=image/png:https://www.parkgate.church/wp-content/uploads/2023/12/Sundays-at-1045-a.m.png
END:VEVENT
BEGIN:VEVENT
DTSTART;TZID=America/Chicago:20271027T190000
DTEND;TZID=America/Chicago:20271027T200000
DTSTAMP:20260424T105310
CREATED:20231212T173720Z
LAST-MODIFIED:20240731T215945Z
UID:10002197-1824663600-1824667200@www.parkgate.church
SUMMARY:Club KiX
DESCRIPTION:Kids age 4 – 5th grade are invited to join us at Club KiX\, a high-energy\, hands-on hour of Bible learning and practical application.
URL:https://www.parkgate.church/event/club-kix/2027-10-27/
LOCATION:Parkgate Community Church\, 3715 Preston Avenue\, Pasadena\, TX\, 77505\, United States
CATEGORIES:KiX Children's Ministry
ATTACH;FMTTYPE=image/png:https://www.parkgate.church/wp-content/uploads/2024/07/Club-KiX-Screen.png
END:VEVENT
BEGIN:VEVENT
DTSTART;TZID=America/Chicago:20271031T090000
DTEND;TZID=America/Chicago:20271031T101500
DTSTAMP:20260424T105310
CREATED:20231025T073903Z
LAST-MODIFIED:20231212T161518Z
UID:10001277-1824973200-1824977700@www.parkgate.church
SUMMARY:Sundays @ 9 a.m.
DESCRIPTION:On Sundays at 9 a.m.\, we offer: \n\nWorship Service\nSundayLife Gatherings\nKiX Children’s Ministry\nIMPACT Student Ministry
URL:https://www.parkgate.church/event/sundays-9-a-m/2027-10-31/
LOCATION:Parkgate Community Church\, 3715 Preston Avenue\, Pasadena\, TX\, 77505\, United States
CATEGORIES:IMPACT Student Ministry,KiX Children's Ministry,Sunday Mornings,SundayLife
ATTACH;FMTTYPE=image/png:https://www.parkgate.church/wp-content/uploads/2023/10/Sundays-at-9-a.m.png
END:VEVENT
BEGIN:VEVENT
DTSTART;TZID=America/Chicago:20271031T104500
DTEND;TZID=America/Chicago:20271031T120000
DTSTAMP:20260424T105310
CREATED:20231212T161833Z
LAST-MODIFIED:20231212T161833Z
UID:10001544-1824979500-1824984000@www.parkgate.church
SUMMARY:Sundays @ 10:45 a.m.
DESCRIPTION:On Sundays at 10:45 a.m.\, we offer: \n\nWorship Service\nSundayLife Gatherings\nKiX Children’s Ministry\n\nOur students (6th – 12th grades) are invited to participate in our worship service.
URL:https://www.parkgate.church/event/sundays-1045-a-m/2027-10-31/
LOCATION:Parkgate Community Church\, 3715 Preston Avenue\, Pasadena\, TX\, 77505\, United States
CATEGORIES:KiX Children's Ministry,Sunday Mornings,SundayLife
ATTACH;FMTTYPE=image/png:https://www.parkgate.church/wp-content/uploads/2023/12/Sundays-at-1045-a.m.png
END:VEVENT
BEGIN:VEVENT
DTSTART;TZID=America/Chicago:20271103T190000
DTEND;TZID=America/Chicago:20271103T200000
DTSTAMP:20260424T105310
CREATED:20231212T173720Z
LAST-MODIFIED:20240731T215945Z
UID:10002198-1825268400-1825272000@www.parkgate.church
SUMMARY:Club KiX
DESCRIPTION:Kids age 4 – 5th grade are invited to join us at Club KiX\, a high-energy\, hands-on hour of Bible learning and practical application.
URL:https://www.parkgate.church/event/club-kix/2027-11-03/
LOCATION:Parkgate Community Church\, 3715 Preston Avenue\, Pasadena\, TX\, 77505\, United States
CATEGORIES:KiX Children's Ministry
ATTACH;FMTTYPE=image/png:https://www.parkgate.church/wp-content/uploads/2024/07/Club-KiX-Screen.png
END:VEVENT
BEGIN:VEVENT
DTSTART;TZID=America/Chicago:20271107T090000
DTEND;TZID=America/Chicago:20271107T101500
DTSTAMP:20260424T105310
CREATED:20231025T073903Z
LAST-MODIFIED:20231212T161518Z
UID:10001278-1825578000-1825582500@www.parkgate.church
SUMMARY:Sundays @ 9 a.m.
DESCRIPTION:On Sundays at 9 a.m.\, we offer: \n\nWorship Service\nSundayLife Gatherings\nKiX Children’s Ministry\nIMPACT Student Ministry
URL:https://www.parkgate.church/event/sundays-9-a-m/2027-11-07/
LOCATION:Parkgate Community Church\, 3715 Preston Avenue\, Pasadena\, TX\, 77505\, United States
CATEGORIES:IMPACT Student Ministry,KiX Children's Ministry,Sunday Mornings,SundayLife
ATTACH;FMTTYPE=image/png:https://www.parkgate.church/wp-content/uploads/2023/10/Sundays-at-9-a.m.png
END:VEVENT
BEGIN:VEVENT
DTSTART;TZID=America/Chicago:20271107T104500
DTEND;TZID=America/Chicago:20271107T120000
DTSTAMP:20260424T105310
CREATED:20231212T161833Z
LAST-MODIFIED:20231212T161833Z
UID:10001545-1825584300-1825588800@www.parkgate.church
SUMMARY:Sundays @ 10:45 a.m.
DESCRIPTION:On Sundays at 10:45 a.m.\, we offer: \n\nWorship Service\nSundayLife Gatherings\nKiX Children’s Ministry\n\nOur students (6th – 12th grades) are invited to participate in our worship service.
URL:https://www.parkgate.church/event/sundays-1045-a-m/2027-11-07/
LOCATION:Parkgate Community Church\, 3715 Preston Avenue\, Pasadena\, TX\, 77505\, United States
CATEGORIES:KiX Children's Ministry,Sunday Mornings,SundayLife
ATTACH;FMTTYPE=image/png:https://www.parkgate.church/wp-content/uploads/2023/12/Sundays-at-1045-a.m.png
END:VEVENT
BEGIN:VEVENT
DTSTART;TZID=America/Chicago:20271110T190000
DTEND;TZID=America/Chicago:20271110T200000
DTSTAMP:20260424T105310
CREATED:20231212T173720Z
LAST-MODIFIED:20240731T215945Z
UID:10002199-1825873200-1825876800@www.parkgate.church
SUMMARY:Club KiX
DESCRIPTION:Kids age 4 – 5th grade are invited to join us at Club KiX\, a high-energy\, hands-on hour of Bible learning and practical application.
URL:https://www.parkgate.church/event/club-kix/2027-11-10/
LOCATION:Parkgate Community Church\, 3715 Preston Avenue\, Pasadena\, TX\, 77505\, United States
CATEGORIES:KiX Children's Ministry
ATTACH;FMTTYPE=image/png:https://www.parkgate.church/wp-content/uploads/2024/07/Club-KiX-Screen.png
END:VEVENT
BEGIN:VEVENT
DTSTART;TZID=America/Chicago:20271114T090000
DTEND;TZID=America/Chicago:20271114T101500
DTSTAMP:20260424T105310
CREATED:20231025T073903Z
LAST-MODIFIED:20231212T161518Z
UID:10001279-1826182800-1826187300@www.parkgate.church
SUMMARY:Sundays @ 9 a.m.
DESCRIPTION:On Sundays at 9 a.m.\, we offer: \n\nWorship Service\nSundayLife Gatherings\nKiX Children’s Ministry\nIMPACT Student Ministry
URL:https://www.parkgate.church/event/sundays-9-a-m/2027-11-14/
LOCATION:Parkgate Community Church\, 3715 Preston Avenue\, Pasadena\, TX\, 77505\, United States
CATEGORIES:IMPACT Student Ministry,KiX Children's Ministry,Sunday Mornings,SundayLife
ATTACH;FMTTYPE=image/png:https://www.parkgate.church/wp-content/uploads/2023/10/Sundays-at-9-a.m.png
END:VEVENT
BEGIN:VEVENT
DTSTART;TZID=America/Chicago:20271114T104500
DTEND;TZID=America/Chicago:20271114T120000
DTSTAMP:20260424T105310
CREATED:20231212T161833Z
LAST-MODIFIED:20231212T161833Z
UID:10001546-1826189100-1826193600@www.parkgate.church
SUMMARY:Sundays @ 10:45 a.m.
DESCRIPTION:On Sundays at 10:45 a.m.\, we offer: \n\nWorship Service\nSundayLife Gatherings\nKiX Children’s Ministry\n\nOur students (6th – 12th grades) are invited to participate in our worship service.
URL:https://www.parkgate.church/event/sundays-1045-a-m/2027-11-14/
LOCATION:Parkgate Community Church\, 3715 Preston Avenue\, Pasadena\, TX\, 77505\, United States
CATEGORIES:KiX Children's Ministry,Sunday Mornings,SundayLife
ATTACH;FMTTYPE=image/png:https://www.parkgate.church/wp-content/uploads/2023/12/Sundays-at-1045-a.m.png
END:VEVENT
BEGIN:VEVENT
DTSTART;TZID=America/Chicago:20271117T190000
DTEND;TZID=America/Chicago:20271117T200000
DTSTAMP:20260424T105310
CREATED:20231212T173720Z
LAST-MODIFIED:20240731T215945Z
UID:10002200-1826478000-1826481600@www.parkgate.church
SUMMARY:Club KiX
DESCRIPTION:Kids age 4 – 5th grade are invited to join us at Club KiX\, a high-energy\, hands-on hour of Bible learning and practical application.
URL:https://www.parkgate.church/event/club-kix/2027-11-17/
LOCATION:Parkgate Community Church\, 3715 Preston Avenue\, Pasadena\, TX\, 77505\, United States
CATEGORIES:KiX Children's Ministry
ATTACH;FMTTYPE=image/png:https://www.parkgate.church/wp-content/uploads/2024/07/Club-KiX-Screen.png
END:VEVENT
BEGIN:VEVENT
DTSTART;TZID=America/Chicago:20271121T090000
DTEND;TZID=America/Chicago:20271121T101500
DTSTAMP:20260424T105310
CREATED:20231025T073903Z
LAST-MODIFIED:20231212T161518Z
UID:10001280-1826787600-1826792100@www.parkgate.church
SUMMARY:Sundays @ 9 a.m.
DESCRIPTION:On Sundays at 9 a.m.\, we offer: \n\nWorship Service\nSundayLife Gatherings\nKiX Children’s Ministry\nIMPACT Student Ministry
URL:https://www.parkgate.church/event/sundays-9-a-m/2027-11-21/
LOCATION:Parkgate Community Church\, 3715 Preston Avenue\, Pasadena\, TX\, 77505\, United States
CATEGORIES:IMPACT Student Ministry,KiX Children's Ministry,Sunday Mornings,SundayLife
ATTACH;FMTTYPE=image/png:https://www.parkgate.church/wp-content/uploads/2023/10/Sundays-at-9-a.m.png
END:VEVENT
BEGIN:VEVENT
DTSTART;TZID=America/Chicago:20271121T104500
DTEND;TZID=America/Chicago:20271121T120000
DTSTAMP:20260424T105310
CREATED:20231212T161833Z
LAST-MODIFIED:20231212T161833Z
UID:10001547-1826793900-1826798400@www.parkgate.church
SUMMARY:Sundays @ 10:45 a.m.
DESCRIPTION:On Sundays at 10:45 a.m.\, we offer: \n\nWorship Service\nSundayLife Gatherings\nKiX Children’s Ministry\n\nOur students (6th – 12th grades) are invited to participate in our worship service.
URL:https://www.parkgate.church/event/sundays-1045-a-m/2027-11-21/
LOCATION:Parkgate Community Church\, 3715 Preston Avenue\, Pasadena\, TX\, 77505\, United States
CATEGORIES:KiX Children's Ministry,Sunday Mornings,SundayLife
ATTACH;FMTTYPE=image/png:https://www.parkgate.church/wp-content/uploads/2023/12/Sundays-at-1045-a.m.png
END:VEVENT
BEGIN:VEVENT
DTSTART;TZID=America/Chicago:20271124T190000
DTEND;TZID=America/Chicago:20271124T200000
DTSTAMP:20260424T105310
CREATED:20231212T173720Z
LAST-MODIFIED:20240731T215945Z
UID:10002201-1827082800-1827086400@www.parkgate.church
SUMMARY:Club KiX
DESCRIPTION:Kids age 4 – 5th grade are invited to join us at Club KiX\, a high-energy\, hands-on hour of Bible learning and practical application.
URL:https://www.parkgate.church/event/club-kix/2027-11-24/
LOCATION:Parkgate Community Church\, 3715 Preston Avenue\, Pasadena\, TX\, 77505\, United States
CATEGORIES:KiX Children's Ministry
ATTACH;FMTTYPE=image/png:https://www.parkgate.church/wp-content/uploads/2024/07/Club-KiX-Screen.png
END:VEVENT
BEGIN:VEVENT
DTSTART;TZID=America/Chicago:20271128T090000
DTEND;TZID=America/Chicago:20271128T101500
DTSTAMP:20260424T105310
CREATED:20231025T073903Z
LAST-MODIFIED:20231212T161518Z
UID:10001281-1827392400-1827396900@www.parkgate.church
SUMMARY:Sundays @ 9 a.m.
DESCRIPTION:On Sundays at 9 a.m.\, we offer: \n\nWorship Service\nSundayLife Gatherings\nKiX Children’s Ministry\nIMPACT Student Ministry
URL:https://www.parkgate.church/event/sundays-9-a-m/2027-11-28/
LOCATION:Parkgate Community Church\, 3715 Preston Avenue\, Pasadena\, TX\, 77505\, United States
CATEGORIES:IMPACT Student Ministry,KiX Children's Ministry,Sunday Mornings,SundayLife
ATTACH;FMTTYPE=image/png:https://www.parkgate.church/wp-content/uploads/2023/10/Sundays-at-9-a.m.png
END:VEVENT
BEGIN:VEVENT
DTSTART;TZID=America/Chicago:20271128T104500
DTEND;TZID=America/Chicago:20271128T120000
DTSTAMP:20260424T105310
CREATED:20231212T161833Z
LAST-MODIFIED:20231212T161833Z
UID:10001548-1827398700-1827403200@www.parkgate.church
SUMMARY:Sundays @ 10:45 a.m.
DESCRIPTION:On Sundays at 10:45 a.m.\, we offer: \n\nWorship Service\nSundayLife Gatherings\nKiX Children’s Ministry\n\nOur students (6th – 12th grades) are invited to participate in our worship service.
URL:https://www.parkgate.church/event/sundays-1045-a-m/2027-11-28/
LOCATION:Parkgate Community Church\, 3715 Preston Avenue\, Pasadena\, TX\, 77505\, United States
CATEGORIES:KiX Children's Ministry,Sunday Mornings,SundayLife
ATTACH;FMTTYPE=image/png:https://www.parkgate.church/wp-content/uploads/2023/12/Sundays-at-1045-a.m.png
END:VEVENT
BEGIN:VEVENT
DTSTART;TZID=America/Chicago:20271201T190000
DTEND;TZID=America/Chicago:20271201T200000
DTSTAMP:20260424T105310
CREATED:20231212T173720Z
LAST-MODIFIED:20240731T215945Z
UID:10002202-1827687600-1827691200@www.parkgate.church
SUMMARY:Club KiX
DESCRIPTION:Kids age 4 – 5th grade are invited to join us at Club KiX\, a high-energy\, hands-on hour of Bible learning and practical application.
URL:https://www.parkgate.church/event/club-kix/2027-12-01/
LOCATION:Parkgate Community Church\, 3715 Preston Avenue\, Pasadena\, TX\, 77505\, United States
CATEGORIES:KiX Children's Ministry
ATTACH;FMTTYPE=image/png:https://www.parkgate.church/wp-content/uploads/2024/07/Club-KiX-Screen.png
END:VEVENT
BEGIN:VEVENT
DTSTART;TZID=America/Chicago:20271205T090000
DTEND;TZID=America/Chicago:20271205T101500
DTSTAMP:20260424T105310
CREATED:20231025T073903Z
LAST-MODIFIED:20231212T161518Z
UID:10001282-1827997200-1828001700@www.parkgate.church
SUMMARY:Sundays @ 9 a.m.
DESCRIPTION:On Sundays at 9 a.m.\, we offer: \n\nWorship Service\nSundayLife Gatherings\nKiX Children’s Ministry\nIMPACT Student Ministry
URL:https://www.parkgate.church/event/sundays-9-a-m/2027-12-05/
LOCATION:Parkgate Community Church\, 3715 Preston Avenue\, Pasadena\, TX\, 77505\, United States
CATEGORIES:IMPACT Student Ministry,KiX Children's Ministry,Sunday Mornings,SundayLife
ATTACH;FMTTYPE=image/png:https://www.parkgate.church/wp-content/uploads/2023/10/Sundays-at-9-a.m.png
END:VEVENT
BEGIN:VEVENT
DTSTART;TZID=America/Chicago:20271205T104500
DTEND;TZID=America/Chicago:20271205T120000
DTSTAMP:20260424T105310
CREATED:20231212T161833Z
LAST-MODIFIED:20231212T161833Z
UID:10001549-1828003500-1828008000@www.parkgate.church
SUMMARY:Sundays @ 10:45 a.m.
DESCRIPTION:On Sundays at 10:45 a.m.\, we offer: \n\nWorship Service\nSundayLife Gatherings\nKiX Children’s Ministry\n\nOur students (6th – 12th grades) are invited to participate in our worship service.
URL:https://www.parkgate.church/event/sundays-1045-a-m/2027-12-05/
LOCATION:Parkgate Community Church\, 3715 Preston Avenue\, Pasadena\, TX\, 77505\, United States
CATEGORIES:KiX Children's Ministry,Sunday Mornings,SundayLife
ATTACH;FMTTYPE=image/png:https://www.parkgate.church/wp-content/uploads/2023/12/Sundays-at-1045-a.m.png
END:VEVENT
END:VCALENDAR