BEGIN:VCALENDAR
VERSION:2.0
PRODID:-//Parkgate Community Church - ECPv6.15.20//NONSGML v1.0//EN
CALSCALE:GREGORIAN
METHOD:PUBLISH
X-WR-CALNAME:Parkgate Community Church
X-ORIGINAL-URL:https://www.parkgate.church
X-WR-CALDESC:Events for Parkgate Community Church
REFRESH-INTERVAL;VALUE=DURATION:PT1H
X-Robots-Tag:noindex
X-PUBLISHED-TTL:PT1H
BEGIN:VTIMEZONE
TZID:America/Chicago
BEGIN:DAYLIGHT
TZOFFSETFROM:-0600
TZOFFSETTO:-0500
TZNAME:CDT
DTSTART:20260308T080000
END:DAYLIGHT
BEGIN:STANDARD
TZOFFSETFROM:-0500
TZOFFSETTO:-0600
TZNAME:CST
DTSTART:20261101T070000
END:STANDARD
BEGIN:DAYLIGHT
TZOFFSETFROM:-0600
TZOFFSETTO:-0500
TZNAME:CDT
DTSTART:20270314T080000
END:DAYLIGHT
BEGIN:STANDARD
TZOFFSETFROM:-0500
TZOFFSETTO:-0600
TZNAME:CST
DTSTART:20271107T070000
END:STANDARD
BEGIN:DAYLIGHT
TZOFFSETFROM:-0600
TZOFFSETTO:-0500
TZNAME:CDT
DTSTART:20280312T080000
END:DAYLIGHT
BEGIN:STANDARD
TZOFFSETFROM:-0500
TZOFFSETTO:-0600
TZNAME:CST
DTSTART:20281105T070000
END:STANDARD
BEGIN:DAYLIGHT
TZOFFSETFROM:-0600
TZOFFSETTO:-0500
TZNAME:CDT
DTSTART:20290311T080000
END:DAYLIGHT
BEGIN:STANDARD
TZOFFSETFROM:-0500
TZOFFSETTO:-0600
TZNAME:CST
DTSTART:20291104T070000
END:STANDARD
END:VTIMEZONE
BEGIN:VEVENT
DTSTART;TZID=America/Chicago:20271114T090000
DTEND;TZID=America/Chicago:20271114T101500
DTSTAMP:20260421T140156
CREATED:20231025T073903Z
LAST-MODIFIED:20231212T161518Z
UID:10001279-1826182800-1826187300@www.parkgate.church
SUMMARY:Sundays @ 9 a.m.
DESCRIPTION:On Sundays at 9 a.m.\, we offer: \n\nWorship Service\nSundayLife Gatherings\nKiX Children’s Ministry\nIMPACT Student Ministry
URL:https://www.parkgate.church/event/sundays-9-a-m/2027-11-14/
LOCATION:Parkgate Community Church\, 3715 Preston Avenue\, Pasadena\, TX\, 77505\, United States
CATEGORIES:IMPACT Student Ministry,KiX Children's Ministry,Sunday Mornings,SundayLife
ATTACH;FMTTYPE=image/png:https://www.parkgate.church/wp-content/uploads/2023/10/Sundays-at-9-a.m.png
END:VEVENT
BEGIN:VEVENT
DTSTART;TZID=America/Chicago:20271114T104500
DTEND;TZID=America/Chicago:20271114T120000
DTSTAMP:20260421T140156
CREATED:20231212T161833Z
LAST-MODIFIED:20231212T161833Z
UID:10001546-1826189100-1826193600@www.parkgate.church
SUMMARY:Sundays @ 10:45 a.m.
DESCRIPTION:On Sundays at 10:45 a.m.\, we offer: \n\nWorship Service\nSundayLife Gatherings\nKiX Children’s Ministry\n\nOur students (6th – 12th grades) are invited to participate in our worship service.
URL:https://www.parkgate.church/event/sundays-1045-a-m/2027-11-14/
LOCATION:Parkgate Community Church\, 3715 Preston Avenue\, Pasadena\, TX\, 77505\, United States
CATEGORIES:KiX Children's Ministry,Sunday Mornings,SundayLife
ATTACH;FMTTYPE=image/png:https://www.parkgate.church/wp-content/uploads/2023/12/Sundays-at-1045-a.m.png
END:VEVENT
BEGIN:VEVENT
DTSTART;TZID=America/Chicago:20271121T090000
DTEND;TZID=America/Chicago:20271121T101500
DTSTAMP:20260421T140156
CREATED:20231025T073903Z
LAST-MODIFIED:20231212T161518Z
UID:10001280-1826787600-1826792100@www.parkgate.church
SUMMARY:Sundays @ 9 a.m.
DESCRIPTION:On Sundays at 9 a.m.\, we offer: \n\nWorship Service\nSundayLife Gatherings\nKiX Children’s Ministry\nIMPACT Student Ministry
URL:https://www.parkgate.church/event/sundays-9-a-m/2027-11-21/
LOCATION:Parkgate Community Church\, 3715 Preston Avenue\, Pasadena\, TX\, 77505\, United States
CATEGORIES:IMPACT Student Ministry,KiX Children's Ministry,Sunday Mornings,SundayLife
ATTACH;FMTTYPE=image/png:https://www.parkgate.church/wp-content/uploads/2023/10/Sundays-at-9-a.m.png
END:VEVENT
BEGIN:VEVENT
DTSTART;TZID=America/Chicago:20271121T104500
DTEND;TZID=America/Chicago:20271121T120000
DTSTAMP:20260421T140156
CREATED:20231212T161833Z
LAST-MODIFIED:20231212T161833Z
UID:10001547-1826793900-1826798400@www.parkgate.church
SUMMARY:Sundays @ 10:45 a.m.
DESCRIPTION:On Sundays at 10:45 a.m.\, we offer: \n\nWorship Service\nSundayLife Gatherings\nKiX Children’s Ministry\n\nOur students (6th – 12th grades) are invited to participate in our worship service.
URL:https://www.parkgate.church/event/sundays-1045-a-m/2027-11-21/
LOCATION:Parkgate Community Church\, 3715 Preston Avenue\, Pasadena\, TX\, 77505\, United States
CATEGORIES:KiX Children's Ministry,Sunday Mornings,SundayLife
ATTACH;FMTTYPE=image/png:https://www.parkgate.church/wp-content/uploads/2023/12/Sundays-at-1045-a.m.png
END:VEVENT
BEGIN:VEVENT
DTSTART;TZID=America/Chicago:20271128T090000
DTEND;TZID=America/Chicago:20271128T101500
DTSTAMP:20260421T140156
CREATED:20231025T073903Z
LAST-MODIFIED:20231212T161518Z
UID:10001281-1827392400-1827396900@www.parkgate.church
SUMMARY:Sundays @ 9 a.m.
DESCRIPTION:On Sundays at 9 a.m.\, we offer: \n\nWorship Service\nSundayLife Gatherings\nKiX Children’s Ministry\nIMPACT Student Ministry
URL:https://www.parkgate.church/event/sundays-9-a-m/2027-11-28/
LOCATION:Parkgate Community Church\, 3715 Preston Avenue\, Pasadena\, TX\, 77505\, United States
CATEGORIES:IMPACT Student Ministry,KiX Children's Ministry,Sunday Mornings,SundayLife
ATTACH;FMTTYPE=image/png:https://www.parkgate.church/wp-content/uploads/2023/10/Sundays-at-9-a.m.png
END:VEVENT
BEGIN:VEVENT
DTSTART;TZID=America/Chicago:20271128T104500
DTEND;TZID=America/Chicago:20271128T120000
DTSTAMP:20260421T140156
CREATED:20231212T161833Z
LAST-MODIFIED:20231212T161833Z
UID:10001548-1827398700-1827403200@www.parkgate.church
SUMMARY:Sundays @ 10:45 a.m.
DESCRIPTION:On Sundays at 10:45 a.m.\, we offer: \n\nWorship Service\nSundayLife Gatherings\nKiX Children’s Ministry\n\nOur students (6th – 12th grades) are invited to participate in our worship service.
URL:https://www.parkgate.church/event/sundays-1045-a-m/2027-11-28/
LOCATION:Parkgate Community Church\, 3715 Preston Avenue\, Pasadena\, TX\, 77505\, United States
CATEGORIES:KiX Children's Ministry,Sunday Mornings,SundayLife
ATTACH;FMTTYPE=image/png:https://www.parkgate.church/wp-content/uploads/2023/12/Sundays-at-1045-a.m.png
END:VEVENT
BEGIN:VEVENT
DTSTART;TZID=America/Chicago:20271205T090000
DTEND;TZID=America/Chicago:20271205T101500
DTSTAMP:20260421T140156
CREATED:20231025T073903Z
LAST-MODIFIED:20231212T161518Z
UID:10001282-1827997200-1828001700@www.parkgate.church
SUMMARY:Sundays @ 9 a.m.
DESCRIPTION:On Sundays at 9 a.m.\, we offer: \n\nWorship Service\nSundayLife Gatherings\nKiX Children’s Ministry\nIMPACT Student Ministry
URL:https://www.parkgate.church/event/sundays-9-a-m/2027-12-05/
LOCATION:Parkgate Community Church\, 3715 Preston Avenue\, Pasadena\, TX\, 77505\, United States
CATEGORIES:IMPACT Student Ministry,KiX Children's Ministry,Sunday Mornings,SundayLife
ATTACH;FMTTYPE=image/png:https://www.parkgate.church/wp-content/uploads/2023/10/Sundays-at-9-a.m.png
END:VEVENT
BEGIN:VEVENT
DTSTART;TZID=America/Chicago:20271205T104500
DTEND;TZID=America/Chicago:20271205T120000
DTSTAMP:20260421T140156
CREATED:20231212T161833Z
LAST-MODIFIED:20231212T161833Z
UID:10001549-1828003500-1828008000@www.parkgate.church
SUMMARY:Sundays @ 10:45 a.m.
DESCRIPTION:On Sundays at 10:45 a.m.\, we offer: \n\nWorship Service\nSundayLife Gatherings\nKiX Children’s Ministry\n\nOur students (6th – 12th grades) are invited to participate in our worship service.
URL:https://www.parkgate.church/event/sundays-1045-a-m/2027-12-05/
LOCATION:Parkgate Community Church\, 3715 Preston Avenue\, Pasadena\, TX\, 77505\, United States
CATEGORIES:KiX Children's Ministry,Sunday Mornings,SundayLife
ATTACH;FMTTYPE=image/png:https://www.parkgate.church/wp-content/uploads/2023/12/Sundays-at-1045-a.m.png
END:VEVENT
BEGIN:VEVENT
DTSTART;TZID=America/Chicago:20271212T090000
DTEND;TZID=America/Chicago:20271212T101500
DTSTAMP:20260421T140156
CREATED:20231025T073903Z
LAST-MODIFIED:20231212T161518Z
UID:10001283-1828602000-1828606500@www.parkgate.church
SUMMARY:Sundays @ 9 a.m.
DESCRIPTION:On Sundays at 9 a.m.\, we offer: \n\nWorship Service\nSundayLife Gatherings\nKiX Children’s Ministry\nIMPACT Student Ministry
URL:https://www.parkgate.church/event/sundays-9-a-m/2027-12-12/
LOCATION:Parkgate Community Church\, 3715 Preston Avenue\, Pasadena\, TX\, 77505\, United States
CATEGORIES:IMPACT Student Ministry,KiX Children's Ministry,Sunday Mornings,SundayLife
ATTACH;FMTTYPE=image/png:https://www.parkgate.church/wp-content/uploads/2023/10/Sundays-at-9-a.m.png
END:VEVENT
BEGIN:VEVENT
DTSTART;TZID=America/Chicago:20271212T104500
DTEND;TZID=America/Chicago:20271212T120000
DTSTAMP:20260421T140156
CREATED:20231212T161833Z
LAST-MODIFIED:20231212T161833Z
UID:10001550-1828608300-1828612800@www.parkgate.church
SUMMARY:Sundays @ 10:45 a.m.
DESCRIPTION:On Sundays at 10:45 a.m.\, we offer: \n\nWorship Service\nSundayLife Gatherings\nKiX Children’s Ministry\n\nOur students (6th – 12th grades) are invited to participate in our worship service.
URL:https://www.parkgate.church/event/sundays-1045-a-m/2027-12-12/
LOCATION:Parkgate Community Church\, 3715 Preston Avenue\, Pasadena\, TX\, 77505\, United States
CATEGORIES:KiX Children's Ministry,Sunday Mornings,SundayLife
ATTACH;FMTTYPE=image/png:https://www.parkgate.church/wp-content/uploads/2023/12/Sundays-at-1045-a.m.png
END:VEVENT
BEGIN:VEVENT
DTSTART;TZID=America/Chicago:20271219T090000
DTEND;TZID=America/Chicago:20271219T101500
DTSTAMP:20260421T140156
CREATED:20231025T073903Z
LAST-MODIFIED:20231212T161518Z
UID:10001284-1829206800-1829211300@www.parkgate.church
SUMMARY:Sundays @ 9 a.m.
DESCRIPTION:On Sundays at 9 a.m.\, we offer: \n\nWorship Service\nSundayLife Gatherings\nKiX Children’s Ministry\nIMPACT Student Ministry
URL:https://www.parkgate.church/event/sundays-9-a-m/2027-12-19/
LOCATION:Parkgate Community Church\, 3715 Preston Avenue\, Pasadena\, TX\, 77505\, United States
CATEGORIES:IMPACT Student Ministry,KiX Children's Ministry,Sunday Mornings,SundayLife
ATTACH;FMTTYPE=image/png:https://www.parkgate.church/wp-content/uploads/2023/10/Sundays-at-9-a.m.png
END:VEVENT
BEGIN:VEVENT
DTSTART;TZID=America/Chicago:20271219T104500
DTEND;TZID=America/Chicago:20271219T120000
DTSTAMP:20260421T140156
CREATED:20231212T161833Z
LAST-MODIFIED:20231212T161833Z
UID:10001551-1829213100-1829217600@www.parkgate.church
SUMMARY:Sundays @ 10:45 a.m.
DESCRIPTION:On Sundays at 10:45 a.m.\, we offer: \n\nWorship Service\nSundayLife Gatherings\nKiX Children’s Ministry\n\nOur students (6th – 12th grades) are invited to participate in our worship service.
URL:https://www.parkgate.church/event/sundays-1045-a-m/2027-12-19/
LOCATION:Parkgate Community Church\, 3715 Preston Avenue\, Pasadena\, TX\, 77505\, United States
CATEGORIES:KiX Children's Ministry,Sunday Mornings,SundayLife
ATTACH;FMTTYPE=image/png:https://www.parkgate.church/wp-content/uploads/2023/12/Sundays-at-1045-a.m.png
END:VEVENT
BEGIN:VEVENT
DTSTART;TZID=America/Chicago:20271226T090000
DTEND;TZID=America/Chicago:20271226T101500
DTSTAMP:20260421T140156
CREATED:20231025T073903Z
LAST-MODIFIED:20231212T161518Z
UID:10001285-1829811600-1829816100@www.parkgate.church
SUMMARY:Sundays @ 9 a.m.
DESCRIPTION:On Sundays at 9 a.m.\, we offer: \n\nWorship Service\nSundayLife Gatherings\nKiX Children’s Ministry\nIMPACT Student Ministry
URL:https://www.parkgate.church/event/sundays-9-a-m/2027-12-26/
LOCATION:Parkgate Community Church\, 3715 Preston Avenue\, Pasadena\, TX\, 77505\, United States
CATEGORIES:IMPACT Student Ministry,KiX Children's Ministry,Sunday Mornings,SundayLife
ATTACH;FMTTYPE=image/png:https://www.parkgate.church/wp-content/uploads/2023/10/Sundays-at-9-a.m.png
END:VEVENT
BEGIN:VEVENT
DTSTART;TZID=America/Chicago:20271226T104500
DTEND;TZID=America/Chicago:20271226T120000
DTSTAMP:20260421T140156
CREATED:20231212T161833Z
LAST-MODIFIED:20231212T161833Z
UID:10001552-1829817900-1829822400@www.parkgate.church
SUMMARY:Sundays @ 10:45 a.m.
DESCRIPTION:On Sundays at 10:45 a.m.\, we offer: \n\nWorship Service\nSundayLife Gatherings\nKiX Children’s Ministry\n\nOur students (6th – 12th grades) are invited to participate in our worship service.
URL:https://www.parkgate.church/event/sundays-1045-a-m/2027-12-26/
LOCATION:Parkgate Community Church\, 3715 Preston Avenue\, Pasadena\, TX\, 77505\, United States
CATEGORIES:KiX Children's Ministry,Sunday Mornings,SundayLife
ATTACH;FMTTYPE=image/png:https://www.parkgate.church/wp-content/uploads/2023/12/Sundays-at-1045-a.m.png
END:VEVENT
BEGIN:VEVENT
DTSTART;TZID=America/Chicago:20280102T090000
DTEND;TZID=America/Chicago:20280102T101500
DTSTAMP:20260421T140156
CREATED:20231025T073903Z
LAST-MODIFIED:20231212T161518Z
UID:10001286-1830416400-1830420900@www.parkgate.church
SUMMARY:Sundays @ 9 a.m.
DESCRIPTION:On Sundays at 9 a.m.\, we offer: \n\nWorship Service\nSundayLife Gatherings\nKiX Children’s Ministry\nIMPACT Student Ministry
URL:https://www.parkgate.church/event/sundays-9-a-m/2028-01-02/
LOCATION:Parkgate Community Church\, 3715 Preston Avenue\, Pasadena\, TX\, 77505\, United States
CATEGORIES:IMPACT Student Ministry,KiX Children's Ministry,Sunday Mornings,SundayLife
ATTACH;FMTTYPE=image/png:https://www.parkgate.church/wp-content/uploads/2023/10/Sundays-at-9-a.m.png
END:VEVENT
BEGIN:VEVENT
DTSTART;TZID=America/Chicago:20280102T104500
DTEND;TZID=America/Chicago:20280102T120000
DTSTAMP:20260421T140156
CREATED:20231212T161833Z
LAST-MODIFIED:20231212T161833Z
UID:10001553-1830422700-1830427200@www.parkgate.church
SUMMARY:Sundays @ 10:45 a.m.
DESCRIPTION:On Sundays at 10:45 a.m.\, we offer: \n\nWorship Service\nSundayLife Gatherings\nKiX Children’s Ministry\n\nOur students (6th – 12th grades) are invited to participate in our worship service.
URL:https://www.parkgate.church/event/sundays-1045-a-m/2028-01-02/
LOCATION:Parkgate Community Church\, 3715 Preston Avenue\, Pasadena\, TX\, 77505\, United States
CATEGORIES:KiX Children's Ministry,Sunday Mornings,SundayLife
ATTACH;FMTTYPE=image/png:https://www.parkgate.church/wp-content/uploads/2023/12/Sundays-at-1045-a.m.png
END:VEVENT
BEGIN:VEVENT
DTSTART;TZID=America/Chicago:20280109T090000
DTEND;TZID=America/Chicago:20280109T101500
DTSTAMP:20260421T140156
CREATED:20231025T073903Z
LAST-MODIFIED:20231212T161518Z
UID:10001287-1831021200-1831025700@www.parkgate.church
SUMMARY:Sundays @ 9 a.m.
DESCRIPTION:On Sundays at 9 a.m.\, we offer: \n\nWorship Service\nSundayLife Gatherings\nKiX Children’s Ministry\nIMPACT Student Ministry
URL:https://www.parkgate.church/event/sundays-9-a-m/2028-01-09/
LOCATION:Parkgate Community Church\, 3715 Preston Avenue\, Pasadena\, TX\, 77505\, United States
CATEGORIES:IMPACT Student Ministry,KiX Children's Ministry,Sunday Mornings,SundayLife
ATTACH;FMTTYPE=image/png:https://www.parkgate.church/wp-content/uploads/2023/10/Sundays-at-9-a.m.png
END:VEVENT
BEGIN:VEVENT
DTSTART;TZID=America/Chicago:20280109T104500
DTEND;TZID=America/Chicago:20280109T120000
DTSTAMP:20260421T140156
CREATED:20231212T161833Z
LAST-MODIFIED:20231212T161833Z
UID:10001554-1831027500-1831032000@www.parkgate.church
SUMMARY:Sundays @ 10:45 a.m.
DESCRIPTION:On Sundays at 10:45 a.m.\, we offer: \n\nWorship Service\nSundayLife Gatherings\nKiX Children’s Ministry\n\nOur students (6th – 12th grades) are invited to participate in our worship service.
URL:https://www.parkgate.church/event/sundays-1045-a-m/2028-01-09/
LOCATION:Parkgate Community Church\, 3715 Preston Avenue\, Pasadena\, TX\, 77505\, United States
CATEGORIES:KiX Children's Ministry,Sunday Mornings,SundayLife
ATTACH;FMTTYPE=image/png:https://www.parkgate.church/wp-content/uploads/2023/12/Sundays-at-1045-a.m.png
END:VEVENT
BEGIN:VEVENT
DTSTART;TZID=America/Chicago:20280116T090000
DTEND;TZID=America/Chicago:20280116T101500
DTSTAMP:20260421T140156
CREATED:20231025T073903Z
LAST-MODIFIED:20231212T161518Z
UID:10001288-1831626000-1831630500@www.parkgate.church
SUMMARY:Sundays @ 9 a.m.
DESCRIPTION:On Sundays at 9 a.m.\, we offer: \n\nWorship Service\nSundayLife Gatherings\nKiX Children’s Ministry\nIMPACT Student Ministry
URL:https://www.parkgate.church/event/sundays-9-a-m/2028-01-16/
LOCATION:Parkgate Community Church\, 3715 Preston Avenue\, Pasadena\, TX\, 77505\, United States
CATEGORIES:IMPACT Student Ministry,KiX Children's Ministry,Sunday Mornings,SundayLife
ATTACH;FMTTYPE=image/png:https://www.parkgate.church/wp-content/uploads/2023/10/Sundays-at-9-a.m.png
END:VEVENT
BEGIN:VEVENT
DTSTART;TZID=America/Chicago:20280116T104500
DTEND;TZID=America/Chicago:20280116T120000
DTSTAMP:20260421T140156
CREATED:20231212T161833Z
LAST-MODIFIED:20231212T161833Z
UID:10001555-1831632300-1831636800@www.parkgate.church
SUMMARY:Sundays @ 10:45 a.m.
DESCRIPTION:On Sundays at 10:45 a.m.\, we offer: \n\nWorship Service\nSundayLife Gatherings\nKiX Children’s Ministry\n\nOur students (6th – 12th grades) are invited to participate in our worship service.
URL:https://www.parkgate.church/event/sundays-1045-a-m/2028-01-16/
LOCATION:Parkgate Community Church\, 3715 Preston Avenue\, Pasadena\, TX\, 77505\, United States
CATEGORIES:KiX Children's Ministry,Sunday Mornings,SundayLife
ATTACH;FMTTYPE=image/png:https://www.parkgate.church/wp-content/uploads/2023/12/Sundays-at-1045-a.m.png
END:VEVENT
BEGIN:VEVENT
DTSTART;TZID=America/Chicago:20280123T090000
DTEND;TZID=America/Chicago:20280123T101500
DTSTAMP:20260421T140156
CREATED:20231025T073903Z
LAST-MODIFIED:20231212T161518Z
UID:10001289-1832230800-1832235300@www.parkgate.church
SUMMARY:Sundays @ 9 a.m.
DESCRIPTION:On Sundays at 9 a.m.\, we offer: \n\nWorship Service\nSundayLife Gatherings\nKiX Children’s Ministry\nIMPACT Student Ministry
URL:https://www.parkgate.church/event/sundays-9-a-m/2028-01-23/
LOCATION:Parkgate Community Church\, 3715 Preston Avenue\, Pasadena\, TX\, 77505\, United States
CATEGORIES:IMPACT Student Ministry,KiX Children's Ministry,Sunday Mornings,SundayLife
ATTACH;FMTTYPE=image/png:https://www.parkgate.church/wp-content/uploads/2023/10/Sundays-at-9-a.m.png
END:VEVENT
BEGIN:VEVENT
DTSTART;TZID=America/Chicago:20280123T104500
DTEND;TZID=America/Chicago:20280123T120000
DTSTAMP:20260421T140156
CREATED:20231212T161833Z
LAST-MODIFIED:20231212T161833Z
UID:10001556-1832237100-1832241600@www.parkgate.church
SUMMARY:Sundays @ 10:45 a.m.
DESCRIPTION:On Sundays at 10:45 a.m.\, we offer: \n\nWorship Service\nSundayLife Gatherings\nKiX Children’s Ministry\n\nOur students (6th – 12th grades) are invited to participate in our worship service.
URL:https://www.parkgate.church/event/sundays-1045-a-m/2028-01-23/
LOCATION:Parkgate Community Church\, 3715 Preston Avenue\, Pasadena\, TX\, 77505\, United States
CATEGORIES:KiX Children's Ministry,Sunday Mornings,SundayLife
ATTACH;FMTTYPE=image/png:https://www.parkgate.church/wp-content/uploads/2023/12/Sundays-at-1045-a.m.png
END:VEVENT
BEGIN:VEVENT
DTSTART;TZID=America/Chicago:20280130T090000
DTEND;TZID=America/Chicago:20280130T101500
DTSTAMP:20260421T140156
CREATED:20231025T073903Z
LAST-MODIFIED:20231212T161518Z
UID:10001290-1832835600-1832840100@www.parkgate.church
SUMMARY:Sundays @ 9 a.m.
DESCRIPTION:On Sundays at 9 a.m.\, we offer: \n\nWorship Service\nSundayLife Gatherings\nKiX Children’s Ministry\nIMPACT Student Ministry
URL:https://www.parkgate.church/event/sundays-9-a-m/2028-01-30/
LOCATION:Parkgate Community Church\, 3715 Preston Avenue\, Pasadena\, TX\, 77505\, United States
CATEGORIES:IMPACT Student Ministry,KiX Children's Ministry,Sunday Mornings,SundayLife
ATTACH;FMTTYPE=image/png:https://www.parkgate.church/wp-content/uploads/2023/10/Sundays-at-9-a.m.png
END:VEVENT
BEGIN:VEVENT
DTSTART;TZID=America/Chicago:20280130T104500
DTEND;TZID=America/Chicago:20280130T120000
DTSTAMP:20260421T140156
CREATED:20231212T161833Z
LAST-MODIFIED:20231212T161833Z
UID:10001557-1832841900-1832846400@www.parkgate.church
SUMMARY:Sundays @ 10:45 a.m.
DESCRIPTION:On Sundays at 10:45 a.m.\, we offer: \n\nWorship Service\nSundayLife Gatherings\nKiX Children’s Ministry\n\nOur students (6th – 12th grades) are invited to participate in our worship service.
URL:https://www.parkgate.church/event/sundays-1045-a-m/2028-01-30/
LOCATION:Parkgate Community Church\, 3715 Preston Avenue\, Pasadena\, TX\, 77505\, United States
CATEGORIES:KiX Children's Ministry,Sunday Mornings,SundayLife
ATTACH;FMTTYPE=image/png:https://www.parkgate.church/wp-content/uploads/2023/12/Sundays-at-1045-a.m.png
END:VEVENT
BEGIN:VEVENT
DTSTART;TZID=America/Chicago:20280206T090000
DTEND;TZID=America/Chicago:20280206T101500
DTSTAMP:20260421T140156
CREATED:20231025T073903Z
LAST-MODIFIED:20231212T161518Z
UID:10001291-1833440400-1833444900@www.parkgate.church
SUMMARY:Sundays @ 9 a.m.
DESCRIPTION:On Sundays at 9 a.m.\, we offer: \n\nWorship Service\nSundayLife Gatherings\nKiX Children’s Ministry\nIMPACT Student Ministry
URL:https://www.parkgate.church/event/sundays-9-a-m/2028-02-06/
LOCATION:Parkgate Community Church\, 3715 Preston Avenue\, Pasadena\, TX\, 77505\, United States
CATEGORIES:IMPACT Student Ministry,KiX Children's Ministry,Sunday Mornings,SundayLife
ATTACH;FMTTYPE=image/png:https://www.parkgate.church/wp-content/uploads/2023/10/Sundays-at-9-a.m.png
END:VEVENT
BEGIN:VEVENT
DTSTART;TZID=America/Chicago:20280206T104500
DTEND;TZID=America/Chicago:20280206T120000
DTSTAMP:20260421T140156
CREATED:20231212T161833Z
LAST-MODIFIED:20231212T161833Z
UID:10001558-1833446700-1833451200@www.parkgate.church
SUMMARY:Sundays @ 10:45 a.m.
DESCRIPTION:On Sundays at 10:45 a.m.\, we offer: \n\nWorship Service\nSundayLife Gatherings\nKiX Children’s Ministry\n\nOur students (6th – 12th grades) are invited to participate in our worship service.
URL:https://www.parkgate.church/event/sundays-1045-a-m/2028-02-06/
LOCATION:Parkgate Community Church\, 3715 Preston Avenue\, Pasadena\, TX\, 77505\, United States
CATEGORIES:KiX Children's Ministry,Sunday Mornings,SundayLife
ATTACH;FMTTYPE=image/png:https://www.parkgate.church/wp-content/uploads/2023/12/Sundays-at-1045-a.m.png
END:VEVENT
BEGIN:VEVENT
DTSTART;TZID=America/Chicago:20280213T090000
DTEND;TZID=America/Chicago:20280213T101500
DTSTAMP:20260421T140156
CREATED:20231025T073903Z
LAST-MODIFIED:20231212T161518Z
UID:10001292-1834045200-1834049700@www.parkgate.church
SUMMARY:Sundays @ 9 a.m.
DESCRIPTION:On Sundays at 9 a.m.\, we offer: \n\nWorship Service\nSundayLife Gatherings\nKiX Children’s Ministry\nIMPACT Student Ministry
URL:https://www.parkgate.church/event/sundays-9-a-m/2028-02-13/
LOCATION:Parkgate Community Church\, 3715 Preston Avenue\, Pasadena\, TX\, 77505\, United States
CATEGORIES:IMPACT Student Ministry,KiX Children's Ministry,Sunday Mornings,SundayLife
ATTACH;FMTTYPE=image/png:https://www.parkgate.church/wp-content/uploads/2023/10/Sundays-at-9-a.m.png
END:VEVENT
BEGIN:VEVENT
DTSTART;TZID=America/Chicago:20280213T104500
DTEND;TZID=America/Chicago:20280213T120000
DTSTAMP:20260421T140156
CREATED:20231212T161833Z
LAST-MODIFIED:20231212T161833Z
UID:10001559-1834051500-1834056000@www.parkgate.church
SUMMARY:Sundays @ 10:45 a.m.
DESCRIPTION:On Sundays at 10:45 a.m.\, we offer: \n\nWorship Service\nSundayLife Gatherings\nKiX Children’s Ministry\n\nOur students (6th – 12th grades) are invited to participate in our worship service.
URL:https://www.parkgate.church/event/sundays-1045-a-m/2028-02-13/
LOCATION:Parkgate Community Church\, 3715 Preston Avenue\, Pasadena\, TX\, 77505\, United States
CATEGORIES:KiX Children's Ministry,Sunday Mornings,SundayLife
ATTACH;FMTTYPE=image/png:https://www.parkgate.church/wp-content/uploads/2023/12/Sundays-at-1045-a.m.png
END:VEVENT
BEGIN:VEVENT
DTSTART;TZID=America/Chicago:20280220T090000
DTEND;TZID=America/Chicago:20280220T101500
DTSTAMP:20260421T140156
CREATED:20231025T073903Z
LAST-MODIFIED:20231212T161518Z
UID:10001293-1834650000-1834654500@www.parkgate.church
SUMMARY:Sundays @ 9 a.m.
DESCRIPTION:On Sundays at 9 a.m.\, we offer: \n\nWorship Service\nSundayLife Gatherings\nKiX Children’s Ministry\nIMPACT Student Ministry
URL:https://www.parkgate.church/event/sundays-9-a-m/2028-02-20/
LOCATION:Parkgate Community Church\, 3715 Preston Avenue\, Pasadena\, TX\, 77505\, United States
CATEGORIES:IMPACT Student Ministry,KiX Children's Ministry,Sunday Mornings,SundayLife
ATTACH;FMTTYPE=image/png:https://www.parkgate.church/wp-content/uploads/2023/10/Sundays-at-9-a.m.png
END:VEVENT
BEGIN:VEVENT
DTSTART;TZID=America/Chicago:20280220T104500
DTEND;TZID=America/Chicago:20280220T120000
DTSTAMP:20260421T140156
CREATED:20231212T161833Z
LAST-MODIFIED:20231212T161833Z
UID:10001560-1834656300-1834660800@www.parkgate.church
SUMMARY:Sundays @ 10:45 a.m.
DESCRIPTION:On Sundays at 10:45 a.m.\, we offer: \n\nWorship Service\nSundayLife Gatherings\nKiX Children’s Ministry\n\nOur students (6th – 12th grades) are invited to participate in our worship service.
URL:https://www.parkgate.church/event/sundays-1045-a-m/2028-02-20/
LOCATION:Parkgate Community Church\, 3715 Preston Avenue\, Pasadena\, TX\, 77505\, United States
CATEGORIES:KiX Children's Ministry,Sunday Mornings,SundayLife
ATTACH;FMTTYPE=image/png:https://www.parkgate.church/wp-content/uploads/2023/12/Sundays-at-1045-a.m.png
END:VEVENT
END:VCALENDAR