BEGIN:VCALENDAR
VERSION:2.0
PRODID:-//Parkgate Community Church - ECPv6.15.20//NONSGML v1.0//EN
CALSCALE:GREGORIAN
METHOD:PUBLISH
X-ORIGINAL-URL:https://www.parkgate.church
X-WR-CALDESC:Events for Parkgate Community Church
REFRESH-INTERVAL;VALUE=DURATION:PT1H
X-Robots-Tag:noindex
X-PUBLISHED-TTL:PT1H
BEGIN:VTIMEZONE
TZID:America/Chicago
BEGIN:DAYLIGHT
TZOFFSETFROM:-0600
TZOFFSETTO:-0500
TZNAME:CDT
DTSTART:20240310T080000
END:DAYLIGHT
BEGIN:STANDARD
TZOFFSETFROM:-0500
TZOFFSETTO:-0600
TZNAME:CST
DTSTART:20241103T070000
END:STANDARD
BEGIN:DAYLIGHT
TZOFFSETFROM:-0600
TZOFFSETTO:-0500
TZNAME:CDT
DTSTART:20250309T080000
END:DAYLIGHT
BEGIN:STANDARD
TZOFFSETFROM:-0500
TZOFFSETTO:-0600
TZNAME:CST
DTSTART:20251102T070000
END:STANDARD
BEGIN:DAYLIGHT
TZOFFSETFROM:-0600
TZOFFSETTO:-0500
TZNAME:CDT
DTSTART:20260308T080000
END:DAYLIGHT
BEGIN:STANDARD
TZOFFSETFROM:-0500
TZOFFSETTO:-0600
TZNAME:CST
DTSTART:20261101T070000
END:STANDARD
END:VTIMEZONE
BEGIN:VEVENT
DTSTART;VALUE=DATE:20250307
DTEND;VALUE=DATE:20250310
DTSTAMP:20260421T074604
CREATED:20250213T164039Z
LAST-MODIFIED:20250213T164521Z
UID:10007131-1741305600-1741564799@www.parkgate.church
SUMMARY:Women's Retreat
DESCRIPTION:Ladies\, take a break from the busyness of life and join us for a refreshing weekend of faith\, fellowship\, and renewal! This will be a time to grow deeper in God’s Word\, build meaningful friendships\, and find rest for your soul. There will be worship\, small group discussions\, and plenty of time to relax and recharge.
URL:https://www.parkgate.church/event/womens-retreat/
LOCATION:TX
CATEGORIES:Women
ATTACH;FMTTYPE=image/png:https://www.parkgate.church/wp-content/uploads/2025/02/Womens-Retreat-Screen.png
ORGANIZER;CN="Brittney Mejia":MAILTO:Brittney.martinez16@gmail.com
END:VEVENT
END:VCALENDAR