BEGIN:VCALENDAR
VERSION:2.0
PRODID:-//Parkgate Community Church - ECPv6.15.20//NONSGML v1.0//EN
CALSCALE:GREGORIAN
METHOD:PUBLISH
X-WR-CALNAME:Parkgate Community Church
X-ORIGINAL-URL:https://www.parkgate.church
X-WR-CALDESC:Events for Parkgate Community Church
REFRESH-INTERVAL;VALUE=DURATION:PT1H
X-Robots-Tag:noindex
X-PUBLISHED-TTL:PT1H
BEGIN:VTIMEZONE
TZID:America/Chicago
BEGIN:DAYLIGHT
TZOFFSETFROM:-0600
TZOFFSETTO:-0500
TZNAME:CDT
DTSTART:20260308T080000
END:DAYLIGHT
BEGIN:STANDARD
TZOFFSETFROM:-0500
TZOFFSETTO:-0600
TZNAME:CST
DTSTART:20261101T070000
END:STANDARD
BEGIN:DAYLIGHT
TZOFFSETFROM:-0600
TZOFFSETTO:-0500
TZNAME:CDT
DTSTART:20270314T080000
END:DAYLIGHT
BEGIN:STANDARD
TZOFFSETFROM:-0500
TZOFFSETTO:-0600
TZNAME:CST
DTSTART:20271107T070000
END:STANDARD
BEGIN:DAYLIGHT
TZOFFSETFROM:-0600
TZOFFSETTO:-0500
TZNAME:CDT
DTSTART:20280312T080000
END:DAYLIGHT
BEGIN:STANDARD
TZOFFSETFROM:-0500
TZOFFSETTO:-0600
TZNAME:CST
DTSTART:20281105T070000
END:STANDARD
END:VTIMEZONE
BEGIN:VEVENT
DTSTART;TZID=America/Chicago:20270428T190000
DTEND;TZID=America/Chicago:20270428T200000
DTSTAMP:20260421T131636
CREATED:20231212T173720Z
LAST-MODIFIED:20240731T215945Z
UID:10002171-1808938800-1808942400@www.parkgate.church
SUMMARY:Club KiX
DESCRIPTION:Kids age 4 – 5th grade are invited to join us at Club KiX\, a high-energy\, hands-on hour of Bible learning and practical application.
URL:https://www.parkgate.church/event/club-kix/2027-04-28/
LOCATION:Parkgate Community Church\, 3715 Preston Avenue\, Pasadena\, TX\, 77505\, United States
CATEGORIES:KiX Children's Ministry
ATTACH;FMTTYPE=image/png:https://www.parkgate.church/wp-content/uploads/2024/07/Club-KiX-Screen.png
END:VEVENT
BEGIN:VEVENT
DTSTART;TZID=America/Chicago:20270428T190000
DTEND;TZID=America/Chicago:20270428T200000
DTSTAMP:20260421T131636
CREATED:20231212T174020Z
LAST-MODIFIED:20231228T023812Z
UID:10002430-1808938800-1808942400@www.parkgate.church
SUMMARY:IMPACT Midweek
DESCRIPTION:Students in 6th – 12th grade are invited to join us for our IMPACT Midweek Gatherings\, from 7 – 8 p.m. on Wednesday nights. During this time\, we hang out with our friends\, play games\, worship\, and dive into God’s Word together.
URL:https://www.parkgate.church/event/impact-midweek/2027-04-28/
LOCATION:Parkgate Community Church\, 3715 Preston Avenue\, Pasadena\, TX\, 77505\, United States
CATEGORIES:IMPACT Student Ministry
ATTACH;FMTTYPE=image/png:https://www.parkgate.church/wp-content/uploads/2023/12/IMPACT-Midweek.png
END:VEVENT
BEGIN:VEVENT
DTSTART;TZID=America/Chicago:20270502T090000
DTEND;TZID=America/Chicago:20270502T101500
DTSTAMP:20260421T131636
CREATED:20231025T073903Z
LAST-MODIFIED:20231212T161518Z
UID:10001251-1809248400-1809252900@www.parkgate.church
SUMMARY:Sundays @ 9 a.m.
DESCRIPTION:On Sundays at 9 a.m.\, we offer: \n\nWorship Service\nSundayLife Gatherings\nKiX Children’s Ministry\nIMPACT Student Ministry
URL:https://www.parkgate.church/event/sundays-9-a-m/2027-05-02/
LOCATION:Parkgate Community Church\, 3715 Preston Avenue\, Pasadena\, TX\, 77505\, United States
CATEGORIES:IMPACT Student Ministry,KiX Children's Ministry,Sunday Mornings,SundayLife
ATTACH;FMTTYPE=image/png:https://www.parkgate.church/wp-content/uploads/2023/10/Sundays-at-9-a.m.png
END:VEVENT
BEGIN:VEVENT
DTSTART;TZID=America/Chicago:20270502T104500
DTEND;TZID=America/Chicago:20270502T120000
DTSTAMP:20260421T131636
CREATED:20231212T161833Z
LAST-MODIFIED:20231212T161833Z
UID:10001518-1809254700-1809259200@www.parkgate.church
SUMMARY:Sundays @ 10:45 a.m.
DESCRIPTION:On Sundays at 10:45 a.m.\, we offer: \n\nWorship Service\nSundayLife Gatherings\nKiX Children’s Ministry\n\nOur students (6th – 12th grades) are invited to participate in our worship service.
URL:https://www.parkgate.church/event/sundays-1045-a-m/2027-05-02/
LOCATION:Parkgate Community Church\, 3715 Preston Avenue\, Pasadena\, TX\, 77505\, United States
CATEGORIES:KiX Children's Ministry,Sunday Mornings,SundayLife
ATTACH;FMTTYPE=image/png:https://www.parkgate.church/wp-content/uploads/2023/12/Sundays-at-1045-a.m.png
END:VEVENT
BEGIN:VEVENT
DTSTART;TZID=America/Chicago:20270502T170000
DTEND;TZID=America/Chicago:20270502T190000
DTSTAMP:20260421T131636
CREATED:20240404T204714Z
LAST-MODIFIED:20240411T212024Z
UID:10002753-1809277200-1809284400@www.parkgate.church
SUMMARY:Young Adult LifeGroup
DESCRIPTION:Join us for an uplifting and engaging gathering tailored for young adults seeking community\, growth\, and faith. Discover a place where you belong and can journey together in faith. For more details\, please reach out to Pastor Kenny at kboggs@parkgate.org.
URL:https://www.parkgate.church/event/young-adult-lifegroup/2027-05-02/
LOCATION:Pastor Kenneth’s House\, La Porte\, TX\, 77571\, United States
CATEGORIES:Adults,LifeGroups
ATTACH;FMTTYPE=image/png:https://www.parkgate.church/wp-content/uploads/2024/04/LifeGroup-Screen.png
END:VEVENT
BEGIN:VEVENT
DTSTART;TZID=America/Chicago:20270505T180000
DTEND;TZID=America/Chicago:20270505T200000
DTSTAMP:20260421T131636
CREATED:20231212T163824Z
LAST-MODIFIED:20240724T195525Z
UID:10001907-1809540000-1809547200@www.parkgate.church
SUMMARY:Fun Night
DESCRIPTION:Join fellow Parkgate adults in the Fellowship Room at 6 p.m. for a time of board games and cards\, fellowship\, and a light meal.
URL:https://www.parkgate.church/event/fellowship-game-night/2027-05-05/
LOCATION:Parkgate Community Church\, 3715 Preston Avenue\, Pasadena\, TX\, 77505\, United States
CATEGORIES:Adults
ATTACH;FMTTYPE=image/png:https://www.parkgate.church/wp-content/uploads/2023/12/Fun-Night-Screen.png
END:VEVENT
BEGIN:VEVENT
DTSTART;TZID=America/Chicago:20270505T190000
DTEND;TZID=America/Chicago:20270505T200000
DTSTAMP:20260421T131636
CREATED:20231212T173720Z
LAST-MODIFIED:20240731T215945Z
UID:10002172-1809543600-1809547200@www.parkgate.church
SUMMARY:Club KiX
DESCRIPTION:Kids age 4 – 5th grade are invited to join us at Club KiX\, a high-energy\, hands-on hour of Bible learning and practical application.
URL:https://www.parkgate.church/event/club-kix/2027-05-05/
LOCATION:Parkgate Community Church\, 3715 Preston Avenue\, Pasadena\, TX\, 77505\, United States
CATEGORIES:KiX Children's Ministry
ATTACH;FMTTYPE=image/png:https://www.parkgate.church/wp-content/uploads/2024/07/Club-KiX-Screen.png
END:VEVENT
BEGIN:VEVENT
DTSTART;TZID=America/Chicago:20270505T190000
DTEND;TZID=America/Chicago:20270505T200000
DTSTAMP:20260421T131636
CREATED:20231212T174020Z
LAST-MODIFIED:20231228T023812Z
UID:10002431-1809543600-1809547200@www.parkgate.church
SUMMARY:IMPACT Midweek
DESCRIPTION:Students in 6th – 12th grade are invited to join us for our IMPACT Midweek Gatherings\, from 7 – 8 p.m. on Wednesday nights. During this time\, we hang out with our friends\, play games\, worship\, and dive into God’s Word together.
URL:https://www.parkgate.church/event/impact-midweek/2027-05-05/
LOCATION:Parkgate Community Church\, 3715 Preston Avenue\, Pasadena\, TX\, 77505\, United States
CATEGORIES:IMPACT Student Ministry
ATTACH;FMTTYPE=image/png:https://www.parkgate.church/wp-content/uploads/2023/12/IMPACT-Midweek.png
END:VEVENT
BEGIN:VEVENT
DTSTART;TZID=America/Chicago:20270509T090000
DTEND;TZID=America/Chicago:20270509T101500
DTSTAMP:20260421T131636
CREATED:20231025T073903Z
LAST-MODIFIED:20231212T161518Z
UID:10001252-1809853200-1809857700@www.parkgate.church
SUMMARY:Sundays @ 9 a.m.
DESCRIPTION:On Sundays at 9 a.m.\, we offer: \n\nWorship Service\nSundayLife Gatherings\nKiX Children’s Ministry\nIMPACT Student Ministry
URL:https://www.parkgate.church/event/sundays-9-a-m/2027-05-09/
LOCATION:Parkgate Community Church\, 3715 Preston Avenue\, Pasadena\, TX\, 77505\, United States
CATEGORIES:IMPACT Student Ministry,KiX Children's Ministry,Sunday Mornings,SundayLife
ATTACH;FMTTYPE=image/png:https://www.parkgate.church/wp-content/uploads/2023/10/Sundays-at-9-a.m.png
END:VEVENT
BEGIN:VEVENT
DTSTART;TZID=America/Chicago:20270509T104500
DTEND;TZID=America/Chicago:20270509T120000
DTSTAMP:20260421T131636
CREATED:20231212T161833Z
LAST-MODIFIED:20231212T161833Z
UID:10001519-1809859500-1809864000@www.parkgate.church
SUMMARY:Sundays @ 10:45 a.m.
DESCRIPTION:On Sundays at 10:45 a.m.\, we offer: \n\nWorship Service\nSundayLife Gatherings\nKiX Children’s Ministry\n\nOur students (6th – 12th grades) are invited to participate in our worship service.
URL:https://www.parkgate.church/event/sundays-1045-a-m/2027-05-09/
LOCATION:Parkgate Community Church\, 3715 Preston Avenue\, Pasadena\, TX\, 77505\, United States
CATEGORIES:KiX Children's Ministry,Sunday Mornings,SundayLife
ATTACH;FMTTYPE=image/png:https://www.parkgate.church/wp-content/uploads/2023/12/Sundays-at-1045-a.m.png
END:VEVENT
BEGIN:VEVENT
DTSTART;TZID=America/Chicago:20270509T170000
DTEND;TZID=America/Chicago:20270509T190000
DTSTAMP:20260421T131636
CREATED:20240404T204714Z
LAST-MODIFIED:20240411T212024Z
UID:10002754-1809882000-1809889200@www.parkgate.church
SUMMARY:Young Adult LifeGroup
DESCRIPTION:Join us for an uplifting and engaging gathering tailored for young adults seeking community\, growth\, and faith. Discover a place where you belong and can journey together in faith. For more details\, please reach out to Pastor Kenny at kboggs@parkgate.org.
URL:https://www.parkgate.church/event/young-adult-lifegroup/2027-05-09/
LOCATION:Pastor Kenneth’s House\, La Porte\, TX\, 77571\, United States
CATEGORIES:Adults,LifeGroups
ATTACH;FMTTYPE=image/png:https://www.parkgate.church/wp-content/uploads/2024/04/LifeGroup-Screen.png
END:VEVENT
BEGIN:VEVENT
DTSTART;TZID=America/Chicago:20270512T190000
DTEND;TZID=America/Chicago:20270512T200000
DTSTAMP:20260421T131636
CREATED:20231212T173720Z
LAST-MODIFIED:20240731T215945Z
UID:10002173-1810148400-1810152000@www.parkgate.church
SUMMARY:Club KiX
DESCRIPTION:Kids age 4 – 5th grade are invited to join us at Club KiX\, a high-energy\, hands-on hour of Bible learning and practical application.
URL:https://www.parkgate.church/event/club-kix/2027-05-12/
LOCATION:Parkgate Community Church\, 3715 Preston Avenue\, Pasadena\, TX\, 77505\, United States
CATEGORIES:KiX Children's Ministry
ATTACH;FMTTYPE=image/png:https://www.parkgate.church/wp-content/uploads/2024/07/Club-KiX-Screen.png
END:VEVENT
BEGIN:VEVENT
DTSTART;TZID=America/Chicago:20270512T190000
DTEND;TZID=America/Chicago:20270512T200000
DTSTAMP:20260421T131636
CREATED:20231212T174020Z
LAST-MODIFIED:20231228T023812Z
UID:10002432-1810148400-1810152000@www.parkgate.church
SUMMARY:IMPACT Midweek
DESCRIPTION:Students in 6th – 12th grade are invited to join us for our IMPACT Midweek Gatherings\, from 7 – 8 p.m. on Wednesday nights. During this time\, we hang out with our friends\, play games\, worship\, and dive into God’s Word together.
URL:https://www.parkgate.church/event/impact-midweek/2027-05-12/
LOCATION:Parkgate Community Church\, 3715 Preston Avenue\, Pasadena\, TX\, 77505\, United States
CATEGORIES:IMPACT Student Ministry
ATTACH;FMTTYPE=image/png:https://www.parkgate.church/wp-content/uploads/2023/12/IMPACT-Midweek.png
END:VEVENT
BEGIN:VEVENT
DTSTART;TZID=America/Chicago:20270513T080000
DTEND;TZID=America/Chicago:20270513T093000
DTSTAMP:20260421T131636
CREATED:20231212T164009Z
LAST-MODIFIED:20231212T164332Z
UID:10001968-1810195200-1810200600@www.parkgate.church
SUMMARY:Men's Breakfast & Fellowship
DESCRIPTION:Men\, you’re invited to join us in the back room at Kelley’s Country Cookin’ on Spencer Highway from 8 – 9:30 a.m. for a time of good food and fellowship.
URL:https://www.parkgate.church/event/mens-breakfast-fellowship/2027-05-13/
LOCATION:Kelley’s Country Cooking\, 7011 Spencer Hwy\, Pasadena\, TX\, 77505\, United States
CATEGORIES:Men
ATTACH;FMTTYPE=image/png:https://www.parkgate.church/wp-content/uploads/2023/12/Mens-Breakfast-Screen-Revised.png
END:VEVENT
BEGIN:VEVENT
DTSTART;TZID=America/Chicago:20270516T090000
DTEND;TZID=America/Chicago:20270516T101500
DTSTAMP:20260421T131636
CREATED:20231025T073903Z
LAST-MODIFIED:20231212T161518Z
UID:10001253-1810458000-1810462500@www.parkgate.church
SUMMARY:Sundays @ 9 a.m.
DESCRIPTION:On Sundays at 9 a.m.\, we offer: \n\nWorship Service\nSundayLife Gatherings\nKiX Children’s Ministry\nIMPACT Student Ministry
URL:https://www.parkgate.church/event/sundays-9-a-m/2027-05-16/
LOCATION:Parkgate Community Church\, 3715 Preston Avenue\, Pasadena\, TX\, 77505\, United States
CATEGORIES:IMPACT Student Ministry,KiX Children's Ministry,Sunday Mornings,SundayLife
ATTACH;FMTTYPE=image/png:https://www.parkgate.church/wp-content/uploads/2023/10/Sundays-at-9-a.m.png
END:VEVENT
BEGIN:VEVENT
DTSTART;TZID=America/Chicago:20270516T104500
DTEND;TZID=America/Chicago:20270516T120000
DTSTAMP:20260421T131636
CREATED:20231212T161833Z
LAST-MODIFIED:20231212T161833Z
UID:10001520-1810464300-1810468800@www.parkgate.church
SUMMARY:Sundays @ 10:45 a.m.
DESCRIPTION:On Sundays at 10:45 a.m.\, we offer: \n\nWorship Service\nSundayLife Gatherings\nKiX Children’s Ministry\n\nOur students (6th – 12th grades) are invited to participate in our worship service.
URL:https://www.parkgate.church/event/sundays-1045-a-m/2027-05-16/
LOCATION:Parkgate Community Church\, 3715 Preston Avenue\, Pasadena\, TX\, 77505\, United States
CATEGORIES:KiX Children's Ministry,Sunday Mornings,SundayLife
ATTACH;FMTTYPE=image/png:https://www.parkgate.church/wp-content/uploads/2023/12/Sundays-at-1045-a.m.png
END:VEVENT
BEGIN:VEVENT
DTSTART;TZID=America/Chicago:20270516T170000
DTEND;TZID=America/Chicago:20270516T190000
DTSTAMP:20260421T131636
CREATED:20240404T204714Z
LAST-MODIFIED:20240411T212024Z
UID:10002755-1810486800-1810494000@www.parkgate.church
SUMMARY:Young Adult LifeGroup
DESCRIPTION:Join us for an uplifting and engaging gathering tailored for young adults seeking community\, growth\, and faith. Discover a place where you belong and can journey together in faith. For more details\, please reach out to Pastor Kenny at kboggs@parkgate.org.
URL:https://www.parkgate.church/event/young-adult-lifegroup/2027-05-16/
LOCATION:Pastor Kenneth’s House\, La Porte\, TX\, 77571\, United States
CATEGORIES:Adults,LifeGroups
ATTACH;FMTTYPE=image/png:https://www.parkgate.church/wp-content/uploads/2024/04/LifeGroup-Screen.png
END:VEVENT
BEGIN:VEVENT
DTSTART;TZID=America/Chicago:20270519T190000
DTEND;TZID=America/Chicago:20270519T200000
DTSTAMP:20260421T131636
CREATED:20231212T173720Z
LAST-MODIFIED:20240731T215945Z
UID:10002174-1810753200-1810756800@www.parkgate.church
SUMMARY:Club KiX
DESCRIPTION:Kids age 4 – 5th grade are invited to join us at Club KiX\, a high-energy\, hands-on hour of Bible learning and practical application.
URL:https://www.parkgate.church/event/club-kix/2027-05-19/
LOCATION:Parkgate Community Church\, 3715 Preston Avenue\, Pasadena\, TX\, 77505\, United States
CATEGORIES:KiX Children's Ministry
ATTACH;FMTTYPE=image/png:https://www.parkgate.church/wp-content/uploads/2024/07/Club-KiX-Screen.png
END:VEVENT
BEGIN:VEVENT
DTSTART;TZID=America/Chicago:20270519T190000
DTEND;TZID=America/Chicago:20270519T200000
DTSTAMP:20260421T131636
CREATED:20231212T174020Z
LAST-MODIFIED:20231228T023812Z
UID:10002433-1810753200-1810756800@www.parkgate.church
SUMMARY:IMPACT Midweek
DESCRIPTION:Students in 6th – 12th grade are invited to join us for our IMPACT Midweek Gatherings\, from 7 – 8 p.m. on Wednesday nights. During this time\, we hang out with our friends\, play games\, worship\, and dive into God’s Word together.
URL:https://www.parkgate.church/event/impact-midweek/2027-05-19/
LOCATION:Parkgate Community Church\, 3715 Preston Avenue\, Pasadena\, TX\, 77505\, United States
CATEGORIES:IMPACT Student Ministry
ATTACH;FMTTYPE=image/png:https://www.parkgate.church/wp-content/uploads/2023/12/IMPACT-Midweek.png
END:VEVENT
BEGIN:VEVENT
DTSTART;TZID=America/Chicago:20270523T090000
DTEND;TZID=America/Chicago:20270523T101500
DTSTAMP:20260421T131636
CREATED:20231025T073903Z
LAST-MODIFIED:20231212T161518Z
UID:10001254-1811062800-1811067300@www.parkgate.church
SUMMARY:Sundays @ 9 a.m.
DESCRIPTION:On Sundays at 9 a.m.\, we offer: \n\nWorship Service\nSundayLife Gatherings\nKiX Children’s Ministry\nIMPACT Student Ministry
URL:https://www.parkgate.church/event/sundays-9-a-m/2027-05-23/
LOCATION:Parkgate Community Church\, 3715 Preston Avenue\, Pasadena\, TX\, 77505\, United States
CATEGORIES:IMPACT Student Ministry,KiX Children's Ministry,Sunday Mornings,SundayLife
ATTACH;FMTTYPE=image/png:https://www.parkgate.church/wp-content/uploads/2023/10/Sundays-at-9-a.m.png
END:VEVENT
BEGIN:VEVENT
DTSTART;TZID=America/Chicago:20270523T104500
DTEND;TZID=America/Chicago:20270523T120000
DTSTAMP:20260421T131636
CREATED:20231212T161833Z
LAST-MODIFIED:20231212T161833Z
UID:10001521-1811069100-1811073600@www.parkgate.church
SUMMARY:Sundays @ 10:45 a.m.
DESCRIPTION:On Sundays at 10:45 a.m.\, we offer: \n\nWorship Service\nSundayLife Gatherings\nKiX Children’s Ministry\n\nOur students (6th – 12th grades) are invited to participate in our worship service.
URL:https://www.parkgate.church/event/sundays-1045-a-m/2027-05-23/
LOCATION:Parkgate Community Church\, 3715 Preston Avenue\, Pasadena\, TX\, 77505\, United States
CATEGORIES:KiX Children's Ministry,Sunday Mornings,SundayLife
ATTACH;FMTTYPE=image/png:https://www.parkgate.church/wp-content/uploads/2023/12/Sundays-at-1045-a.m.png
END:VEVENT
BEGIN:VEVENT
DTSTART;TZID=America/Chicago:20270523T170000
DTEND;TZID=America/Chicago:20270523T190000
DTSTAMP:20260421T131636
CREATED:20240404T204714Z
LAST-MODIFIED:20240411T212024Z
UID:10002756-1811091600-1811098800@www.parkgate.church
SUMMARY:Young Adult LifeGroup
DESCRIPTION:Join us for an uplifting and engaging gathering tailored for young adults seeking community\, growth\, and faith. Discover a place where you belong and can journey together in faith. For more details\, please reach out to Pastor Kenny at kboggs@parkgate.org.
URL:https://www.parkgate.church/event/young-adult-lifegroup/2027-05-23/
LOCATION:Pastor Kenneth’s House\, La Porte\, TX\, 77571\, United States
CATEGORIES:Adults,LifeGroups
ATTACH;FMTTYPE=image/png:https://www.parkgate.church/wp-content/uploads/2024/04/LifeGroup-Screen.png
END:VEVENT
BEGIN:VEVENT
DTSTART;TZID=America/Chicago:20270526T190000
DTEND;TZID=America/Chicago:20270526T200000
DTSTAMP:20260421T131636
CREATED:20231212T173720Z
LAST-MODIFIED:20240731T215945Z
UID:10002175-1811358000-1811361600@www.parkgate.church
SUMMARY:Club KiX
DESCRIPTION:Kids age 4 – 5th grade are invited to join us at Club KiX\, a high-energy\, hands-on hour of Bible learning and practical application.
URL:https://www.parkgate.church/event/club-kix/2027-05-26/
LOCATION:Parkgate Community Church\, 3715 Preston Avenue\, Pasadena\, TX\, 77505\, United States
CATEGORIES:KiX Children's Ministry
ATTACH;FMTTYPE=image/png:https://www.parkgate.church/wp-content/uploads/2024/07/Club-KiX-Screen.png
END:VEVENT
BEGIN:VEVENT
DTSTART;TZID=America/Chicago:20270526T190000
DTEND;TZID=America/Chicago:20270526T200000
DTSTAMP:20260421T131636
CREATED:20231212T174020Z
LAST-MODIFIED:20231228T023812Z
UID:10002434-1811358000-1811361600@www.parkgate.church
SUMMARY:IMPACT Midweek
DESCRIPTION:Students in 6th – 12th grade are invited to join us for our IMPACT Midweek Gatherings\, from 7 – 8 p.m. on Wednesday nights. During this time\, we hang out with our friends\, play games\, worship\, and dive into God’s Word together.
URL:https://www.parkgate.church/event/impact-midweek/2027-05-26/
LOCATION:Parkgate Community Church\, 3715 Preston Avenue\, Pasadena\, TX\, 77505\, United States
CATEGORIES:IMPACT Student Ministry
ATTACH;FMTTYPE=image/png:https://www.parkgate.church/wp-content/uploads/2023/12/IMPACT-Midweek.png
END:VEVENT
BEGIN:VEVENT
DTSTART;TZID=America/Chicago:20270530T090000
DTEND;TZID=America/Chicago:20270530T101500
DTSTAMP:20260421T131636
CREATED:20231025T073903Z
LAST-MODIFIED:20231212T161518Z
UID:10001255-1811667600-1811672100@www.parkgate.church
SUMMARY:Sundays @ 9 a.m.
DESCRIPTION:On Sundays at 9 a.m.\, we offer: \n\nWorship Service\nSundayLife Gatherings\nKiX Children’s Ministry\nIMPACT Student Ministry
URL:https://www.parkgate.church/event/sundays-9-a-m/2027-05-30/
LOCATION:Parkgate Community Church\, 3715 Preston Avenue\, Pasadena\, TX\, 77505\, United States
CATEGORIES:IMPACT Student Ministry,KiX Children's Ministry,Sunday Mornings,SundayLife
ATTACH;FMTTYPE=image/png:https://www.parkgate.church/wp-content/uploads/2023/10/Sundays-at-9-a.m.png
END:VEVENT
BEGIN:VEVENT
DTSTART;TZID=America/Chicago:20270530T104500
DTEND;TZID=America/Chicago:20270530T120000
DTSTAMP:20260421T131636
CREATED:20231212T161833Z
LAST-MODIFIED:20231212T161833Z
UID:10001522-1811673900-1811678400@www.parkgate.church
SUMMARY:Sundays @ 10:45 a.m.
DESCRIPTION:On Sundays at 10:45 a.m.\, we offer: \n\nWorship Service\nSundayLife Gatherings\nKiX Children’s Ministry\n\nOur students (6th – 12th grades) are invited to participate in our worship service.
URL:https://www.parkgate.church/event/sundays-1045-a-m/2027-05-30/
LOCATION:Parkgate Community Church\, 3715 Preston Avenue\, Pasadena\, TX\, 77505\, United States
CATEGORIES:KiX Children's Ministry,Sunday Mornings,SundayLife
ATTACH;FMTTYPE=image/png:https://www.parkgate.church/wp-content/uploads/2023/12/Sundays-at-1045-a.m.png
END:VEVENT
BEGIN:VEVENT
DTSTART;TZID=America/Chicago:20270530T170000
DTEND;TZID=America/Chicago:20270530T190000
DTSTAMP:20260421T131636
CREATED:20240404T204714Z
LAST-MODIFIED:20240411T212024Z
UID:10002757-1811696400-1811703600@www.parkgate.church
SUMMARY:Young Adult LifeGroup
DESCRIPTION:Join us for an uplifting and engaging gathering tailored for young adults seeking community\, growth\, and faith. Discover a place where you belong and can journey together in faith. For more details\, please reach out to Pastor Kenny at kboggs@parkgate.org.
URL:https://www.parkgate.church/event/young-adult-lifegroup/2027-05-30/
LOCATION:Pastor Kenneth’s House\, La Porte\, TX\, 77571\, United States
CATEGORIES:Adults,LifeGroups
ATTACH;FMTTYPE=image/png:https://www.parkgate.church/wp-content/uploads/2024/04/LifeGroup-Screen.png
END:VEVENT
BEGIN:VEVENT
DTSTART;TZID=America/Chicago:20270602T180000
DTEND;TZID=America/Chicago:20270602T200000
DTSTAMP:20260421T131636
CREATED:20231212T163824Z
LAST-MODIFIED:20240724T195525Z
UID:10001908-1811959200-1811966400@www.parkgate.church
SUMMARY:Fun Night
DESCRIPTION:Join fellow Parkgate adults in the Fellowship Room at 6 p.m. for a time of board games and cards\, fellowship\, and a light meal.
URL:https://www.parkgate.church/event/fellowship-game-night/2027-06-02/
LOCATION:Parkgate Community Church\, 3715 Preston Avenue\, Pasadena\, TX\, 77505\, United States
CATEGORIES:Adults
ATTACH;FMTTYPE=image/png:https://www.parkgate.church/wp-content/uploads/2023/12/Fun-Night-Screen.png
END:VEVENT
BEGIN:VEVENT
DTSTART;TZID=America/Chicago:20270602T190000
DTEND;TZID=America/Chicago:20270602T200000
DTSTAMP:20260421T131636
CREATED:20231212T173720Z
LAST-MODIFIED:20240731T215945Z
UID:10002176-1811962800-1811966400@www.parkgate.church
SUMMARY:Club KiX
DESCRIPTION:Kids age 4 – 5th grade are invited to join us at Club KiX\, a high-energy\, hands-on hour of Bible learning and practical application.
URL:https://www.parkgate.church/event/club-kix/2027-06-02/
LOCATION:Parkgate Community Church\, 3715 Preston Avenue\, Pasadena\, TX\, 77505\, United States
CATEGORIES:KiX Children's Ministry
ATTACH;FMTTYPE=image/png:https://www.parkgate.church/wp-content/uploads/2024/07/Club-KiX-Screen.png
END:VEVENT
BEGIN:VEVENT
DTSTART;TZID=America/Chicago:20270602T190000
DTEND;TZID=America/Chicago:20270602T200000
DTSTAMP:20260421T131636
CREATED:20231212T174020Z
LAST-MODIFIED:20231228T023812Z
UID:10002435-1811962800-1811966400@www.parkgate.church
SUMMARY:IMPACT Midweek
DESCRIPTION:Students in 6th – 12th grade are invited to join us for our IMPACT Midweek Gatherings\, from 7 – 8 p.m. on Wednesday nights. During this time\, we hang out with our friends\, play games\, worship\, and dive into God’s Word together.
URL:https://www.parkgate.church/event/impact-midweek/2027-06-02/
LOCATION:Parkgate Community Church\, 3715 Preston Avenue\, Pasadena\, TX\, 77505\, United States
CATEGORIES:IMPACT Student Ministry
ATTACH;FMTTYPE=image/png:https://www.parkgate.church/wp-content/uploads/2023/12/IMPACT-Midweek.png
END:VEVENT
END:VCALENDAR