BEGIN:VCALENDAR
VERSION:2.0
PRODID:-//Parkgate Community Church - ECPv6.15.20//NONSGML v1.0//EN
CALSCALE:GREGORIAN
METHOD:PUBLISH
X-ORIGINAL-URL:https://www.parkgate.church
X-WR-CALDESC:Events for Parkgate Community Church
REFRESH-INTERVAL;VALUE=DURATION:PT1H
X-Robots-Tag:noindex
X-PUBLISHED-TTL:PT1H
BEGIN:VTIMEZONE
TZID:America/Chicago
BEGIN:DAYLIGHT
TZOFFSETFROM:-0600
TZOFFSETTO:-0500
TZNAME:CDT
DTSTART:20260308T080000
END:DAYLIGHT
BEGIN:STANDARD
TZOFFSETFROM:-0500
TZOFFSETTO:-0600
TZNAME:CST
DTSTART:20261101T070000
END:STANDARD
BEGIN:DAYLIGHT
TZOFFSETFROM:-0600
TZOFFSETTO:-0500
TZNAME:CDT
DTSTART:20270314T080000
END:DAYLIGHT
BEGIN:STANDARD
TZOFFSETFROM:-0500
TZOFFSETTO:-0600
TZNAME:CST
DTSTART:20271107T070000
END:STANDARD
BEGIN:DAYLIGHT
TZOFFSETFROM:-0600
TZOFFSETTO:-0500
TZNAME:CDT
DTSTART:20280312T080000
END:DAYLIGHT
BEGIN:STANDARD
TZOFFSETFROM:-0500
TZOFFSETTO:-0600
TZNAME:CST
DTSTART:20281105T070000
END:STANDARD
END:VTIMEZONE
BEGIN:VEVENT
DTSTART;TZID=America/Chicago:20270704T090000
DTEND;TZID=America/Chicago:20270704T101500
DTSTAMP:20260423T043007
CREATED:20231025T073903Z
LAST-MODIFIED:20231212T161518Z
UID:10001260-1814691600-1814696100@www.parkgate.church
SUMMARY:Sundays @ 9 a.m.
DESCRIPTION:On Sundays at 9 a.m.\, we offer: \n\nWorship Service\nSundayLife Gatherings\nKiX Children’s Ministry\nIMPACT Student Ministry
URL:https://www.parkgate.church/event/sundays-9-a-m/2027-07-04/
LOCATION:Parkgate Community Church\, 3715 Preston Avenue\, Pasadena\, TX\, 77505\, United States
CATEGORIES:IMPACT Student Ministry,KiX Children's Ministry,Sunday Mornings,SundayLife
ATTACH;FMTTYPE=image/png:https://www.parkgate.church/wp-content/uploads/2023/10/Sundays-at-9-a.m.png
END:VEVENT
BEGIN:VEVENT
DTSTART;TZID=America/Chicago:20270704T104500
DTEND;TZID=America/Chicago:20270704T120000
DTSTAMP:20260423T043007
CREATED:20231212T161833Z
LAST-MODIFIED:20231212T161833Z
UID:10001527-1814697900-1814702400@www.parkgate.church
SUMMARY:Sundays @ 10:45 a.m.
DESCRIPTION:On Sundays at 10:45 a.m.\, we offer: \n\nWorship Service\nSundayLife Gatherings\nKiX Children’s Ministry\n\nOur students (6th – 12th grades) are invited to participate in our worship service.
URL:https://www.parkgate.church/event/sundays-1045-a-m/2027-07-04/
LOCATION:Parkgate Community Church\, 3715 Preston Avenue\, Pasadena\, TX\, 77505\, United States
CATEGORIES:KiX Children's Ministry,Sunday Mornings,SundayLife
ATTACH;FMTTYPE=image/png:https://www.parkgate.church/wp-content/uploads/2023/12/Sundays-at-1045-a.m.png
END:VEVENT
BEGIN:VEVENT
DTSTART;TZID=America/Chicago:20270704T170000
DTEND;TZID=America/Chicago:20270704T190000
DTSTAMP:20260423T043007
CREATED:20240404T204714Z
LAST-MODIFIED:20240411T212024Z
UID:10002762-1814720400-1814727600@www.parkgate.church
SUMMARY:Young Adult LifeGroup
DESCRIPTION:Join us for an uplifting and engaging gathering tailored for young adults seeking community\, growth\, and faith. Discover a place where you belong and can journey together in faith. For more details\, please reach out to Pastor Kenny at kboggs@parkgate.org.
URL:https://www.parkgate.church/event/young-adult-lifegroup/2027-07-04/
LOCATION:Pastor Kenneth’s House\, La Porte\, TX\, 77571\, United States
CATEGORIES:Adults,LifeGroups
ATTACH;FMTTYPE=image/png:https://www.parkgate.church/wp-content/uploads/2024/04/LifeGroup-Screen.png
END:VEVENT
BEGIN:VEVENT
DTSTART;TZID=America/Chicago:20270707T180000
DTEND;TZID=America/Chicago:20270707T200000
DTSTAMP:20260423T043007
CREATED:20231212T163824Z
LAST-MODIFIED:20240724T195525Z
UID:10001909-1814983200-1814990400@www.parkgate.church
SUMMARY:Fun Night
DESCRIPTION:Join fellow Parkgate adults in the Fellowship Room at 6 p.m. for a time of board games and cards\, fellowship\, and a light meal.
URL:https://www.parkgate.church/event/fellowship-game-night/2027-07-07/
LOCATION:Parkgate Community Church\, 3715 Preston Avenue\, Pasadena\, TX\, 77505\, United States
CATEGORIES:Adults
ATTACH;FMTTYPE=image/png:https://www.parkgate.church/wp-content/uploads/2023/12/Fun-Night-Screen.png
END:VEVENT
BEGIN:VEVENT
DTSTART;TZID=America/Chicago:20270707T190000
DTEND;TZID=America/Chicago:20270707T200000
DTSTAMP:20260423T043007
CREATED:20231212T173720Z
LAST-MODIFIED:20240731T215945Z
UID:10002181-1814986800-1814990400@www.parkgate.church
SUMMARY:Club KiX
DESCRIPTION:Kids age 4 – 5th grade are invited to join us at Club KiX\, a high-energy\, hands-on hour of Bible learning and practical application.
URL:https://www.parkgate.church/event/club-kix/2027-07-07/
LOCATION:Parkgate Community Church\, 3715 Preston Avenue\, Pasadena\, TX\, 77505\, United States
CATEGORIES:KiX Children's Ministry
ATTACH;FMTTYPE=image/png:https://www.parkgate.church/wp-content/uploads/2024/07/Club-KiX-Screen.png
END:VEVENT
BEGIN:VEVENT
DTSTART;TZID=America/Chicago:20270707T190000
DTEND;TZID=America/Chicago:20270707T200000
DTSTAMP:20260423T043007
CREATED:20231212T174020Z
LAST-MODIFIED:20231228T023812Z
UID:10002440-1814986800-1814990400@www.parkgate.church
SUMMARY:IMPACT Midweek
DESCRIPTION:Students in 6th – 12th grade are invited to join us for our IMPACT Midweek Gatherings\, from 7 – 8 p.m. on Wednesday nights. During this time\, we hang out with our friends\, play games\, worship\, and dive into God’s Word together.
URL:https://www.parkgate.church/event/impact-midweek/2027-07-07/
LOCATION:Parkgate Community Church\, 3715 Preston Avenue\, Pasadena\, TX\, 77505\, United States
CATEGORIES:IMPACT Student Ministry
ATTACH;FMTTYPE=image/png:https://www.parkgate.church/wp-content/uploads/2023/12/IMPACT-Midweek.png
END:VEVENT
BEGIN:VEVENT
DTSTART;TZID=America/Chicago:20270708T080000
DTEND;TZID=America/Chicago:20270708T093000
DTSTAMP:20260423T043007
CREATED:20231212T164009Z
LAST-MODIFIED:20231212T164332Z
UID:10001970-1815033600-1815039000@www.parkgate.church
SUMMARY:Men's Breakfast & Fellowship
DESCRIPTION:Men\, you’re invited to join us in the back room at Kelley’s Country Cookin’ on Spencer Highway from 8 – 9:30 a.m. for a time of good food and fellowship.
URL:https://www.parkgate.church/event/mens-breakfast-fellowship/2027-07-08/
LOCATION:Kelley’s Country Cooking\, 7011 Spencer Hwy\, Pasadena\, TX\, 77505\, United States
CATEGORIES:Men
ATTACH;FMTTYPE=image/png:https://www.parkgate.church/wp-content/uploads/2023/12/Mens-Breakfast-Screen-Revised.png
END:VEVENT
BEGIN:VEVENT
DTSTART;TZID=America/Chicago:20270711T090000
DTEND;TZID=America/Chicago:20270711T101500
DTSTAMP:20260423T043007
CREATED:20231025T073903Z
LAST-MODIFIED:20231212T161518Z
UID:10001261-1815296400-1815300900@www.parkgate.church
SUMMARY:Sundays @ 9 a.m.
DESCRIPTION:On Sundays at 9 a.m.\, we offer: \n\nWorship Service\nSundayLife Gatherings\nKiX Children’s Ministry\nIMPACT Student Ministry
URL:https://www.parkgate.church/event/sundays-9-a-m/2027-07-11/
LOCATION:Parkgate Community Church\, 3715 Preston Avenue\, Pasadena\, TX\, 77505\, United States
CATEGORIES:IMPACT Student Ministry,KiX Children's Ministry,Sunday Mornings,SundayLife
ATTACH;FMTTYPE=image/png:https://www.parkgate.church/wp-content/uploads/2023/10/Sundays-at-9-a.m.png
END:VEVENT
BEGIN:VEVENT
DTSTART;TZID=America/Chicago:20270711T104500
DTEND;TZID=America/Chicago:20270711T120000
DTSTAMP:20260423T043007
CREATED:20231212T161833Z
LAST-MODIFIED:20231212T161833Z
UID:10001528-1815302700-1815307200@www.parkgate.church
SUMMARY:Sundays @ 10:45 a.m.
DESCRIPTION:On Sundays at 10:45 a.m.\, we offer: \n\nWorship Service\nSundayLife Gatherings\nKiX Children’s Ministry\n\nOur students (6th – 12th grades) are invited to participate in our worship service.
URL:https://www.parkgate.church/event/sundays-1045-a-m/2027-07-11/
LOCATION:Parkgate Community Church\, 3715 Preston Avenue\, Pasadena\, TX\, 77505\, United States
CATEGORIES:KiX Children's Ministry,Sunday Mornings,SundayLife
ATTACH;FMTTYPE=image/png:https://www.parkgate.church/wp-content/uploads/2023/12/Sundays-at-1045-a.m.png
END:VEVENT
BEGIN:VEVENT
DTSTART;TZID=America/Chicago:20270711T170000
DTEND;TZID=America/Chicago:20270711T190000
DTSTAMP:20260423T043007
CREATED:20240404T204714Z
LAST-MODIFIED:20240411T212024Z
UID:10002763-1815325200-1815332400@www.parkgate.church
SUMMARY:Young Adult LifeGroup
DESCRIPTION:Join us for an uplifting and engaging gathering tailored for young adults seeking community\, growth\, and faith. Discover a place where you belong and can journey together in faith. For more details\, please reach out to Pastor Kenny at kboggs@parkgate.org.
URL:https://www.parkgate.church/event/young-adult-lifegroup/2027-07-11/
LOCATION:Pastor Kenneth’s House\, La Porte\, TX\, 77571\, United States
CATEGORIES:Adults,LifeGroups
ATTACH;FMTTYPE=image/png:https://www.parkgate.church/wp-content/uploads/2024/04/LifeGroup-Screen.png
END:VEVENT
BEGIN:VEVENT
DTSTART;TZID=America/Chicago:20270714T190000
DTEND;TZID=America/Chicago:20270714T200000
DTSTAMP:20260423T043007
CREATED:20231212T173720Z
LAST-MODIFIED:20240731T215945Z
UID:10002182-1815591600-1815595200@www.parkgate.church
SUMMARY:Club KiX
DESCRIPTION:Kids age 4 – 5th grade are invited to join us at Club KiX\, a high-energy\, hands-on hour of Bible learning and practical application.
URL:https://www.parkgate.church/event/club-kix/2027-07-14/
LOCATION:Parkgate Community Church\, 3715 Preston Avenue\, Pasadena\, TX\, 77505\, United States
CATEGORIES:KiX Children's Ministry
ATTACH;FMTTYPE=image/png:https://www.parkgate.church/wp-content/uploads/2024/07/Club-KiX-Screen.png
END:VEVENT
BEGIN:VEVENT
DTSTART;TZID=America/Chicago:20270714T190000
DTEND;TZID=America/Chicago:20270714T200000
DTSTAMP:20260423T043007
CREATED:20231212T174020Z
LAST-MODIFIED:20231228T023812Z
UID:10002441-1815591600-1815595200@www.parkgate.church
SUMMARY:IMPACT Midweek
DESCRIPTION:Students in 6th – 12th grade are invited to join us for our IMPACT Midweek Gatherings\, from 7 – 8 p.m. on Wednesday nights. During this time\, we hang out with our friends\, play games\, worship\, and dive into God’s Word together.
URL:https://www.parkgate.church/event/impact-midweek/2027-07-14/
LOCATION:Parkgate Community Church\, 3715 Preston Avenue\, Pasadena\, TX\, 77505\, United States
CATEGORIES:IMPACT Student Ministry
ATTACH;FMTTYPE=image/png:https://www.parkgate.church/wp-content/uploads/2023/12/IMPACT-Midweek.png
END:VEVENT
BEGIN:VEVENT
DTSTART;TZID=America/Chicago:20270718T090000
DTEND;TZID=America/Chicago:20270718T101500
DTSTAMP:20260423T043007
CREATED:20231025T073903Z
LAST-MODIFIED:20231212T161518Z
UID:10001262-1815901200-1815905700@www.parkgate.church
SUMMARY:Sundays @ 9 a.m.
DESCRIPTION:On Sundays at 9 a.m.\, we offer: \n\nWorship Service\nSundayLife Gatherings\nKiX Children’s Ministry\nIMPACT Student Ministry
URL:https://www.parkgate.church/event/sundays-9-a-m/2027-07-18/
LOCATION:Parkgate Community Church\, 3715 Preston Avenue\, Pasadena\, TX\, 77505\, United States
CATEGORIES:IMPACT Student Ministry,KiX Children's Ministry,Sunday Mornings,SundayLife
ATTACH;FMTTYPE=image/png:https://www.parkgate.church/wp-content/uploads/2023/10/Sundays-at-9-a.m.png
END:VEVENT
BEGIN:VEVENT
DTSTART;TZID=America/Chicago:20270718T104500
DTEND;TZID=America/Chicago:20270718T120000
DTSTAMP:20260423T043007
CREATED:20231212T161833Z
LAST-MODIFIED:20231212T161833Z
UID:10001529-1815907500-1815912000@www.parkgate.church
SUMMARY:Sundays @ 10:45 a.m.
DESCRIPTION:On Sundays at 10:45 a.m.\, we offer: \n\nWorship Service\nSundayLife Gatherings\nKiX Children’s Ministry\n\nOur students (6th – 12th grades) are invited to participate in our worship service.
URL:https://www.parkgate.church/event/sundays-1045-a-m/2027-07-18/
LOCATION:Parkgate Community Church\, 3715 Preston Avenue\, Pasadena\, TX\, 77505\, United States
CATEGORIES:KiX Children's Ministry,Sunday Mornings,SundayLife
ATTACH;FMTTYPE=image/png:https://www.parkgate.church/wp-content/uploads/2023/12/Sundays-at-1045-a.m.png
END:VEVENT
BEGIN:VEVENT
DTSTART;TZID=America/Chicago:20270718T170000
DTEND;TZID=America/Chicago:20270718T190000
DTSTAMP:20260423T043007
CREATED:20240404T204714Z
LAST-MODIFIED:20240411T212024Z
UID:10002764-1815930000-1815937200@www.parkgate.church
SUMMARY:Young Adult LifeGroup
DESCRIPTION:Join us for an uplifting and engaging gathering tailored for young adults seeking community\, growth\, and faith. Discover a place where you belong and can journey together in faith. For more details\, please reach out to Pastor Kenny at kboggs@parkgate.org.
URL:https://www.parkgate.church/event/young-adult-lifegroup/2027-07-18/
LOCATION:Pastor Kenneth’s House\, La Porte\, TX\, 77571\, United States
CATEGORIES:Adults,LifeGroups
ATTACH;FMTTYPE=image/png:https://www.parkgate.church/wp-content/uploads/2024/04/LifeGroup-Screen.png
END:VEVENT
BEGIN:VEVENT
DTSTART;TZID=America/Chicago:20270721T190000
DTEND;TZID=America/Chicago:20270721T200000
DTSTAMP:20260423T043007
CREATED:20231212T173720Z
LAST-MODIFIED:20240731T215945Z
UID:10002183-1816196400-1816200000@www.parkgate.church
SUMMARY:Club KiX
DESCRIPTION:Kids age 4 – 5th grade are invited to join us at Club KiX\, a high-energy\, hands-on hour of Bible learning and practical application.
URL:https://www.parkgate.church/event/club-kix/2027-07-21/
LOCATION:Parkgate Community Church\, 3715 Preston Avenue\, Pasadena\, TX\, 77505\, United States
CATEGORIES:KiX Children's Ministry
ATTACH;FMTTYPE=image/png:https://www.parkgate.church/wp-content/uploads/2024/07/Club-KiX-Screen.png
END:VEVENT
BEGIN:VEVENT
DTSTART;TZID=America/Chicago:20270721T190000
DTEND;TZID=America/Chicago:20270721T200000
DTSTAMP:20260423T043007
CREATED:20231212T174020Z
LAST-MODIFIED:20231228T023812Z
UID:10002442-1816196400-1816200000@www.parkgate.church
SUMMARY:IMPACT Midweek
DESCRIPTION:Students in 6th – 12th grade are invited to join us for our IMPACT Midweek Gatherings\, from 7 – 8 p.m. on Wednesday nights. During this time\, we hang out with our friends\, play games\, worship\, and dive into God’s Word together.
URL:https://www.parkgate.church/event/impact-midweek/2027-07-21/
LOCATION:Parkgate Community Church\, 3715 Preston Avenue\, Pasadena\, TX\, 77505\, United States
CATEGORIES:IMPACT Student Ministry
ATTACH;FMTTYPE=image/png:https://www.parkgate.church/wp-content/uploads/2023/12/IMPACT-Midweek.png
END:VEVENT
BEGIN:VEVENT
DTSTART;TZID=America/Chicago:20270725T090000
DTEND;TZID=America/Chicago:20270725T101500
DTSTAMP:20260423T043007
CREATED:20231025T073903Z
LAST-MODIFIED:20231212T161518Z
UID:10001263-1816506000-1816510500@www.parkgate.church
SUMMARY:Sundays @ 9 a.m.
DESCRIPTION:On Sundays at 9 a.m.\, we offer: \n\nWorship Service\nSundayLife Gatherings\nKiX Children’s Ministry\nIMPACT Student Ministry
URL:https://www.parkgate.church/event/sundays-9-a-m/2027-07-25/
LOCATION:Parkgate Community Church\, 3715 Preston Avenue\, Pasadena\, TX\, 77505\, United States
CATEGORIES:IMPACT Student Ministry,KiX Children's Ministry,Sunday Mornings,SundayLife
ATTACH;FMTTYPE=image/png:https://www.parkgate.church/wp-content/uploads/2023/10/Sundays-at-9-a.m.png
END:VEVENT
BEGIN:VEVENT
DTSTART;TZID=America/Chicago:20270725T104500
DTEND;TZID=America/Chicago:20270725T120000
DTSTAMP:20260423T043007
CREATED:20231212T161833Z
LAST-MODIFIED:20231212T161833Z
UID:10001530-1816512300-1816516800@www.parkgate.church
SUMMARY:Sundays @ 10:45 a.m.
DESCRIPTION:On Sundays at 10:45 a.m.\, we offer: \n\nWorship Service\nSundayLife Gatherings\nKiX Children’s Ministry\n\nOur students (6th – 12th grades) are invited to participate in our worship service.
URL:https://www.parkgate.church/event/sundays-1045-a-m/2027-07-25/
LOCATION:Parkgate Community Church\, 3715 Preston Avenue\, Pasadena\, TX\, 77505\, United States
CATEGORIES:KiX Children's Ministry,Sunday Mornings,SundayLife
ATTACH;FMTTYPE=image/png:https://www.parkgate.church/wp-content/uploads/2023/12/Sundays-at-1045-a.m.png
END:VEVENT
BEGIN:VEVENT
DTSTART;TZID=America/Chicago:20270725T170000
DTEND;TZID=America/Chicago:20270725T190000
DTSTAMP:20260423T043007
CREATED:20240404T204714Z
LAST-MODIFIED:20240411T212024Z
UID:10002765-1816534800-1816542000@www.parkgate.church
SUMMARY:Young Adult LifeGroup
DESCRIPTION:Join us for an uplifting and engaging gathering tailored for young adults seeking community\, growth\, and faith. Discover a place where you belong and can journey together in faith. For more details\, please reach out to Pastor Kenny at kboggs@parkgate.org.
URL:https://www.parkgate.church/event/young-adult-lifegroup/2027-07-25/
LOCATION:Pastor Kenneth’s House\, La Porte\, TX\, 77571\, United States
CATEGORIES:Adults,LifeGroups
ATTACH;FMTTYPE=image/png:https://www.parkgate.church/wp-content/uploads/2024/04/LifeGroup-Screen.png
END:VEVENT
BEGIN:VEVENT
DTSTART;TZID=America/Chicago:20270728T190000
DTEND;TZID=America/Chicago:20270728T200000
DTSTAMP:20260423T043007
CREATED:20231212T173720Z
LAST-MODIFIED:20240731T215945Z
UID:10002184-1816801200-1816804800@www.parkgate.church
SUMMARY:Club KiX
DESCRIPTION:Kids age 4 – 5th grade are invited to join us at Club KiX\, a high-energy\, hands-on hour of Bible learning and practical application.
URL:https://www.parkgate.church/event/club-kix/2027-07-28/
LOCATION:Parkgate Community Church\, 3715 Preston Avenue\, Pasadena\, TX\, 77505\, United States
CATEGORIES:KiX Children's Ministry
ATTACH;FMTTYPE=image/png:https://www.parkgate.church/wp-content/uploads/2024/07/Club-KiX-Screen.png
END:VEVENT
BEGIN:VEVENT
DTSTART;TZID=America/Chicago:20270728T190000
DTEND;TZID=America/Chicago:20270728T200000
DTSTAMP:20260423T043007
CREATED:20231212T174020Z
LAST-MODIFIED:20231228T023812Z
UID:10002443-1816801200-1816804800@www.parkgate.church
SUMMARY:IMPACT Midweek
DESCRIPTION:Students in 6th – 12th grade are invited to join us for our IMPACT Midweek Gatherings\, from 7 – 8 p.m. on Wednesday nights. During this time\, we hang out with our friends\, play games\, worship\, and dive into God’s Word together.
URL:https://www.parkgate.church/event/impact-midweek/2027-07-28/
LOCATION:Parkgate Community Church\, 3715 Preston Avenue\, Pasadena\, TX\, 77505\, United States
CATEGORIES:IMPACT Student Ministry
ATTACH;FMTTYPE=image/png:https://www.parkgate.church/wp-content/uploads/2023/12/IMPACT-Midweek.png
END:VEVENT
BEGIN:VEVENT
DTSTART;TZID=America/Chicago:20270801T090000
DTEND;TZID=America/Chicago:20270801T101500
DTSTAMP:20260423T043007
CREATED:20231025T073903Z
LAST-MODIFIED:20231212T161518Z
UID:10001264-1817110800-1817115300@www.parkgate.church
SUMMARY:Sundays @ 9 a.m.
DESCRIPTION:On Sundays at 9 a.m.\, we offer: \n\nWorship Service\nSundayLife Gatherings\nKiX Children’s Ministry\nIMPACT Student Ministry
URL:https://www.parkgate.church/event/sundays-9-a-m/2027-08-01/
LOCATION:Parkgate Community Church\, 3715 Preston Avenue\, Pasadena\, TX\, 77505\, United States
CATEGORIES:IMPACT Student Ministry,KiX Children's Ministry,Sunday Mornings,SundayLife
ATTACH;FMTTYPE=image/png:https://www.parkgate.church/wp-content/uploads/2023/10/Sundays-at-9-a.m.png
END:VEVENT
BEGIN:VEVENT
DTSTART;TZID=America/Chicago:20270801T104500
DTEND;TZID=America/Chicago:20270801T120000
DTSTAMP:20260423T043007
CREATED:20231212T161833Z
LAST-MODIFIED:20231212T161833Z
UID:10001531-1817117100-1817121600@www.parkgate.church
SUMMARY:Sundays @ 10:45 a.m.
DESCRIPTION:On Sundays at 10:45 a.m.\, we offer: \n\nWorship Service\nSundayLife Gatherings\nKiX Children’s Ministry\n\nOur students (6th – 12th grades) are invited to participate in our worship service.
URL:https://www.parkgate.church/event/sundays-1045-a-m/2027-08-01/
LOCATION:Parkgate Community Church\, 3715 Preston Avenue\, Pasadena\, TX\, 77505\, United States
CATEGORIES:KiX Children's Ministry,Sunday Mornings,SundayLife
ATTACH;FMTTYPE=image/png:https://www.parkgate.church/wp-content/uploads/2023/12/Sundays-at-1045-a.m.png
END:VEVENT
BEGIN:VEVENT
DTSTART;TZID=America/Chicago:20270801T170000
DTEND;TZID=America/Chicago:20270801T190000
DTSTAMP:20260423T043007
CREATED:20240404T204714Z
LAST-MODIFIED:20240411T212024Z
UID:10002766-1817139600-1817146800@www.parkgate.church
SUMMARY:Young Adult LifeGroup
DESCRIPTION:Join us for an uplifting and engaging gathering tailored for young adults seeking community\, growth\, and faith. Discover a place where you belong and can journey together in faith. For more details\, please reach out to Pastor Kenny at kboggs@parkgate.org.
URL:https://www.parkgate.church/event/young-adult-lifegroup/2027-08-01/
LOCATION:Pastor Kenneth’s House\, La Porte\, TX\, 77571\, United States
CATEGORIES:Adults,LifeGroups
ATTACH;FMTTYPE=image/png:https://www.parkgate.church/wp-content/uploads/2024/04/LifeGroup-Screen.png
END:VEVENT
BEGIN:VEVENT
DTSTART;TZID=America/Chicago:20270804T180000
DTEND;TZID=America/Chicago:20270804T200000
DTSTAMP:20260423T043007
CREATED:20231212T163824Z
LAST-MODIFIED:20240724T195525Z
UID:10001910-1817402400-1817409600@www.parkgate.church
SUMMARY:Fun Night
DESCRIPTION:Join fellow Parkgate adults in the Fellowship Room at 6 p.m. for a time of board games and cards\, fellowship\, and a light meal.
URL:https://www.parkgate.church/event/fellowship-game-night/2027-08-04/
LOCATION:Parkgate Community Church\, 3715 Preston Avenue\, Pasadena\, TX\, 77505\, United States
CATEGORIES:Adults
ATTACH;FMTTYPE=image/png:https://www.parkgate.church/wp-content/uploads/2023/12/Fun-Night-Screen.png
END:VEVENT
BEGIN:VEVENT
DTSTART;TZID=America/Chicago:20270804T190000
DTEND;TZID=America/Chicago:20270804T200000
DTSTAMP:20260423T043007
CREATED:20231212T173720Z
LAST-MODIFIED:20240731T215945Z
UID:10002185-1817406000-1817409600@www.parkgate.church
SUMMARY:Club KiX
DESCRIPTION:Kids age 4 – 5th grade are invited to join us at Club KiX\, a high-energy\, hands-on hour of Bible learning and practical application.
URL:https://www.parkgate.church/event/club-kix/2027-08-04/
LOCATION:Parkgate Community Church\, 3715 Preston Avenue\, Pasadena\, TX\, 77505\, United States
CATEGORIES:KiX Children's Ministry
ATTACH;FMTTYPE=image/png:https://www.parkgate.church/wp-content/uploads/2024/07/Club-KiX-Screen.png
END:VEVENT
BEGIN:VEVENT
DTSTART;TZID=America/Chicago:20270804T190000
DTEND;TZID=America/Chicago:20270804T200000
DTSTAMP:20260423T043007
CREATED:20231212T174020Z
LAST-MODIFIED:20231228T023812Z
UID:10002444-1817406000-1817409600@www.parkgate.church
SUMMARY:IMPACT Midweek
DESCRIPTION:Students in 6th – 12th grade are invited to join us for our IMPACT Midweek Gatherings\, from 7 – 8 p.m. on Wednesday nights. During this time\, we hang out with our friends\, play games\, worship\, and dive into God’s Word together.
URL:https://www.parkgate.church/event/impact-midweek/2027-08-04/
LOCATION:Parkgate Community Church\, 3715 Preston Avenue\, Pasadena\, TX\, 77505\, United States
CATEGORIES:IMPACT Student Ministry
ATTACH;FMTTYPE=image/png:https://www.parkgate.church/wp-content/uploads/2023/12/IMPACT-Midweek.png
END:VEVENT
BEGIN:VEVENT
DTSTART;TZID=America/Chicago:20270808T090000
DTEND;TZID=America/Chicago:20270808T101500
DTSTAMP:20260423T043007
CREATED:20231025T073903Z
LAST-MODIFIED:20231212T161518Z
UID:10001265-1817715600-1817720100@www.parkgate.church
SUMMARY:Sundays @ 9 a.m.
DESCRIPTION:On Sundays at 9 a.m.\, we offer: \n\nWorship Service\nSundayLife Gatherings\nKiX Children’s Ministry\nIMPACT Student Ministry
URL:https://www.parkgate.church/event/sundays-9-a-m/2027-08-08/
LOCATION:Parkgate Community Church\, 3715 Preston Avenue\, Pasadena\, TX\, 77505\, United States
CATEGORIES:IMPACT Student Ministry,KiX Children's Ministry,Sunday Mornings,SundayLife
ATTACH;FMTTYPE=image/png:https://www.parkgate.church/wp-content/uploads/2023/10/Sundays-at-9-a.m.png
END:VEVENT
BEGIN:VEVENT
DTSTART;TZID=America/Chicago:20270808T104500
DTEND;TZID=America/Chicago:20270808T120000
DTSTAMP:20260423T043007
CREATED:20231212T161833Z
LAST-MODIFIED:20231212T161833Z
UID:10001532-1817721900-1817726400@www.parkgate.church
SUMMARY:Sundays @ 10:45 a.m.
DESCRIPTION:On Sundays at 10:45 a.m.\, we offer: \n\nWorship Service\nSundayLife Gatherings\nKiX Children’s Ministry\n\nOur students (6th – 12th grades) are invited to participate in our worship service.
URL:https://www.parkgate.church/event/sundays-1045-a-m/2027-08-08/
LOCATION:Parkgate Community Church\, 3715 Preston Avenue\, Pasadena\, TX\, 77505\, United States
CATEGORIES:KiX Children's Ministry,Sunday Mornings,SundayLife
ATTACH;FMTTYPE=image/png:https://www.parkgate.church/wp-content/uploads/2023/12/Sundays-at-1045-a.m.png
END:VEVENT
END:VCALENDAR