BEGIN:VCALENDAR
VERSION:2.0
PRODID:-//Parkgate Community Church - ECPv6.15.20//NONSGML v1.0//EN
CALSCALE:GREGORIAN
METHOD:PUBLISH
X-WR-CALNAME:Parkgate Community Church
X-ORIGINAL-URL:https://www.parkgate.church
X-WR-CALDESC:Events for Parkgate Community Church
REFRESH-INTERVAL;VALUE=DURATION:PT1H
X-Robots-Tag:noindex
X-PUBLISHED-TTL:PT1H
BEGIN:VTIMEZONE
TZID:America/Chicago
BEGIN:DAYLIGHT
TZOFFSETFROM:-0600
TZOFFSETTO:-0500
TZNAME:CDT
DTSTART:20230312T080000
END:DAYLIGHT
BEGIN:STANDARD
TZOFFSETFROM:-0500
TZOFFSETTO:-0600
TZNAME:CST
DTSTART:20231105T070000
END:STANDARD
BEGIN:DAYLIGHT
TZOFFSETFROM:-0600
TZOFFSETTO:-0500
TZNAME:CDT
DTSTART:20240310T080000
END:DAYLIGHT
BEGIN:STANDARD
TZOFFSETFROM:-0500
TZOFFSETTO:-0600
TZNAME:CST
DTSTART:20241103T070000
END:STANDARD
BEGIN:DAYLIGHT
TZOFFSETFROM:-0600
TZOFFSETTO:-0500
TZNAME:CDT
DTSTART:20250309T080000
END:DAYLIGHT
BEGIN:STANDARD
TZOFFSETFROM:-0500
TZOFFSETTO:-0600
TZNAME:CST
DTSTART:20251102T070000
END:STANDARD
END:VTIMEZONE
BEGIN:VEVENT
DTSTART;TZID=America/Chicago:20240730T183000
DTEND;TZID=America/Chicago:20240730T200000
DTSTAMP:20260424T110945
CREATED:20240411T210254Z
LAST-MODIFIED:20240411T212705Z
UID:10003655-1722364200-1722369600@www.parkgate.church
SUMMARY:Larry's LifeGroup
DESCRIPTION:This LifeGroup is comprised of couples and individuals aged 50 and up. For more details\, please reach out to Pastor Kenny at kboggs@parkgate.org.
URL:https://www.parkgate.church/event/larrys-lifegroup-2/2024-07-30/
CATEGORIES:Adults,LifeGroups
ATTACH;FMTTYPE=image/png:https://www.parkgate.church/wp-content/uploads/2024/04/LifeGroup-Screen.png
END:VEVENT
BEGIN:VEVENT
DTSTART;TZID=America/Chicago:20240730T170000
DTEND;TZID=America/Chicago:20240730T183000
DTSTAMP:20260424T110945
CREATED:20240404T210855Z
LAST-MODIFIED:20240411T212625Z
UID:10004435-1722358800-1722364200@www.parkgate.church
SUMMARY:Judy's LifeGroup
DESCRIPTION:This LifeGroup is comprised of couples and individuals aged 50 and up. For more details\, please reach out to Pastor Kenny at kboggs@parkgate.org.
URL:https://www.parkgate.church/event/judys-lifegroup/2024-07-30/
LOCATION:Parkgate Community Church\, 3715 Preston Avenue\, Pasadena\, TX\, 77505\, United States
CATEGORIES:Adults,LifeGroups
ATTACH;FMTTYPE=image/png:https://www.parkgate.church/wp-content/uploads/2024/04/LifeGroup-Screen.png
END:VEVENT
BEGIN:VEVENT
DTSTART;TZID=America/Chicago:20240728T170000
DTEND;TZID=America/Chicago:20240728T190000
DTSTAMP:20260424T110945
CREATED:20240404T204714Z
LAST-MODIFIED:20240411T212024Z
UID:10002609-1722186000-1722193200@www.parkgate.church
SUMMARY:Young Adult LifeGroup
DESCRIPTION:Join us for an uplifting and engaging gathering tailored for young adults seeking community\, growth\, and faith. Discover a place where you belong and can journey together in faith. For more details\, please reach out to Pastor Kenny at kboggs@parkgate.org.
URL:https://www.parkgate.church/event/young-adult-lifegroup/2024-07-28/
LOCATION:Pastor Kenneth’s House\, La Porte\, TX\, 77571\, United States
CATEGORIES:Adults,LifeGroups
ATTACH;FMTTYPE=image/png:https://www.parkgate.church/wp-content/uploads/2024/04/LifeGroup-Screen.png
END:VEVENT
BEGIN:VEVENT
DTSTART;TZID=America/Chicago:20240728T104500
DTEND;TZID=America/Chicago:20240728T120000
DTSTAMP:20260424T110945
CREATED:20231212T161833Z
LAST-MODIFIED:20231212T161833Z
UID:10001374-1722163500-1722168000@www.parkgate.church
SUMMARY:Sundays @ 10:45 a.m.
DESCRIPTION:On Sundays at 10:45 a.m.\, we offer: \n\nWorship Service\nSundayLife Gatherings\nKiX Children’s Ministry\n\nOur students (6th – 12th grades) are invited to participate in our worship service.
URL:https://www.parkgate.church/event/sundays-1045-a-m/2024-07-28/
LOCATION:Parkgate Community Church\, 3715 Preston Avenue\, Pasadena\, TX\, 77505\, United States
CATEGORIES:KiX Children's Ministry,Sunday Mornings,SundayLife
ATTACH;FMTTYPE=image/png:https://www.parkgate.church/wp-content/uploads/2023/12/Sundays-at-1045-a.m.png
END:VEVENT
BEGIN:VEVENT
DTSTART;TZID=America/Chicago:20240728T090000
DTEND;TZID=America/Chicago:20240728T101500
DTSTAMP:20260424T110945
CREATED:20231025T073903Z
LAST-MODIFIED:20231212T161518Z
UID:10001107-1722157200-1722161700@www.parkgate.church
SUMMARY:Sundays @ 9 a.m.
DESCRIPTION:On Sundays at 9 a.m.\, we offer: \n\nWorship Service\nSundayLife Gatherings\nKiX Children’s Ministry\nIMPACT Student Ministry
URL:https://www.parkgate.church/event/sundays-9-a-m/2024-07-28/
LOCATION:Parkgate Community Church\, 3715 Preston Avenue\, Pasadena\, TX\, 77505\, United States
CATEGORIES:IMPACT Student Ministry,KiX Children's Ministry,Sunday Mornings,SundayLife
ATTACH;FMTTYPE=image/png:https://www.parkgate.church/wp-content/uploads/2023/10/Sundays-at-9-a.m.png
END:VEVENT
BEGIN:VEVENT
DTSTART;TZID=America/Chicago:20240726T180000
DTEND;TZID=America/Chicago:20240726T200000
DTSTAMP:20260424T110945
CREATED:20240404T212604Z
LAST-MODIFIED:20240411T213122Z
UID:10005421-1722016800-1722024000@www.parkgate.church
SUMMARY:Pastor Kenneth's LifeGroup
DESCRIPTION:This LifeGroup is open to individuals and couples of all ages and seasons of life. For more details\, please reach out to Pastor Kenny at kboggs@parkgate.org.
URL:https://www.parkgate.church/event/pastor-kenneths-lifegroup/2024-07-26/
LOCATION:Pastor Kenneth’s House\, La Porte\, TX\, 77571\, United States
CATEGORIES:Adults,LifeGroups
ATTACH;FMTTYPE=image/png:https://www.parkgate.church/wp-content/uploads/2024/04/LifeGroup-Screen.png
END:VEVENT
BEGIN:VEVENT
DTSTART;TZID=America/Chicago:20240725T190000
DTEND;TZID=America/Chicago:20240725T200000
DTSTAMP:20260424T110945
CREATED:20240411T211312Z
LAST-MODIFIED:20240411T213038Z
UID:10005160-1721934000-1721937600@www.parkgate.church
SUMMARY:Frankie's LifeGroup
DESCRIPTION:This LifeGroup is open to individuals and couples of all ages and seasons of life. For more details\, please reach out to Pastor Kenny at kboggs@parkgate.org.
URL:https://www.parkgate.church/event/frankies-lifegroup/2024-07-25/
CATEGORIES:Adults,LifeGroups
ATTACH;FMTTYPE=image/png:https://www.parkgate.church/wp-content/uploads/2024/04/LifeGroup-Screen.png
END:VEVENT
BEGIN:VEVENT
DTSTART;TZID=America/Chicago:20240725T180000
DTEND;TZID=America/Chicago:20240725T200000
DTSTAMP:20260424T110945
CREATED:20240404T211622Z
LAST-MODIFIED:20240411T212959Z
UID:10004899-1721930400-1721937600@www.parkgate.church
SUMMARY:Larry's LifeGroup
DESCRIPTION:This LifeGroup is comprised of couples and individuals aged 50 and up. For more details\, please reach out to Pastor Kenny at kboggs@parkgate.org.
URL:https://www.parkgate.church/event/larrys-lifegroup/2024-07-25/
LOCATION:Duncan’s House\, Pasadena\, TX\, 77505\, United States
CATEGORIES:Adults,LifeGroups
ATTACH;FMTTYPE=image/png:https://www.parkgate.church/wp-content/uploads/2024/04/LifeGroup-Screen.png
END:VEVENT
BEGIN:VEVENT
DTSTART;TZID=America/Chicago:20240725T120000
DTEND;TZID=America/Chicago:20240725T130000
DTSTAMP:20260424T110945
CREATED:20240404T211218Z
LAST-MODIFIED:20240404T211218Z
UID:10004638-1721908800-1721912400@www.parkgate.church
SUMMARY:Bible Study with Pastor Kenneth
DESCRIPTION:This LifeGroup is open to individuals and couples of all ages and seasons of life. For more details\, please reach out to Pastor Kenny at kboggs@parkgate.org.
URL:https://www.parkgate.church/event/bible-study-with-pastor-kenneth/2024-07-25/
LOCATION:Parkgate Community Church\, 3715 Preston Avenue\, Pasadena\, TX\, 77505\, United States
CATEGORIES:Adults,LifeGroups
END:VEVENT
BEGIN:VEVENT
DTSTART;TZID=America/Chicago:20240724T190000
DTEND;TZID=America/Chicago:20240724T200000
DTSTAMP:20260424T110945
CREATED:20240411T210511Z
LAST-MODIFIED:20240411T212819Z
UID:10004176-1721847600-1721851200@www.parkgate.church
SUMMARY:Troy's LifeGroup
DESCRIPTION:This LifeGroup is open to individuals and couples of all ages and seasons of life. For more details\, please reach out to Pastor Kenny at kboggs@parkgate.org.
URL:https://www.parkgate.church/event/troys-lifegroup/2024-07-24/
LOCATION:Troy’s House\, Deer Park\, TX\, 77536\, United States
CATEGORIES:Adults,LifeGroups
ATTACH;FMTTYPE=image/png:https://www.parkgate.church/wp-content/uploads/2024/04/LifeGroup-Screen.png
END:VEVENT
BEGIN:VEVENT
DTSTART;TZID=America/Chicago:20240724T190000
DTEND;TZID=America/Chicago:20240724T200000
DTSTAMP:20260424T110945
CREATED:20240404T205606Z
LAST-MODIFIED:20240411T212857Z
UID:10005688-1721847600-1721851200@www.parkgate.church
SUMMARY:Steven's LifeGroup
DESCRIPTION:This LifeGroup is open to individuals and couples of all ages and seasons of life. For more details\, please reach out to Pastor Kenny at kboggs@parkgate.org.
URL:https://www.parkgate.church/event/stevens-lifegroup/2024-07-24/
LOCATION:Parkgate Community Church\, 3715 Preston Avenue\, Pasadena\, TX\, 77505\, United States
CATEGORIES:Adults,LifeGroups
ATTACH;FMTTYPE=image/png:https://www.parkgate.church/wp-content/uploads/2024/04/LifeGroup-Screen.png
END:VEVENT
BEGIN:VEVENT
DTSTART;TZID=America/Chicago:20240724T190000
DTEND;TZID=America/Chicago:20240724T200000
DTSTAMP:20260424T110945
CREATED:20240404T181023Z
LAST-MODIFIED:20240411T212741Z
UID:10003915-1721847600-1721851200@www.parkgate.church
SUMMARY:Votaw LifeGroup
DESCRIPTION:This LifeGroup is open to individuals and couples of all ages and seasons of life. For more details\, please reach out to Pastor Kenny at kboggs@parkgate.org.
URL:https://www.parkgate.church/event/votaw-lifegroup/2024-07-24/
LOCATION:Parkgate Community Church\, 3715 Preston Avenue\, Pasadena\, TX\, 77505\, United States
ATTACH;FMTTYPE=image/png:https://www.parkgate.church/wp-content/uploads/2024/04/LifeGroup-Screen.png
ORGANIZER;CN="Shirley Votaw":MAILTO:svotaw@parkgate.org
END:VEVENT
BEGIN:VEVENT
DTSTART;TZID=America/Chicago:20240724T190000
DTEND;TZID=America/Chicago:20240724T200000
DTSTAMP:20260424T110945
CREATED:20231212T174020Z
LAST-MODIFIED:20231228T023812Z
UID:10002286-1721847600-1721851200@www.parkgate.church
SUMMARY:IMPACT Midweek
DESCRIPTION:Students in 6th – 12th grade are invited to join us for our IMPACT Midweek Gatherings\, from 7 – 8 p.m. on Wednesday nights. During this time\, we hang out with our friends\, play games\, worship\, and dive into God’s Word together.
URL:https://www.parkgate.church/event/impact-midweek/2024-07-24/
LOCATION:Parkgate Community Church\, 3715 Preston Avenue\, Pasadena\, TX\, 77505\, United States
CATEGORIES:IMPACT Student Ministry
ATTACH;FMTTYPE=image/png:https://www.parkgate.church/wp-content/uploads/2023/12/IMPACT-Midweek.png
END:VEVENT
BEGIN:VEVENT
DTSTART;TZID=America/Chicago:20240724T190000
DTEND;TZID=America/Chicago:20240724T200000
DTSTAMP:20260424T110945
CREATED:20231212T173720Z
LAST-MODIFIED:20240731T215945Z
UID:10002027-1721847600-1721851200@www.parkgate.church
SUMMARY:Club KiX
DESCRIPTION:Kids age 4 – 5th grade are invited to join us at Club KiX\, a high-energy\, hands-on hour of Bible learning and practical application.
URL:https://www.parkgate.church/event/club-kix/2024-07-24/
LOCATION:Parkgate Community Church\, 3715 Preston Avenue\, Pasadena\, TX\, 77505\, United States
CATEGORIES:KiX Children's Ministry
ATTACH;FMTTYPE=image/png:https://www.parkgate.church/wp-content/uploads/2024/07/Club-KiX-Screen.png
END:VEVENT
BEGIN:VEVENT
DTSTART;TZID=America/Chicago:20240723T183000
DTEND;TZID=America/Chicago:20240723T200000
DTSTAMP:20260424T110945
CREATED:20240411T210254Z
LAST-MODIFIED:20240411T212705Z
UID:10003654-1721759400-1721764800@www.parkgate.church
SUMMARY:Larry's LifeGroup
DESCRIPTION:This LifeGroup is comprised of couples and individuals aged 50 and up. For more details\, please reach out to Pastor Kenny at kboggs@parkgate.org.
URL:https://www.parkgate.church/event/larrys-lifegroup-2/2024-07-23/
CATEGORIES:Adults,LifeGroups
ATTACH;FMTTYPE=image/png:https://www.parkgate.church/wp-content/uploads/2024/04/LifeGroup-Screen.png
END:VEVENT
BEGIN:VEVENT
DTSTART;TZID=America/Chicago:20240723T170000
DTEND;TZID=America/Chicago:20240723T183000
DTSTAMP:20260424T110945
CREATED:20240404T210855Z
LAST-MODIFIED:20240411T212625Z
UID:10004434-1721754000-1721759400@www.parkgate.church
SUMMARY:Judy's LifeGroup
DESCRIPTION:This LifeGroup is comprised of couples and individuals aged 50 and up. For more details\, please reach out to Pastor Kenny at kboggs@parkgate.org.
URL:https://www.parkgate.church/event/judys-lifegroup/2024-07-23/
LOCATION:Parkgate Community Church\, 3715 Preston Avenue\, Pasadena\, TX\, 77505\, United States
CATEGORIES:Adults,LifeGroups
ATTACH;FMTTYPE=image/png:https://www.parkgate.church/wp-content/uploads/2024/04/LifeGroup-Screen.png
END:VEVENT
BEGIN:VEVENT
DTSTART;TZID=America/Chicago:20240721T170000
DTEND;TZID=America/Chicago:20240721T190000
DTSTAMP:20260424T110945
CREATED:20240404T204714Z
LAST-MODIFIED:20240411T212024Z
UID:10002608-1721581200-1721588400@www.parkgate.church
SUMMARY:Young Adult LifeGroup
DESCRIPTION:Join us for an uplifting and engaging gathering tailored for young adults seeking community\, growth\, and faith. Discover a place where you belong and can journey together in faith. For more details\, please reach out to Pastor Kenny at kboggs@parkgate.org.
URL:https://www.parkgate.church/event/young-adult-lifegroup/2024-07-21/
LOCATION:Pastor Kenneth’s House\, La Porte\, TX\, 77571\, United States
CATEGORIES:Adults,LifeGroups
ATTACH;FMTTYPE=image/png:https://www.parkgate.church/wp-content/uploads/2024/04/LifeGroup-Screen.png
END:VEVENT
BEGIN:VEVENT
DTSTART;TZID=America/Chicago:20240721T104500
DTEND;TZID=America/Chicago:20240721T120000
DTSTAMP:20260424T110945
CREATED:20231212T161833Z
LAST-MODIFIED:20231212T161833Z
UID:10001373-1721558700-1721563200@www.parkgate.church
SUMMARY:Sundays @ 10:45 a.m.
DESCRIPTION:On Sundays at 10:45 a.m.\, we offer: \n\nWorship Service\nSundayLife Gatherings\nKiX Children’s Ministry\n\nOur students (6th – 12th grades) are invited to participate in our worship service.
URL:https://www.parkgate.church/event/sundays-1045-a-m/2024-07-21/
LOCATION:Parkgate Community Church\, 3715 Preston Avenue\, Pasadena\, TX\, 77505\, United States
CATEGORIES:KiX Children's Ministry,Sunday Mornings,SundayLife
ATTACH;FMTTYPE=image/png:https://www.parkgate.church/wp-content/uploads/2023/12/Sundays-at-1045-a.m.png
END:VEVENT
BEGIN:VEVENT
DTSTART;TZID=America/Chicago:20240721T090000
DTEND;TZID=America/Chicago:20240721T101500
DTSTAMP:20260424T110945
CREATED:20231025T073903Z
LAST-MODIFIED:20231212T161518Z
UID:10001106-1721552400-1721556900@www.parkgate.church
SUMMARY:Sundays @ 9 a.m.
DESCRIPTION:On Sundays at 9 a.m.\, we offer: \n\nWorship Service\nSundayLife Gatherings\nKiX Children’s Ministry\nIMPACT Student Ministry
URL:https://www.parkgate.church/event/sundays-9-a-m/2024-07-21/
LOCATION:Parkgate Community Church\, 3715 Preston Avenue\, Pasadena\, TX\, 77505\, United States
CATEGORIES:IMPACT Student Ministry,KiX Children's Ministry,Sunday Mornings,SundayLife
ATTACH;FMTTYPE=image/png:https://www.parkgate.church/wp-content/uploads/2023/10/Sundays-at-9-a.m.png
END:VEVENT
BEGIN:VEVENT
DTSTART;TZID=America/Chicago:20240720T083000
DTEND;TZID=America/Chicago:20240720T140000
DTSTAMP:20260424T110945
CREATED:20240704T163700Z
LAST-MODIFIED:20240704T163711Z
UID:10006028-1721464200-1721484000@www.parkgate.church
SUMMARY:Intentional: A Parenting Boost
DESCRIPTION:Let’s be honest: parenting can be difficult\, and sometimes we all need a little boost. This is what Intentional is all about. Author Paul David Tripp wrote\, “God is working on you through your children so that He can work through you for your children.” \nWe have curated a series of engaging sessions designed to support parents in their journey of raising children in today’s dynamic environment. Whether you are a new parent\, seasoned in your parenting journey\, or somewhere in between\, this conference promises valuable insights\nand practical tools to help you nurture and guide your family with faith and confidence. Along the way\, we’ll have some laughs\, some aha moments\, and some insights that will help us love and parent our children better. \nWe believe strong families are the cornerstone of a strong community\, and we are excited to journey with you in this vital role. Join us for a day of inspiration\, learning\, and fellowship. Registration is $20 per family. Childcare will be provided so you can fully engage in the conference sessions. A light lunch and refreshments will also be available.
URL:https://www.parkgate.church/event/intentional-a-parenting-boost/
LOCATION:Parkgate Community Church\, 3715 Preston Avenue\, Pasadena\, TX\, 77505\, United States
CATEGORIES:Adults
ATTACH;FMTTYPE=image/png:https://www.parkgate.church/wp-content/uploads/2024/06/Intentional-Parenting-Boost-Screen-No-QR-Code.png
END:VEVENT
BEGIN:VEVENT
DTSTART;TZID=America/Chicago:20240719T180000
DTEND;TZID=America/Chicago:20240719T200000
DTSTAMP:20260424T110945
CREATED:20240404T212604Z
LAST-MODIFIED:20240411T213122Z
UID:10005420-1721412000-1721419200@www.parkgate.church
SUMMARY:Pastor Kenneth's LifeGroup
DESCRIPTION:This LifeGroup is open to individuals and couples of all ages and seasons of life. For more details\, please reach out to Pastor Kenny at kboggs@parkgate.org.
URL:https://www.parkgate.church/event/pastor-kenneths-lifegroup/2024-07-19/
LOCATION:Pastor Kenneth’s House\, La Porte\, TX\, 77571\, United States
CATEGORIES:Adults,LifeGroups
ATTACH;FMTTYPE=image/png:https://www.parkgate.church/wp-content/uploads/2024/04/LifeGroup-Screen.png
END:VEVENT
BEGIN:VEVENT
DTSTART;TZID=America/Chicago:20240718T190000
DTEND;TZID=America/Chicago:20240718T200000
DTSTAMP:20260424T110945
CREATED:20240411T211312Z
LAST-MODIFIED:20240411T213038Z
UID:10005159-1721329200-1721332800@www.parkgate.church
SUMMARY:Frankie's LifeGroup
DESCRIPTION:This LifeGroup is open to individuals and couples of all ages and seasons of life. For more details\, please reach out to Pastor Kenny at kboggs@parkgate.org.
URL:https://www.parkgate.church/event/frankies-lifegroup/2024-07-18/
CATEGORIES:Adults,LifeGroups
ATTACH;FMTTYPE=image/png:https://www.parkgate.church/wp-content/uploads/2024/04/LifeGroup-Screen.png
END:VEVENT
BEGIN:VEVENT
DTSTART;TZID=America/Chicago:20240718T180000
DTEND;TZID=America/Chicago:20240718T200000
DTSTAMP:20260424T110945
CREATED:20240404T211622Z
LAST-MODIFIED:20240411T212959Z
UID:10004898-1721325600-1721332800@www.parkgate.church
SUMMARY:Larry's LifeGroup
DESCRIPTION:This LifeGroup is comprised of couples and individuals aged 50 and up. For more details\, please reach out to Pastor Kenny at kboggs@parkgate.org.
URL:https://www.parkgate.church/event/larrys-lifegroup/2024-07-18/
LOCATION:Duncan’s House\, Pasadena\, TX\, 77505\, United States
CATEGORIES:Adults,LifeGroups
ATTACH;FMTTYPE=image/png:https://www.parkgate.church/wp-content/uploads/2024/04/LifeGroup-Screen.png
END:VEVENT
BEGIN:VEVENT
DTSTART;TZID=America/Chicago:20240718T120000
DTEND;TZID=America/Chicago:20240718T130000
DTSTAMP:20260424T110945
CREATED:20240404T211218Z
LAST-MODIFIED:20240404T211218Z
UID:10004637-1721304000-1721307600@www.parkgate.church
SUMMARY:Bible Study with Pastor Kenneth
DESCRIPTION:This LifeGroup is open to individuals and couples of all ages and seasons of life. For more details\, please reach out to Pastor Kenny at kboggs@parkgate.org.
URL:https://www.parkgate.church/event/bible-study-with-pastor-kenneth/2024-07-18/
LOCATION:Parkgate Community Church\, 3715 Preston Avenue\, Pasadena\, TX\, 77505\, United States
CATEGORIES:Adults,LifeGroups
END:VEVENT
BEGIN:VEVENT
DTSTART;TZID=America/Chicago:20240717T190000
DTEND;TZID=America/Chicago:20240717T200000
DTSTAMP:20260424T110945
CREATED:20240411T210511Z
LAST-MODIFIED:20240411T212819Z
UID:10004175-1721242800-1721246400@www.parkgate.church
SUMMARY:Troy's LifeGroup
DESCRIPTION:This LifeGroup is open to individuals and couples of all ages and seasons of life. For more details\, please reach out to Pastor Kenny at kboggs@parkgate.org.
URL:https://www.parkgate.church/event/troys-lifegroup/2024-07-17/
LOCATION:Troy’s House\, Deer Park\, TX\, 77536\, United States
CATEGORIES:Adults,LifeGroups
ATTACH;FMTTYPE=image/png:https://www.parkgate.church/wp-content/uploads/2024/04/LifeGroup-Screen.png
END:VEVENT
BEGIN:VEVENT
DTSTART;TZID=America/Chicago:20240717T190000
DTEND;TZID=America/Chicago:20240717T200000
DTSTAMP:20260424T110945
CREATED:20240404T205606Z
LAST-MODIFIED:20240411T212857Z
UID:10005687-1721242800-1721246400@www.parkgate.church
SUMMARY:Steven's LifeGroup
DESCRIPTION:This LifeGroup is open to individuals and couples of all ages and seasons of life. For more details\, please reach out to Pastor Kenny at kboggs@parkgate.org.
URL:https://www.parkgate.church/event/stevens-lifegroup/2024-07-17/
LOCATION:Parkgate Community Church\, 3715 Preston Avenue\, Pasadena\, TX\, 77505\, United States
CATEGORIES:Adults,LifeGroups
ATTACH;FMTTYPE=image/png:https://www.parkgate.church/wp-content/uploads/2024/04/LifeGroup-Screen.png
END:VEVENT
BEGIN:VEVENT
DTSTART;TZID=America/Chicago:20240717T190000
DTEND;TZID=America/Chicago:20240717T200000
DTSTAMP:20260424T110945
CREATED:20240404T181023Z
LAST-MODIFIED:20240411T212741Z
UID:10003914-1721242800-1721246400@www.parkgate.church
SUMMARY:Votaw LifeGroup
DESCRIPTION:This LifeGroup is open to individuals and couples of all ages and seasons of life. For more details\, please reach out to Pastor Kenny at kboggs@parkgate.org.
URL:https://www.parkgate.church/event/votaw-lifegroup/2024-07-17/
LOCATION:Parkgate Community Church\, 3715 Preston Avenue\, Pasadena\, TX\, 77505\, United States
ATTACH;FMTTYPE=image/png:https://www.parkgate.church/wp-content/uploads/2024/04/LifeGroup-Screen.png
ORGANIZER;CN="Shirley Votaw":MAILTO:svotaw@parkgate.org
END:VEVENT
BEGIN:VEVENT
DTSTART;TZID=America/Chicago:20240717T190000
DTEND;TZID=America/Chicago:20240717T200000
DTSTAMP:20260424T110945
CREATED:20231212T174020Z
LAST-MODIFIED:20231228T023812Z
UID:10002285-1721242800-1721246400@www.parkgate.church
SUMMARY:IMPACT Midweek
DESCRIPTION:Students in 6th – 12th grade are invited to join us for our IMPACT Midweek Gatherings\, from 7 – 8 p.m. on Wednesday nights. During this time\, we hang out with our friends\, play games\, worship\, and dive into God’s Word together.
URL:https://www.parkgate.church/event/impact-midweek/2024-07-17/
LOCATION:Parkgate Community Church\, 3715 Preston Avenue\, Pasadena\, TX\, 77505\, United States
CATEGORIES:IMPACT Student Ministry
ATTACH;FMTTYPE=image/png:https://www.parkgate.church/wp-content/uploads/2023/12/IMPACT-Midweek.png
END:VEVENT
BEGIN:VEVENT
DTSTART;TZID=America/Chicago:20240717T190000
DTEND;TZID=America/Chicago:20240717T200000
DTSTAMP:20260424T110945
CREATED:20231212T173720Z
LAST-MODIFIED:20240731T215945Z
UID:10002026-1721242800-1721246400@www.parkgate.church
SUMMARY:Club KiX
DESCRIPTION:Kids age 4 – 5th grade are invited to join us at Club KiX\, a high-energy\, hands-on hour of Bible learning and practical application.
URL:https://www.parkgate.church/event/club-kix/2024-07-17/
LOCATION:Parkgate Community Church\, 3715 Preston Avenue\, Pasadena\, TX\, 77505\, United States
CATEGORIES:KiX Children's Ministry
ATTACH;FMTTYPE=image/png:https://www.parkgate.church/wp-content/uploads/2024/07/Club-KiX-Screen.png
END:VEVENT
BEGIN:VEVENT
DTSTART;TZID=America/Chicago:20240716T183000
DTEND;TZID=America/Chicago:20240716T200000
DTSTAMP:20260424T110945
CREATED:20240411T210254Z
LAST-MODIFIED:20240411T212705Z
UID:10003653-1721154600-1721160000@www.parkgate.church
SUMMARY:Larry's LifeGroup
DESCRIPTION:This LifeGroup is comprised of couples and individuals aged 50 and up. For more details\, please reach out to Pastor Kenny at kboggs@parkgate.org.
URL:https://www.parkgate.church/event/larrys-lifegroup-2/2024-07-16/
CATEGORIES:Adults,LifeGroups
ATTACH;FMTTYPE=image/png:https://www.parkgate.church/wp-content/uploads/2024/04/LifeGroup-Screen.png
END:VEVENT
END:VCALENDAR