BEGIN:VCALENDAR
VERSION:2.0
PRODID:-//Parkgate Community Church - ECPv6.15.20//NONSGML v1.0//EN
CALSCALE:GREGORIAN
METHOD:PUBLISH
X-WR-CALNAME:Parkgate Community Church
X-ORIGINAL-URL:https://www.parkgate.church
X-WR-CALDESC:Events for Parkgate Community Church
REFRESH-INTERVAL;VALUE=DURATION:PT1H
X-Robots-Tag:noindex
X-PUBLISHED-TTL:PT1H
BEGIN:VTIMEZONE
TZID:America/Chicago
BEGIN:DAYLIGHT
TZOFFSETFROM:-0600
TZOFFSETTO:-0500
TZNAME:CDT
DTSTART:20230312T080000
END:DAYLIGHT
BEGIN:STANDARD
TZOFFSETFROM:-0500
TZOFFSETTO:-0600
TZNAME:CST
DTSTART:20231105T070000
END:STANDARD
BEGIN:DAYLIGHT
TZOFFSETFROM:-0600
TZOFFSETTO:-0500
TZNAME:CDT
DTSTART:20240310T080000
END:DAYLIGHT
BEGIN:STANDARD
TZOFFSETFROM:-0500
TZOFFSETTO:-0600
TZNAME:CST
DTSTART:20241103T070000
END:STANDARD
BEGIN:DAYLIGHT
TZOFFSETFROM:-0600
TZOFFSETTO:-0500
TZNAME:CDT
DTSTART:20250309T080000
END:DAYLIGHT
BEGIN:STANDARD
TZOFFSETFROM:-0500
TZOFFSETTO:-0600
TZNAME:CST
DTSTART:20251102T070000
END:STANDARD
END:VTIMEZONE
BEGIN:VEVENT
DTSTART;TZID=America/Chicago:20240905T180000
DTEND;TZID=America/Chicago:20240905T200000
DTSTAMP:20260423T170542
CREATED:20240404T211622Z
LAST-MODIFIED:20240411T212959Z
UID:10004905-1725559200-1725566400@www.parkgate.church
SUMMARY:Larry's LifeGroup
DESCRIPTION:This LifeGroup is comprised of couples and individuals aged 50 and up. For more details\, please reach out to Pastor Kenny at kboggs@parkgate.org.
URL:https://www.parkgate.church/event/larrys-lifegroup/2024-09-05/
LOCATION:Duncan’s House\, Pasadena\, TX\, 77505\, United States
CATEGORIES:Adults,LifeGroups
ATTACH;FMTTYPE=image/png:https://www.parkgate.church/wp-content/uploads/2024/04/LifeGroup-Screen.png
END:VEVENT
BEGIN:VEVENT
DTSTART;TZID=America/Chicago:20240905T120000
DTEND;TZID=America/Chicago:20240905T130000
DTSTAMP:20260423T170542
CREATED:20240404T211218Z
LAST-MODIFIED:20240404T211218Z
UID:10004644-1725537600-1725541200@www.parkgate.church
SUMMARY:Bible Study with Pastor Kenneth
DESCRIPTION:This LifeGroup is open to individuals and couples of all ages and seasons of life. For more details\, please reach out to Pastor Kenny at kboggs@parkgate.org.
URL:https://www.parkgate.church/event/bible-study-with-pastor-kenneth/2024-09-05/
LOCATION:Parkgate Community Church\, 3715 Preston Avenue\, Pasadena\, TX\, 77505\, United States
CATEGORIES:Adults,LifeGroups
END:VEVENT
BEGIN:VEVENT
DTSTART;TZID=America/Chicago:20240904T190000
DTEND;TZID=America/Chicago:20240904T200000
DTSTAMP:20260423T170542
CREATED:20240411T210511Z
LAST-MODIFIED:20240411T212819Z
UID:10004182-1725476400-1725480000@www.parkgate.church
SUMMARY:Troy's LifeGroup
DESCRIPTION:This LifeGroup is open to individuals and couples of all ages and seasons of life. For more details\, please reach out to Pastor Kenny at kboggs@parkgate.org.
URL:https://www.parkgate.church/event/troys-lifegroup/2024-09-04/
LOCATION:Troy’s House\, Deer Park\, TX\, 77536\, United States
CATEGORIES:Adults,LifeGroups
ATTACH;FMTTYPE=image/png:https://www.parkgate.church/wp-content/uploads/2024/04/LifeGroup-Screen.png
END:VEVENT
BEGIN:VEVENT
DTSTART;TZID=America/Chicago:20240904T190000
DTEND;TZID=America/Chicago:20240904T200000
DTSTAMP:20260423T170542
CREATED:20240404T205606Z
LAST-MODIFIED:20240411T212857Z
UID:10005694-1725476400-1725480000@www.parkgate.church
SUMMARY:Steven's LifeGroup
DESCRIPTION:This LifeGroup is open to individuals and couples of all ages and seasons of life. For more details\, please reach out to Pastor Kenny at kboggs@parkgate.org.
URL:https://www.parkgate.church/event/stevens-lifegroup/2024-09-04/
LOCATION:Parkgate Community Church\, 3715 Preston Avenue\, Pasadena\, TX\, 77505\, United States
CATEGORIES:Adults,LifeGroups
ATTACH;FMTTYPE=image/png:https://www.parkgate.church/wp-content/uploads/2024/04/LifeGroup-Screen.png
END:VEVENT
BEGIN:VEVENT
DTSTART;TZID=America/Chicago:20240904T190000
DTEND;TZID=America/Chicago:20240904T200000
DTSTAMP:20260423T170542
CREATED:20240404T181023Z
LAST-MODIFIED:20240411T212741Z
UID:10003921-1725476400-1725480000@www.parkgate.church
SUMMARY:Votaw LifeGroup
DESCRIPTION:This LifeGroup is open to individuals and couples of all ages and seasons of life. For more details\, please reach out to Pastor Kenny at kboggs@parkgate.org.
URL:https://www.parkgate.church/event/votaw-lifegroup/2024-09-04/
LOCATION:Parkgate Community Church\, 3715 Preston Avenue\, Pasadena\, TX\, 77505\, United States
ATTACH;FMTTYPE=image/png:https://www.parkgate.church/wp-content/uploads/2024/04/LifeGroup-Screen.png
ORGANIZER;CN="Shirley Votaw":MAILTO:svotaw@parkgate.org
END:VEVENT
BEGIN:VEVENT
DTSTART;TZID=America/Chicago:20240904T190000
DTEND;TZID=America/Chicago:20240904T200000
DTSTAMP:20260423T170542
CREATED:20231212T174020Z
LAST-MODIFIED:20231228T023812Z
UID:10002292-1725476400-1725480000@www.parkgate.church
SUMMARY:IMPACT Midweek
DESCRIPTION:Students in 6th – 12th grade are invited to join us for our IMPACT Midweek Gatherings\, from 7 – 8 p.m. on Wednesday nights. During this time\, we hang out with our friends\, play games\, worship\, and dive into God’s Word together.
URL:https://www.parkgate.church/event/impact-midweek/2024-09-04/
LOCATION:Parkgate Community Church\, 3715 Preston Avenue\, Pasadena\, TX\, 77505\, United States
CATEGORIES:IMPACT Student Ministry
ATTACH;FMTTYPE=image/png:https://www.parkgate.church/wp-content/uploads/2023/12/IMPACT-Midweek.png
END:VEVENT
BEGIN:VEVENT
DTSTART;TZID=America/Chicago:20240904T190000
DTEND;TZID=America/Chicago:20240904T200000
DTSTAMP:20260423T170542
CREATED:20231212T173720Z
LAST-MODIFIED:20240731T215945Z
UID:10002033-1725476400-1725480000@www.parkgate.church
SUMMARY:Club KiX
DESCRIPTION:Kids age 4 – 5th grade are invited to join us at Club KiX\, a high-energy\, hands-on hour of Bible learning and practical application.
URL:https://www.parkgate.church/event/club-kix/2024-09-04/
LOCATION:Parkgate Community Church\, 3715 Preston Avenue\, Pasadena\, TX\, 77505\, United States
CATEGORIES:KiX Children's Ministry
ATTACH;FMTTYPE=image/png:https://www.parkgate.church/wp-content/uploads/2024/07/Club-KiX-Screen.png
END:VEVENT
BEGIN:VEVENT
DTSTART;TZID=America/Chicago:20240904T180000
DTEND;TZID=America/Chicago:20240904T200000
DTSTAMP:20260423T170542
CREATED:20231212T163824Z
LAST-MODIFIED:20240724T195525Z
UID:10001875-1725472800-1725480000@www.parkgate.church
SUMMARY:Fun Night
DESCRIPTION:Join fellow Parkgate adults in the Fellowship Room at 6 p.m. for a time of board games and cards\, fellowship\, and a light meal.
URL:https://www.parkgate.church/event/fellowship-game-night/2024-09-04/
LOCATION:Parkgate Community Church\, 3715 Preston Avenue\, Pasadena\, TX\, 77505\, United States
CATEGORIES:Adults
ATTACH;FMTTYPE=image/png:https://www.parkgate.church/wp-content/uploads/2023/12/Fun-Night-Screen.png
END:VEVENT
BEGIN:VEVENT
DTSTART;TZID=America/Chicago:20240903T183000
DTEND;TZID=America/Chicago:20240903T200000
DTSTAMP:20260423T170542
CREATED:20240411T210254Z
LAST-MODIFIED:20240411T212705Z
UID:10003660-1725388200-1725393600@www.parkgate.church
SUMMARY:Larry's LifeGroup
DESCRIPTION:This LifeGroup is comprised of couples and individuals aged 50 and up. For more details\, please reach out to Pastor Kenny at kboggs@parkgate.org.
URL:https://www.parkgate.church/event/larrys-lifegroup-2/2024-09-03/
CATEGORIES:Adults,LifeGroups
ATTACH;FMTTYPE=image/png:https://www.parkgate.church/wp-content/uploads/2024/04/LifeGroup-Screen.png
END:VEVENT
BEGIN:VEVENT
DTSTART;TZID=America/Chicago:20240901T170000
DTEND;TZID=America/Chicago:20240901T190000
DTSTAMP:20260423T170542
CREATED:20240702T193159Z
LAST-MODIFIED:20240806T172030Z
UID:10006018-1725210000-1725217200@www.parkgate.church
SUMMARY:All-Church Picnic & Ice Cream Social
DESCRIPTION:Save the date: Sunday\, September 1\, for the All Church Picnic & Ice Cream Social! Pack a picnic dinner for you & your family and bring it to the KiX Building Sunday evening @ 5 p.m. We’ll provide all the fixings for the ice cream social. You won’t want to miss this fun evening of hanging out with the church family… and eating ICE CREAM!
URL:https://www.parkgate.church/event/all-church-picnic-ice-cream-social/
LOCATION:Parkgate Community Church\, 3715 Preston Avenue\, Pasadena\, TX\, 77505\, United States
ATTACH;FMTTYPE=image/png:https://www.parkgate.church/wp-content/uploads/2024/05/All-Church-Picnic-Screen.png
END:VEVENT
BEGIN:VEVENT
DTSTART;TZID=America/Chicago:20240901T170000
DTEND;TZID=America/Chicago:20240901T190000
DTSTAMP:20260423T170542
CREATED:20240404T204714Z
LAST-MODIFIED:20240411T212024Z
UID:10002614-1725210000-1725217200@www.parkgate.church
SUMMARY:Young Adult LifeGroup
DESCRIPTION:Join us for an uplifting and engaging gathering tailored for young adults seeking community\, growth\, and faith. Discover a place where you belong and can journey together in faith. For more details\, please reach out to Pastor Kenny at kboggs@parkgate.org.
URL:https://www.parkgate.church/event/young-adult-lifegroup/2024-09-01/
LOCATION:Pastor Kenneth’s House\, La Porte\, TX\, 77571\, United States
CATEGORIES:Adults,LifeGroups
ATTACH;FMTTYPE=image/png:https://www.parkgate.church/wp-content/uploads/2024/04/LifeGroup-Screen.png
END:VEVENT
BEGIN:VEVENT
DTSTART;TZID=America/Chicago:20240901T104500
DTEND;TZID=America/Chicago:20240901T120000
DTSTAMP:20260423T170542
CREATED:20231212T161833Z
LAST-MODIFIED:20231212T161833Z
UID:10001379-1725187500-1725192000@www.parkgate.church
SUMMARY:Sundays @ 10:45 a.m.
DESCRIPTION:On Sundays at 10:45 a.m.\, we offer: \n\nWorship Service\nSundayLife Gatherings\nKiX Children’s Ministry\n\nOur students (6th – 12th grades) are invited to participate in our worship service.
URL:https://www.parkgate.church/event/sundays-1045-a-m/2024-09-01/
LOCATION:Parkgate Community Church\, 3715 Preston Avenue\, Pasadena\, TX\, 77505\, United States
CATEGORIES:KiX Children's Ministry,Sunday Mornings,SundayLife
ATTACH;FMTTYPE=image/png:https://www.parkgate.church/wp-content/uploads/2023/12/Sundays-at-1045-a.m.png
END:VEVENT
BEGIN:VEVENT
DTSTART;TZID=America/Chicago:20240901T090000
DTEND;TZID=America/Chicago:20240901T101500
DTSTAMP:20260423T170542
CREATED:20231025T073903Z
LAST-MODIFIED:20231212T161518Z
UID:10001112-1725181200-1725185700@www.parkgate.church
SUMMARY:Sundays @ 9 a.m.
DESCRIPTION:On Sundays at 9 a.m.\, we offer: \n\nWorship Service\nSundayLife Gatherings\nKiX Children’s Ministry\nIMPACT Student Ministry
URL:https://www.parkgate.church/event/sundays-9-a-m/2024-09-01/
LOCATION:Parkgate Community Church\, 3715 Preston Avenue\, Pasadena\, TX\, 77505\, United States
CATEGORIES:IMPACT Student Ministry,KiX Children's Ministry,Sunday Mornings,SundayLife
ATTACH;FMTTYPE=image/png:https://www.parkgate.church/wp-content/uploads/2023/10/Sundays-at-9-a.m.png
END:VEVENT
BEGIN:VEVENT
DTSTART;TZID=America/Chicago:20240830T180000
DTEND;TZID=America/Chicago:20240830T200000
DTSTAMP:20260423T170542
CREATED:20240404T212604Z
LAST-MODIFIED:20240411T213122Z
UID:10005426-1725040800-1725048000@www.parkgate.church
SUMMARY:Pastor Kenneth's LifeGroup
DESCRIPTION:This LifeGroup is open to individuals and couples of all ages and seasons of life. For more details\, please reach out to Pastor Kenny at kboggs@parkgate.org.
URL:https://www.parkgate.church/event/pastor-kenneths-lifegroup/2024-08-30/
LOCATION:Pastor Kenneth’s House\, La Porte\, TX\, 77571\, United States
CATEGORIES:Adults,LifeGroups
ATTACH;FMTTYPE=image/png:https://www.parkgate.church/wp-content/uploads/2024/04/LifeGroup-Screen.png
END:VEVENT
BEGIN:VEVENT
DTSTART;TZID=America/Chicago:20240829T190000
DTEND;TZID=America/Chicago:20240829T200000
DTSTAMP:20260423T170542
CREATED:20240411T211312Z
LAST-MODIFIED:20240411T213038Z
UID:10005165-1724958000-1724961600@www.parkgate.church
SUMMARY:Frankie's LifeGroup
DESCRIPTION:This LifeGroup is open to individuals and couples of all ages and seasons of life. For more details\, please reach out to Pastor Kenny at kboggs@parkgate.org.
URL:https://www.parkgate.church/event/frankies-lifegroup/2024-08-29/
CATEGORIES:Adults,LifeGroups
ATTACH;FMTTYPE=image/png:https://www.parkgate.church/wp-content/uploads/2024/04/LifeGroup-Screen.png
END:VEVENT
BEGIN:VEVENT
DTSTART;TZID=America/Chicago:20240829T180000
DTEND;TZID=America/Chicago:20240829T200000
DTSTAMP:20260423T170542
CREATED:20240404T211622Z
LAST-MODIFIED:20240411T212959Z
UID:10004904-1724954400-1724961600@www.parkgate.church
SUMMARY:Larry's LifeGroup
DESCRIPTION:This LifeGroup is comprised of couples and individuals aged 50 and up. For more details\, please reach out to Pastor Kenny at kboggs@parkgate.org.
URL:https://www.parkgate.church/event/larrys-lifegroup/2024-08-29/
LOCATION:Duncan’s House\, Pasadena\, TX\, 77505\, United States
CATEGORIES:Adults,LifeGroups
ATTACH;FMTTYPE=image/png:https://www.parkgate.church/wp-content/uploads/2024/04/LifeGroup-Screen.png
END:VEVENT
BEGIN:VEVENT
DTSTART;TZID=America/Chicago:20240829T120000
DTEND;TZID=America/Chicago:20240829T130000
DTSTAMP:20260423T170542
CREATED:20240404T211218Z
LAST-MODIFIED:20240404T211218Z
UID:10004643-1724932800-1724936400@www.parkgate.church
SUMMARY:Bible Study with Pastor Kenneth
DESCRIPTION:This LifeGroup is open to individuals and couples of all ages and seasons of life. For more details\, please reach out to Pastor Kenny at kboggs@parkgate.org.
URL:https://www.parkgate.church/event/bible-study-with-pastor-kenneth/2024-08-29/
LOCATION:Parkgate Community Church\, 3715 Preston Avenue\, Pasadena\, TX\, 77505\, United States
CATEGORIES:Adults,LifeGroups
END:VEVENT
BEGIN:VEVENT
DTSTART;TZID=America/Chicago:20240828T190000
DTEND;TZID=America/Chicago:20240828T200000
DTSTAMP:20260423T170542
CREATED:20240416T205308Z
LAST-MODIFIED:20240416T205308Z
UID:10005945-1724871600-1724875200@www.parkgate.church
SUMMARY:Plugged In
DESCRIPTION:New to Parkgate? Discover what it means to live in community here at Parkgate Church. Childcare is provided\, and programming is available for students K-12.
URL:https://www.parkgate.church/event/plugged-in-2/2024-08-28/
LOCATION:Parkgate Community Church\, 3715 Preston Avenue\, Pasadena\, TX\, 77505\, United States
ATTACH;FMTTYPE=image/png:https://www.parkgate.church/wp-content/uploads/2024/04/Plugged-In-Screen.png
ORGANIZER;CN="Pastor Kenny":MAILTO:kboggs@parkgate.org
END:VEVENT
BEGIN:VEVENT
DTSTART;TZID=America/Chicago:20240828T190000
DTEND;TZID=America/Chicago:20240828T200000
DTSTAMP:20260423T170542
CREATED:20240411T210511Z
LAST-MODIFIED:20240411T212819Z
UID:10004181-1724871600-1724875200@www.parkgate.church
SUMMARY:Troy's LifeGroup
DESCRIPTION:This LifeGroup is open to individuals and couples of all ages and seasons of life. For more details\, please reach out to Pastor Kenny at kboggs@parkgate.org.
URL:https://www.parkgate.church/event/troys-lifegroup/2024-08-28/
LOCATION:Troy’s House\, Deer Park\, TX\, 77536\, United States
CATEGORIES:Adults,LifeGroups
ATTACH;FMTTYPE=image/png:https://www.parkgate.church/wp-content/uploads/2024/04/LifeGroup-Screen.png
END:VEVENT
BEGIN:VEVENT
DTSTART;TZID=America/Chicago:20240828T190000
DTEND;TZID=America/Chicago:20240828T200000
DTSTAMP:20260423T170542
CREATED:20240404T205606Z
LAST-MODIFIED:20240411T212857Z
UID:10005693-1724871600-1724875200@www.parkgate.church
SUMMARY:Steven's LifeGroup
DESCRIPTION:This LifeGroup is open to individuals and couples of all ages and seasons of life. For more details\, please reach out to Pastor Kenny at kboggs@parkgate.org.
URL:https://www.parkgate.church/event/stevens-lifegroup/2024-08-28/
LOCATION:Parkgate Community Church\, 3715 Preston Avenue\, Pasadena\, TX\, 77505\, United States
CATEGORIES:Adults,LifeGroups
ATTACH;FMTTYPE=image/png:https://www.parkgate.church/wp-content/uploads/2024/04/LifeGroup-Screen.png
END:VEVENT
BEGIN:VEVENT
DTSTART;TZID=America/Chicago:20240828T190000
DTEND;TZID=America/Chicago:20240828T200000
DTSTAMP:20260423T170543
CREATED:20240404T181023Z
LAST-MODIFIED:20240411T212741Z
UID:10003920-1724871600-1724875200@www.parkgate.church
SUMMARY:Votaw LifeGroup
DESCRIPTION:This LifeGroup is open to individuals and couples of all ages and seasons of life. For more details\, please reach out to Pastor Kenny at kboggs@parkgate.org.
URL:https://www.parkgate.church/event/votaw-lifegroup/2024-08-28/
LOCATION:Parkgate Community Church\, 3715 Preston Avenue\, Pasadena\, TX\, 77505\, United States
ATTACH;FMTTYPE=image/png:https://www.parkgate.church/wp-content/uploads/2024/04/LifeGroup-Screen.png
ORGANIZER;CN="Shirley Votaw":MAILTO:svotaw@parkgate.org
END:VEVENT
BEGIN:VEVENT
DTSTART;TZID=America/Chicago:20240828T190000
DTEND;TZID=America/Chicago:20240828T200000
DTSTAMP:20260423T170543
CREATED:20231212T174020Z
LAST-MODIFIED:20231228T023812Z
UID:10002291-1724871600-1724875200@www.parkgate.church
SUMMARY:IMPACT Midweek
DESCRIPTION:Students in 6th – 12th grade are invited to join us for our IMPACT Midweek Gatherings\, from 7 – 8 p.m. on Wednesday nights. During this time\, we hang out with our friends\, play games\, worship\, and dive into God’s Word together.
URL:https://www.parkgate.church/event/impact-midweek/2024-08-28/
LOCATION:Parkgate Community Church\, 3715 Preston Avenue\, Pasadena\, TX\, 77505\, United States
CATEGORIES:IMPACT Student Ministry
ATTACH;FMTTYPE=image/png:https://www.parkgate.church/wp-content/uploads/2023/12/IMPACT-Midweek.png
END:VEVENT
BEGIN:VEVENT
DTSTART;TZID=America/Chicago:20240828T190000
DTEND;TZID=America/Chicago:20240828T200000
DTSTAMP:20260423T170543
CREATED:20231212T173720Z
LAST-MODIFIED:20240731T215945Z
UID:10002032-1724871600-1724875200@www.parkgate.church
SUMMARY:Club KiX
DESCRIPTION:Kids age 4 – 5th grade are invited to join us at Club KiX\, a high-energy\, hands-on hour of Bible learning and practical application.
URL:https://www.parkgate.church/event/club-kix/2024-08-28/
LOCATION:Parkgate Community Church\, 3715 Preston Avenue\, Pasadena\, TX\, 77505\, United States
CATEGORIES:KiX Children's Ministry
ATTACH;FMTTYPE=image/png:https://www.parkgate.church/wp-content/uploads/2024/07/Club-KiX-Screen.png
END:VEVENT
BEGIN:VEVENT
DTSTART;TZID=America/Chicago:20240827T183000
DTEND;TZID=America/Chicago:20240827T200000
DTSTAMP:20260423T170543
CREATED:20240411T210254Z
LAST-MODIFIED:20240411T212705Z
UID:10003659-1724783400-1724788800@www.parkgate.church
SUMMARY:Larry's LifeGroup
DESCRIPTION:This LifeGroup is comprised of couples and individuals aged 50 and up. For more details\, please reach out to Pastor Kenny at kboggs@parkgate.org.
URL:https://www.parkgate.church/event/larrys-lifegroup-2/2024-08-27/
CATEGORIES:Adults,LifeGroups
ATTACH;FMTTYPE=image/png:https://www.parkgate.church/wp-content/uploads/2024/04/LifeGroup-Screen.png
END:VEVENT
BEGIN:VEVENT
DTSTART;TZID=America/Chicago:20240827T170000
DTEND;TZID=America/Chicago:20240827T183000
DTSTAMP:20260423T170543
CREATED:20240404T210855Z
LAST-MODIFIED:20240411T212625Z
UID:10004438-1724778000-1724783400@www.parkgate.church
SUMMARY:Judy's LifeGroup
DESCRIPTION:This LifeGroup is comprised of couples and individuals aged 50 and up. For more details\, please reach out to Pastor Kenny at kboggs@parkgate.org.
URL:https://www.parkgate.church/event/judys-lifegroup/2024-08-27/
LOCATION:Parkgate Community Church\, 3715 Preston Avenue\, Pasadena\, TX\, 77505\, United States
CATEGORIES:Adults,LifeGroups
ATTACH;FMTTYPE=image/png:https://www.parkgate.church/wp-content/uploads/2024/04/LifeGroup-Screen.png
END:VEVENT
BEGIN:VEVENT
DTSTART;TZID=America/Chicago:20240825T170000
DTEND;TZID=America/Chicago:20240825T190000
DTSTAMP:20260423T170543
CREATED:20240404T204714Z
LAST-MODIFIED:20240411T212024Z
UID:10002613-1724605200-1724612400@www.parkgate.church
SUMMARY:Young Adult LifeGroup
DESCRIPTION:Join us for an uplifting and engaging gathering tailored for young adults seeking community\, growth\, and faith. Discover a place where you belong and can journey together in faith. For more details\, please reach out to Pastor Kenny at kboggs@parkgate.org.
URL:https://www.parkgate.church/event/young-adult-lifegroup/2024-08-25/
LOCATION:Pastor Kenneth’s House\, La Porte\, TX\, 77571\, United States
CATEGORIES:Adults,LifeGroups
ATTACH;FMTTYPE=image/png:https://www.parkgate.church/wp-content/uploads/2024/04/LifeGroup-Screen.png
END:VEVENT
BEGIN:VEVENT
DTSTART;TZID=America/Chicago:20240825T104500
DTEND;TZID=America/Chicago:20240825T120000
DTSTAMP:20260423T170543
CREATED:20231212T161833Z
LAST-MODIFIED:20231212T161833Z
UID:10001378-1724582700-1724587200@www.parkgate.church
SUMMARY:Sundays @ 10:45 a.m.
DESCRIPTION:On Sundays at 10:45 a.m.\, we offer: \n\nWorship Service\nSundayLife Gatherings\nKiX Children’s Ministry\n\nOur students (6th – 12th grades) are invited to participate in our worship service.
URL:https://www.parkgate.church/event/sundays-1045-a-m/2024-08-25/
LOCATION:Parkgate Community Church\, 3715 Preston Avenue\, Pasadena\, TX\, 77505\, United States
CATEGORIES:KiX Children's Ministry,Sunday Mornings,SundayLife
ATTACH;FMTTYPE=image/png:https://www.parkgate.church/wp-content/uploads/2023/12/Sundays-at-1045-a.m.png
END:VEVENT
BEGIN:VEVENT
DTSTART;TZID=America/Chicago:20240825T090000
DTEND;TZID=America/Chicago:20240825T101500
DTSTAMP:20260423T170543
CREATED:20231025T073903Z
LAST-MODIFIED:20231212T161518Z
UID:10001111-1724576400-1724580900@www.parkgate.church
SUMMARY:Sundays @ 9 a.m.
DESCRIPTION:On Sundays at 9 a.m.\, we offer: \n\nWorship Service\nSundayLife Gatherings\nKiX Children’s Ministry\nIMPACT Student Ministry
URL:https://www.parkgate.church/event/sundays-9-a-m/2024-08-25/
LOCATION:Parkgate Community Church\, 3715 Preston Avenue\, Pasadena\, TX\, 77505\, United States
CATEGORIES:IMPACT Student Ministry,KiX Children's Ministry,Sunday Mornings,SundayLife
ATTACH;FMTTYPE=image/png:https://www.parkgate.church/wp-content/uploads/2023/10/Sundays-at-9-a.m.png
END:VEVENT
BEGIN:VEVENT
DTSTART;TZID=America/Chicago:20240823T180000
DTEND;TZID=America/Chicago:20240823T200000
DTSTAMP:20260423T170543
CREATED:20240404T212604Z
LAST-MODIFIED:20240411T213122Z
UID:10005425-1724436000-1724443200@www.parkgate.church
SUMMARY:Pastor Kenneth's LifeGroup
DESCRIPTION:This LifeGroup is open to individuals and couples of all ages and seasons of life. For more details\, please reach out to Pastor Kenny at kboggs@parkgate.org.
URL:https://www.parkgate.church/event/pastor-kenneths-lifegroup/2024-08-23/
LOCATION:Pastor Kenneth’s House\, La Porte\, TX\, 77571\, United States
CATEGORIES:Adults,LifeGroups
ATTACH;FMTTYPE=image/png:https://www.parkgate.church/wp-content/uploads/2024/04/LifeGroup-Screen.png
END:VEVENT
BEGIN:VEVENT
DTSTART;TZID=America/Chicago:20240822T190000
DTEND;TZID=America/Chicago:20240822T200000
DTSTAMP:20260423T170543
CREATED:20240411T211312Z
LAST-MODIFIED:20240411T213038Z
UID:10005164-1724353200-1724356800@www.parkgate.church
SUMMARY:Frankie's LifeGroup
DESCRIPTION:This LifeGroup is open to individuals and couples of all ages and seasons of life. For more details\, please reach out to Pastor Kenny at kboggs@parkgate.org.
URL:https://www.parkgate.church/event/frankies-lifegroup/2024-08-22/
CATEGORIES:Adults,LifeGroups
ATTACH;FMTTYPE=image/png:https://www.parkgate.church/wp-content/uploads/2024/04/LifeGroup-Screen.png
END:VEVENT
END:VCALENDAR