BEGIN:VCALENDAR
VERSION:2.0
PRODID:-//Parkgate Community Church - ECPv6.15.20//NONSGML v1.0//EN
CALSCALE:GREGORIAN
METHOD:PUBLISH
X-ORIGINAL-URL:https://www.parkgate.church
X-WR-CALDESC:Events for Parkgate Community Church
REFRESH-INTERVAL;VALUE=DURATION:PT1H
X-Robots-Tag:noindex
X-PUBLISHED-TTL:PT1H
BEGIN:VTIMEZONE
TZID:America/Chicago
BEGIN:DAYLIGHT
TZOFFSETFROM:-0600
TZOFFSETTO:-0500
TZNAME:CDT
DTSTART:20230312T080000
END:DAYLIGHT
BEGIN:STANDARD
TZOFFSETFROM:-0500
TZOFFSETTO:-0600
TZNAME:CST
DTSTART:20231105T070000
END:STANDARD
BEGIN:DAYLIGHT
TZOFFSETFROM:-0600
TZOFFSETTO:-0500
TZNAME:CDT
DTSTART:20240310T080000
END:DAYLIGHT
BEGIN:STANDARD
TZOFFSETFROM:-0500
TZOFFSETTO:-0600
TZNAME:CST
DTSTART:20241103T070000
END:STANDARD
BEGIN:DAYLIGHT
TZOFFSETFROM:-0600
TZOFFSETTO:-0500
TZNAME:CDT
DTSTART:20250309T080000
END:DAYLIGHT
BEGIN:STANDARD
TZOFFSETFROM:-0500
TZOFFSETTO:-0600
TZNAME:CST
DTSTART:20251102T070000
END:STANDARD
END:VTIMEZONE
BEGIN:VEVENT
DTSTART;TZID=America/Chicago:20241101T180000
DTEND;TZID=America/Chicago:20241101T200000
DTSTAMP:20260421T113802
CREATED:20240404T212604Z
LAST-MODIFIED:20240411T213122Z
UID:10005435-1730484000-1730491200@www.parkgate.church
SUMMARY:Pastor Kenneth's LifeGroup
DESCRIPTION:This LifeGroup is open to individuals and couples of all ages and seasons of life. For more details\, please reach out to Pastor Kenny at kboggs@parkgate.org.
URL:https://www.parkgate.church/event/pastor-kenneths-lifegroup/2024-11-01/
LOCATION:Pastor Kenneth’s House\, La Porte\, TX\, 77571\, United States
CATEGORIES:Adults,LifeGroups
ATTACH;FMTTYPE=image/png:https://www.parkgate.church/wp-content/uploads/2024/04/LifeGroup-Screen.png
END:VEVENT
BEGIN:VEVENT
DTSTART;TZID=America/Chicago:20241103T090000
DTEND;TZID=America/Chicago:20241103T101500
DTSTAMP:20260421T113802
CREATED:20231025T073903Z
LAST-MODIFIED:20231212T161518Z
UID:10001121-1730624400-1730628900@www.parkgate.church
SUMMARY:Sundays @ 9 a.m.
DESCRIPTION:On Sundays at 9 a.m.\, we offer: \n\nWorship Service\nSundayLife Gatherings\nKiX Children’s Ministry\nIMPACT Student Ministry
URL:https://www.parkgate.church/event/sundays-9-a-m/2024-11-03/
LOCATION:Parkgate Community Church\, 3715 Preston Avenue\, Pasadena\, TX\, 77505\, United States
CATEGORIES:IMPACT Student Ministry,KiX Children's Ministry,Sunday Mornings,SundayLife
ATTACH;FMTTYPE=image/png:https://www.parkgate.church/wp-content/uploads/2023/10/Sundays-at-9-a.m.png
END:VEVENT
BEGIN:VEVENT
DTSTART;TZID=America/Chicago:20241103T104500
DTEND;TZID=America/Chicago:20241103T120000
DTSTAMP:20260421T113802
CREATED:20231212T161833Z
LAST-MODIFIED:20231212T161833Z
UID:10001388-1730630700-1730635200@www.parkgate.church
SUMMARY:Sundays @ 10:45 a.m.
DESCRIPTION:On Sundays at 10:45 a.m.\, we offer: \n\nWorship Service\nSundayLife Gatherings\nKiX Children’s Ministry\n\nOur students (6th – 12th grades) are invited to participate in our worship service.
URL:https://www.parkgate.church/event/sundays-1045-a-m/2024-11-03/
LOCATION:Parkgate Community Church\, 3715 Preston Avenue\, Pasadena\, TX\, 77505\, United States
CATEGORIES:KiX Children's Ministry,Sunday Mornings,SundayLife
ATTACH;FMTTYPE=image/png:https://www.parkgate.church/wp-content/uploads/2023/12/Sundays-at-1045-a.m.png
END:VEVENT
BEGIN:VEVENT
DTSTART;TZID=America/Chicago:20241103T170000
DTEND;TZID=America/Chicago:20241103T190000
DTSTAMP:20260421T113802
CREATED:20240404T204714Z
LAST-MODIFIED:20240411T212024Z
UID:10002623-1730653200-1730660400@www.parkgate.church
SUMMARY:Young Adult LifeGroup
DESCRIPTION:Join us for an uplifting and engaging gathering tailored for young adults seeking community\, growth\, and faith. Discover a place where you belong and can journey together in faith. For more details\, please reach out to Pastor Kenny at kboggs@parkgate.org.
URL:https://www.parkgate.church/event/young-adult-lifegroup/2024-11-03/
LOCATION:Pastor Kenneth’s House\, La Porte\, TX\, 77571\, United States
CATEGORIES:Adults,LifeGroups
ATTACH;FMTTYPE=image/png:https://www.parkgate.church/wp-content/uploads/2024/04/LifeGroup-Screen.png
END:VEVENT
BEGIN:VEVENT
DTSTART;TZID=America/Chicago:20241105T100000
DTEND;TZID=America/Chicago:20241105T110000
DTSTAMP:20260421T113802
CREATED:20240904T200054Z
LAST-MODIFIED:20250609T171823Z
UID:10006079-1730800800-1730804400@www.parkgate.church
SUMMARY:Becky's LifeGroup
DESCRIPTION:This life group is open to ladies of any age. We study the Bible\, using books\, video series\, and discussions to deepen our understanding of what it means to truly walk in the Lord’s plan for our lives.
URL:https://www.parkgate.church/event/beckys-lifegroup-2/2024-11-05/
LOCATION:Parkgate Community Church\, 3715 Preston Avenue\, Pasadena\, TX\, 77505\, United States
CATEGORIES:LifeGroups
ATTACH;FMTTYPE=image/png:https://www.parkgate.church/wp-content/uploads/2024/04/LifeGroup-Screen.png
ORGANIZER;CN="Becky Hicks":MAILTO:bhicks200416@sbcglobal.net
END:VEVENT
BEGIN:VEVENT
DTSTART;TZID=America/Chicago:20241105T183000
DTEND;TZID=America/Chicago:20241105T200000
DTSTAMP:20260421T113802
CREATED:20240411T210254Z
LAST-MODIFIED:20240411T212705Z
UID:10003669-1730831400-1730836800@www.parkgate.church
SUMMARY:Larry's LifeGroup
DESCRIPTION:This LifeGroup is comprised of couples and individuals aged 50 and up. For more details\, please reach out to Pastor Kenny at kboggs@parkgate.org.
URL:https://www.parkgate.church/event/larrys-lifegroup-2/2024-11-05/
CATEGORIES:Adults,LifeGroups
ATTACH;FMTTYPE=image/png:https://www.parkgate.church/wp-content/uploads/2024/04/LifeGroup-Screen.png
END:VEVENT
BEGIN:VEVENT
DTSTART;TZID=America/Chicago:20241105T190000
DTEND;TZID=America/Chicago:20241105T200000
DTSTAMP:20260421T113802
CREATED:20240904T203227Z
LAST-MODIFIED:20240904T203227Z
UID:10006340-1730833200-1730836800@www.parkgate.church
SUMMARY:Brittney's Group
DESCRIPTION:Ladies of Parkagte\, engage with the Parkgate sisterhood on Tuesdays at 7 p.m. to study the Bible and join in fellowship together. Women of all ages are welcome.
URL:https://www.parkgate.church/event/brittneys-group/2024-11-05/
LOCATION:Parkgate Community Church\, 3715 Preston Avenue\, Pasadena\, TX\, 77505\, United States
CATEGORIES:LifeGroups
ATTACH;FMTTYPE=image/png:https://www.parkgate.church/wp-content/uploads/2024/04/LifeGroup-Screen.png
ORGANIZER;CN="Brittney Mejia":MAILTO:Brittney.martinez16@gmail.com
END:VEVENT
BEGIN:VEVENT
DTSTART;TZID=America/Chicago:20241106T180000
DTEND;TZID=America/Chicago:20241106T200000
DTSTAMP:20260421T113802
CREATED:20231212T163824Z
LAST-MODIFIED:20240724T195525Z
UID:10001877-1730916000-1730923200@www.parkgate.church
SUMMARY:Fun Night
DESCRIPTION:Join fellow Parkgate adults in the Fellowship Room at 6 p.m. for a time of board games and cards\, fellowship\, and a light meal.
URL:https://www.parkgate.church/event/fellowship-game-night/2024-11-06/
LOCATION:Parkgate Community Church\, 3715 Preston Avenue\, Pasadena\, TX\, 77505\, United States
CATEGORIES:Adults
ATTACH;FMTTYPE=image/png:https://www.parkgate.church/wp-content/uploads/2023/12/Fun-Night-Screen.png
END:VEVENT
BEGIN:VEVENT
DTSTART;TZID=America/Chicago:20241106T190000
DTEND;TZID=America/Chicago:20241106T200000
DTSTAMP:20260421T113802
CREATED:20231212T173720Z
LAST-MODIFIED:20240731T215945Z
UID:10002042-1730919600-1730923200@www.parkgate.church
SUMMARY:Club KiX
DESCRIPTION:Kids age 4 – 5th grade are invited to join us at Club KiX\, a high-energy\, hands-on hour of Bible learning and practical application.
URL:https://www.parkgate.church/event/club-kix/2024-11-06/
LOCATION:Parkgate Community Church\, 3715 Preston Avenue\, Pasadena\, TX\, 77505\, United States
CATEGORIES:KiX Children's Ministry
ATTACH;FMTTYPE=image/png:https://www.parkgate.church/wp-content/uploads/2024/07/Club-KiX-Screen.png
END:VEVENT
BEGIN:VEVENT
DTSTART;TZID=America/Chicago:20241106T190000
DTEND;TZID=America/Chicago:20241106T200000
DTSTAMP:20260421T113802
CREATED:20231212T174020Z
LAST-MODIFIED:20231228T023812Z
UID:10002301-1730919600-1730923200@www.parkgate.church
SUMMARY:IMPACT Midweek
DESCRIPTION:Students in 6th – 12th grade are invited to join us for our IMPACT Midweek Gatherings\, from 7 – 8 p.m. on Wednesday nights. During this time\, we hang out with our friends\, play games\, worship\, and dive into God’s Word together.
URL:https://www.parkgate.church/event/impact-midweek/2024-11-06/
LOCATION:Parkgate Community Church\, 3715 Preston Avenue\, Pasadena\, TX\, 77505\, United States
CATEGORIES:IMPACT Student Ministry
ATTACH;FMTTYPE=image/png:https://www.parkgate.church/wp-content/uploads/2023/12/IMPACT-Midweek.png
END:VEVENT
BEGIN:VEVENT
DTSTART;TZID=America/Chicago:20241106T190000
DTEND;TZID=America/Chicago:20241106T200000
DTSTAMP:20260421T113802
CREATED:20240404T181023Z
LAST-MODIFIED:20240411T212741Z
UID:10003930-1730919600-1730923200@www.parkgate.church
SUMMARY:Votaw LifeGroup
DESCRIPTION:This LifeGroup is open to individuals and couples of all ages and seasons of life. For more details\, please reach out to Pastor Kenny at kboggs@parkgate.org.
URL:https://www.parkgate.church/event/votaw-lifegroup/2024-11-06/
LOCATION:Parkgate Community Church\, 3715 Preston Avenue\, Pasadena\, TX\, 77505\, United States
ATTACH;FMTTYPE=image/png:https://www.parkgate.church/wp-content/uploads/2024/04/LifeGroup-Screen.png
ORGANIZER;CN="Shirley Votaw":MAILTO:svotaw@parkgate.org
END:VEVENT
BEGIN:VEVENT
DTSTART;TZID=America/Chicago:20241106T190000
DTEND;TZID=America/Chicago:20241106T200000
DTSTAMP:20260421T113802
CREATED:20240404T205606Z
LAST-MODIFIED:20240411T212857Z
UID:10005703-1730919600-1730923200@www.parkgate.church
SUMMARY:Steven's LifeGroup
DESCRIPTION:This LifeGroup is open to individuals and couples of all ages and seasons of life. For more details\, please reach out to Pastor Kenny at kboggs@parkgate.org.
URL:https://www.parkgate.church/event/stevens-lifegroup/2024-11-06/
LOCATION:Parkgate Community Church\, 3715 Preston Avenue\, Pasadena\, TX\, 77505\, United States
CATEGORIES:Adults,LifeGroups
ATTACH;FMTTYPE=image/png:https://www.parkgate.church/wp-content/uploads/2024/04/LifeGroup-Screen.png
END:VEVENT
BEGIN:VEVENT
DTSTART;TZID=America/Chicago:20241106T190000
DTEND;TZID=America/Chicago:20241106T200000
DTSTAMP:20260421T113802
CREATED:20240411T210511Z
LAST-MODIFIED:20240411T212819Z
UID:10004191-1730919600-1730923200@www.parkgate.church
SUMMARY:Troy's LifeGroup
DESCRIPTION:This LifeGroup is open to individuals and couples of all ages and seasons of life. For more details\, please reach out to Pastor Kenny at kboggs@parkgate.org.
URL:https://www.parkgate.church/event/troys-lifegroup/2024-11-06/
LOCATION:Troy’s House\, Deer Park\, TX\, 77536\, United States
CATEGORIES:Adults,LifeGroups
ATTACH;FMTTYPE=image/png:https://www.parkgate.church/wp-content/uploads/2024/04/LifeGroup-Screen.png
END:VEVENT
BEGIN:VEVENT
DTSTART;TZID=America/Chicago:20241107T120000
DTEND;TZID=America/Chicago:20241107T130000
DTSTAMP:20260421T113802
CREATED:20240404T211218Z
LAST-MODIFIED:20240404T211218Z
UID:10004653-1730980800-1730984400@www.parkgate.church
SUMMARY:Bible Study with Pastor Kenneth
DESCRIPTION:This LifeGroup is open to individuals and couples of all ages and seasons of life. For more details\, please reach out to Pastor Kenny at kboggs@parkgate.org.
URL:https://www.parkgate.church/event/bible-study-with-pastor-kenneth/2024-11-07/
LOCATION:Parkgate Community Church\, 3715 Preston Avenue\, Pasadena\, TX\, 77505\, United States
CATEGORIES:Adults,LifeGroups
END:VEVENT
BEGIN:VEVENT
DTSTART;TZID=America/Chicago:20241107T180000
DTEND;TZID=America/Chicago:20241107T200000
DTSTAMP:20260421T113802
CREATED:20240404T211622Z
LAST-MODIFIED:20240411T212959Z
UID:10004914-1731002400-1731009600@www.parkgate.church
SUMMARY:Larry's LifeGroup
DESCRIPTION:This LifeGroup is comprised of couples and individuals aged 50 and up. For more details\, please reach out to Pastor Kenny at kboggs@parkgate.org.
URL:https://www.parkgate.church/event/larrys-lifegroup/2024-11-07/
LOCATION:Duncan’s House\, Pasadena\, TX\, 77505\, United States
CATEGORIES:Adults,LifeGroups
ATTACH;FMTTYPE=image/png:https://www.parkgate.church/wp-content/uploads/2024/04/LifeGroup-Screen.png
END:VEVENT
BEGIN:VEVENT
DTSTART;TZID=America/Chicago:20241107T190000
DTEND;TZID=America/Chicago:20241107T200000
DTSTAMP:20260421T113802
CREATED:20240411T211312Z
LAST-MODIFIED:20240411T213038Z
UID:10005175-1731006000-1731009600@www.parkgate.church
SUMMARY:Frankie's LifeGroup
DESCRIPTION:This LifeGroup is open to individuals and couples of all ages and seasons of life. For more details\, please reach out to Pastor Kenny at kboggs@parkgate.org.
URL:https://www.parkgate.church/event/frankies-lifegroup/2024-11-07/
CATEGORIES:Adults,LifeGroups
ATTACH;FMTTYPE=image/png:https://www.parkgate.church/wp-content/uploads/2024/04/LifeGroup-Screen.png
END:VEVENT
BEGIN:VEVENT
DTSTART;TZID=America/Chicago:20241108T180000
DTEND;TZID=America/Chicago:20241108T200000
DTSTAMP:20260421T113802
CREATED:20240404T212604Z
LAST-MODIFIED:20240411T213122Z
UID:10005436-1731088800-1731096000@www.parkgate.church
SUMMARY:Pastor Kenneth's LifeGroup
DESCRIPTION:This LifeGroup is open to individuals and couples of all ages and seasons of life. For more details\, please reach out to Pastor Kenny at kboggs@parkgate.org.
URL:https://www.parkgate.church/event/pastor-kenneths-lifegroup/2024-11-08/
LOCATION:Pastor Kenneth’s House\, La Porte\, TX\, 77571\, United States
CATEGORIES:Adults,LifeGroups
ATTACH;FMTTYPE=image/png:https://www.parkgate.church/wp-content/uploads/2024/04/LifeGroup-Screen.png
END:VEVENT
BEGIN:VEVENT
DTSTART;TZID=America/Chicago:20241109T090000
DTEND;TZID=America/Chicago:20241109T230000
DTSTAMP:20260421T113802
CREATED:20241107T165551Z
LAST-MODIFIED:20241107T165551Z
UID:10006594-1731142800-1731193200@www.parkgate.church
SUMMARY:Surviving the Holidays
DESCRIPTION:Holidays can be hard\, especially when you’re dealing with the loss of a loved one. Join our 2-hour\, GriefShare Surviving the Holidays event on Saturday\, November 9. Surviving the Holidays is a community of people who know what it’s like to walk through the holidays in grief. You will find connection and comfort in knowing you’re not alone this season.
URL:https://www.parkgate.church/event/surviving-the-holidays/
LOCATION:Parkgate Community Church\, 3715 Preston Avenue\, Pasadena\, TX\, 77505\, United States
CATEGORIES:Adults
ATTACH;FMTTYPE=image/png:https://www.parkgate.church/wp-content/uploads/2024/11/Surviving-the-Holidays-Screen.png
END:VEVENT
BEGIN:VEVENT
DTSTART;TZID=America/Chicago:20241110T090000
DTEND;TZID=America/Chicago:20241110T101500
DTSTAMP:20260421T113802
CREATED:20231025T073903Z
LAST-MODIFIED:20231212T161518Z
UID:10001122-1731229200-1731233700@www.parkgate.church
SUMMARY:Sundays @ 9 a.m.
DESCRIPTION:On Sundays at 9 a.m.\, we offer: \n\nWorship Service\nSundayLife Gatherings\nKiX Children’s Ministry\nIMPACT Student Ministry
URL:https://www.parkgate.church/event/sundays-9-a-m/2024-11-10/
LOCATION:Parkgate Community Church\, 3715 Preston Avenue\, Pasadena\, TX\, 77505\, United States
CATEGORIES:IMPACT Student Ministry,KiX Children's Ministry,Sunday Mornings,SundayLife
ATTACH;FMTTYPE=image/png:https://www.parkgate.church/wp-content/uploads/2023/10/Sundays-at-9-a.m.png
END:VEVENT
BEGIN:VEVENT
DTSTART;TZID=America/Chicago:20241110T104500
DTEND;TZID=America/Chicago:20241110T120000
DTSTAMP:20260421T113802
CREATED:20231212T161833Z
LAST-MODIFIED:20231212T161833Z
UID:10001389-1731235500-1731240000@www.parkgate.church
SUMMARY:Sundays @ 10:45 a.m.
DESCRIPTION:On Sundays at 10:45 a.m.\, we offer: \n\nWorship Service\nSundayLife Gatherings\nKiX Children’s Ministry\n\nOur students (6th – 12th grades) are invited to participate in our worship service.
URL:https://www.parkgate.church/event/sundays-1045-a-m/2024-11-10/
LOCATION:Parkgate Community Church\, 3715 Preston Avenue\, Pasadena\, TX\, 77505\, United States
CATEGORIES:KiX Children's Ministry,Sunday Mornings,SundayLife
ATTACH;FMTTYPE=image/png:https://www.parkgate.church/wp-content/uploads/2023/12/Sundays-at-1045-a.m.png
END:VEVENT
BEGIN:VEVENT
DTSTART;TZID=America/Chicago:20241110T160000
DTEND;TZID=America/Chicago:20241110T180000
DTSTAMP:20260421T113802
CREATED:20241107T170019Z
LAST-MODIFIED:20241107T170019Z
UID:10006595-1731254400-1731261600@www.parkgate.church
SUMMARY:Boggs LifeGroup
DESCRIPTION:The Boggs LifeGroup is a group of mixed ages\, primarily young families\, who meet together weekly for various Bible studies.
URL:https://www.parkgate.church/event/boggs-lifegroup/2024-11-10/
LOCATION:Boggs House\, Houston\, TX\, 77034\, United States
CATEGORIES:LifeGroups
ATTACH;FMTTYPE=image/png:https://www.parkgate.church/wp-content/uploads/2024/04/LifeGroup-Screen.png
ORGANIZER;CN="Pastor Kenny":MAILTO:kboggs@parkgate.org
END:VEVENT
BEGIN:VEVENT
DTSTART;TZID=America/Chicago:20241110T170000
DTEND;TZID=America/Chicago:20241110T190000
DTSTAMP:20260421T113802
CREATED:20240404T204714Z
LAST-MODIFIED:20240411T212024Z
UID:10002624-1731258000-1731265200@www.parkgate.church
SUMMARY:Young Adult LifeGroup
DESCRIPTION:Join us for an uplifting and engaging gathering tailored for young adults seeking community\, growth\, and faith. Discover a place where you belong and can journey together in faith. For more details\, please reach out to Pastor Kenny at kboggs@parkgate.org.
URL:https://www.parkgate.church/event/young-adult-lifegroup/2024-11-10/
LOCATION:Pastor Kenneth’s House\, La Porte\, TX\, 77571\, United States
CATEGORIES:Adults,LifeGroups
ATTACH;FMTTYPE=image/png:https://www.parkgate.church/wp-content/uploads/2024/04/LifeGroup-Screen.png
END:VEVENT
BEGIN:VEVENT
DTSTART;TZID=America/Chicago:20241112T100000
DTEND;TZID=America/Chicago:20241112T110000
DTSTAMP:20260421T113803
CREATED:20240904T200054Z
LAST-MODIFIED:20250609T171823Z
UID:10006080-1731405600-1731409200@www.parkgate.church
SUMMARY:Becky's LifeGroup
DESCRIPTION:This life group is open to ladies of any age. We study the Bible\, using books\, video series\, and discussions to deepen our understanding of what it means to truly walk in the Lord’s plan for our lives.
URL:https://www.parkgate.church/event/beckys-lifegroup-2/2024-11-12/
LOCATION:Parkgate Community Church\, 3715 Preston Avenue\, Pasadena\, TX\, 77505\, United States
CATEGORIES:LifeGroups
ATTACH;FMTTYPE=image/png:https://www.parkgate.church/wp-content/uploads/2024/04/LifeGroup-Screen.png
ORGANIZER;CN="Becky Hicks":MAILTO:bhicks200416@sbcglobal.net
END:VEVENT
BEGIN:VEVENT
DTSTART;TZID=America/Chicago:20241112T170000
DTEND;TZID=America/Chicago:20241112T183000
DTSTAMP:20260421T113803
CREATED:20240404T210855Z
LAST-MODIFIED:20240411T212625Z
UID:10004446-1731430800-1731436200@www.parkgate.church
SUMMARY:Judy's LifeGroup
DESCRIPTION:This LifeGroup is comprised of couples and individuals aged 50 and up. For more details\, please reach out to Pastor Kenny at kboggs@parkgate.org.
URL:https://www.parkgate.church/event/judys-lifegroup/2024-11-12/
LOCATION:Parkgate Community Church\, 3715 Preston Avenue\, Pasadena\, TX\, 77505\, United States
CATEGORIES:Adults,LifeGroups
ATTACH;FMTTYPE=image/png:https://www.parkgate.church/wp-content/uploads/2024/04/LifeGroup-Screen.png
END:VEVENT
BEGIN:VEVENT
DTSTART;TZID=America/Chicago:20241112T183000
DTEND;TZID=America/Chicago:20241112T200000
DTSTAMP:20260421T113803
CREATED:20240411T210254Z
LAST-MODIFIED:20240411T212705Z
UID:10003670-1731436200-1731441600@www.parkgate.church
SUMMARY:Larry's LifeGroup
DESCRIPTION:This LifeGroup is comprised of couples and individuals aged 50 and up. For more details\, please reach out to Pastor Kenny at kboggs@parkgate.org.
URL:https://www.parkgate.church/event/larrys-lifegroup-2/2024-11-12/
CATEGORIES:Adults,LifeGroups
ATTACH;FMTTYPE=image/png:https://www.parkgate.church/wp-content/uploads/2024/04/LifeGroup-Screen.png
END:VEVENT
BEGIN:VEVENT
DTSTART;TZID=America/Chicago:20241112T190000
DTEND;TZID=America/Chicago:20241112T200000
DTSTAMP:20260421T113803
CREATED:20240904T203227Z
LAST-MODIFIED:20240904T203227Z
UID:10006341-1731438000-1731441600@www.parkgate.church
SUMMARY:Brittney's Group
DESCRIPTION:Ladies of Parkagte\, engage with the Parkgate sisterhood on Tuesdays at 7 p.m. to study the Bible and join in fellowship together. Women of all ages are welcome.
URL:https://www.parkgate.church/event/brittneys-group/2024-11-12/
LOCATION:Parkgate Community Church\, 3715 Preston Avenue\, Pasadena\, TX\, 77505\, United States
CATEGORIES:LifeGroups
ATTACH;FMTTYPE=image/png:https://www.parkgate.church/wp-content/uploads/2024/04/LifeGroup-Screen.png
ORGANIZER;CN="Brittney Mejia":MAILTO:Brittney.martinez16@gmail.com
END:VEVENT
BEGIN:VEVENT
DTSTART;TZID=America/Chicago:20241113T190000
DTEND;TZID=America/Chicago:20241113T200000
DTSTAMP:20260421T113803
CREATED:20231212T173720Z
LAST-MODIFIED:20240731T215945Z
UID:10002043-1731524400-1731528000@www.parkgate.church
SUMMARY:Club KiX
DESCRIPTION:Kids age 4 – 5th grade are invited to join us at Club KiX\, a high-energy\, hands-on hour of Bible learning and practical application.
URL:https://www.parkgate.church/event/club-kix/2024-11-13/
LOCATION:Parkgate Community Church\, 3715 Preston Avenue\, Pasadena\, TX\, 77505\, United States
CATEGORIES:KiX Children's Ministry
ATTACH;FMTTYPE=image/png:https://www.parkgate.church/wp-content/uploads/2024/07/Club-KiX-Screen.png
END:VEVENT
BEGIN:VEVENT
DTSTART;TZID=America/Chicago:20241113T190000
DTEND;TZID=America/Chicago:20241113T200000
DTSTAMP:20260421T113803
CREATED:20231212T174020Z
LAST-MODIFIED:20231228T023812Z
UID:10002302-1731524400-1731528000@www.parkgate.church
SUMMARY:IMPACT Midweek
DESCRIPTION:Students in 6th – 12th grade are invited to join us for our IMPACT Midweek Gatherings\, from 7 – 8 p.m. on Wednesday nights. During this time\, we hang out with our friends\, play games\, worship\, and dive into God’s Word together.
URL:https://www.parkgate.church/event/impact-midweek/2024-11-13/
LOCATION:Parkgate Community Church\, 3715 Preston Avenue\, Pasadena\, TX\, 77505\, United States
CATEGORIES:IMPACT Student Ministry
ATTACH;FMTTYPE=image/png:https://www.parkgate.church/wp-content/uploads/2023/12/IMPACT-Midweek.png
END:VEVENT
BEGIN:VEVENT
DTSTART;TZID=America/Chicago:20241113T190000
DTEND;TZID=America/Chicago:20241113T200000
DTSTAMP:20260421T113803
CREATED:20240404T181023Z
LAST-MODIFIED:20240411T212741Z
UID:10003931-1731524400-1731528000@www.parkgate.church
SUMMARY:Votaw LifeGroup
DESCRIPTION:This LifeGroup is open to individuals and couples of all ages and seasons of life. For more details\, please reach out to Pastor Kenny at kboggs@parkgate.org.
URL:https://www.parkgate.church/event/votaw-lifegroup/2024-11-13/
LOCATION:Parkgate Community Church\, 3715 Preston Avenue\, Pasadena\, TX\, 77505\, United States
ATTACH;FMTTYPE=image/png:https://www.parkgate.church/wp-content/uploads/2024/04/LifeGroup-Screen.png
ORGANIZER;CN="Shirley Votaw":MAILTO:svotaw@parkgate.org
END:VEVENT
BEGIN:VEVENT
DTSTART;TZID=America/Chicago:20241113T190000
DTEND;TZID=America/Chicago:20241113T200000
DTSTAMP:20260421T113803
CREATED:20240404T205606Z
LAST-MODIFIED:20240411T212857Z
UID:10005704-1731524400-1731528000@www.parkgate.church
SUMMARY:Steven's LifeGroup
DESCRIPTION:This LifeGroup is open to individuals and couples of all ages and seasons of life. For more details\, please reach out to Pastor Kenny at kboggs@parkgate.org.
URL:https://www.parkgate.church/event/stevens-lifegroup/2024-11-13/
LOCATION:Parkgate Community Church\, 3715 Preston Avenue\, Pasadena\, TX\, 77505\, United States
CATEGORIES:Adults,LifeGroups
ATTACH;FMTTYPE=image/png:https://www.parkgate.church/wp-content/uploads/2024/04/LifeGroup-Screen.png
END:VEVENT
END:VCALENDAR