BEGIN:VCALENDAR
VERSION:2.0
PRODID:-//Parkgate Community Church - ECPv6.15.20//NONSGML v1.0//EN
CALSCALE:GREGORIAN
METHOD:PUBLISH
X-WR-CALNAME:Parkgate Community Church
X-ORIGINAL-URL:https://www.parkgate.church
X-WR-CALDESC:Events for Parkgate Community Church
REFRESH-INTERVAL;VALUE=DURATION:PT1H
X-Robots-Tag:noindex
X-PUBLISHED-TTL:PT1H
BEGIN:VTIMEZONE
TZID:America/Chicago
BEGIN:DAYLIGHT
TZOFFSETFROM:-0600
TZOFFSETTO:-0500
TZNAME:CDT
DTSTART:20260308T080000
END:DAYLIGHT
BEGIN:STANDARD
TZOFFSETFROM:-0500
TZOFFSETTO:-0600
TZNAME:CST
DTSTART:20261101T070000
END:STANDARD
BEGIN:DAYLIGHT
TZOFFSETFROM:-0600
TZOFFSETTO:-0500
TZNAME:CDT
DTSTART:20270314T080000
END:DAYLIGHT
BEGIN:STANDARD
TZOFFSETFROM:-0500
TZOFFSETTO:-0600
TZNAME:CST
DTSTART:20271107T070000
END:STANDARD
BEGIN:DAYLIGHT
TZOFFSETFROM:-0600
TZOFFSETTO:-0500
TZNAME:CDT
DTSTART:20280312T080000
END:DAYLIGHT
BEGIN:STANDARD
TZOFFSETFROM:-0500
TZOFFSETTO:-0600
TZNAME:CST
DTSTART:20281105T070000
END:STANDARD
END:VTIMEZONE
BEGIN:VEVENT
DTSTART;TZID=America/Chicago:20270602T180000
DTEND;TZID=America/Chicago:20270602T200000
DTSTAMP:20260421T131437
CREATED:20231212T163824Z
LAST-MODIFIED:20240724T195525Z
UID:10001908-1811959200-1811966400@www.parkgate.church
SUMMARY:Fun Night
DESCRIPTION:Join fellow Parkgate adults in the Fellowship Room at 6 p.m. for a time of board games and cards\, fellowship\, and a light meal.
URL:https://www.parkgate.church/event/fellowship-game-night/2027-06-02/
LOCATION:Parkgate Community Church\, 3715 Preston Avenue\, Pasadena\, TX\, 77505\, United States
CATEGORIES:Adults
ATTACH;FMTTYPE=image/png:https://www.parkgate.church/wp-content/uploads/2023/12/Fun-Night-Screen.png
END:VEVENT
BEGIN:VEVENT
DTSTART;TZID=America/Chicago:20270602T190000
DTEND;TZID=America/Chicago:20270602T200000
DTSTAMP:20260421T131437
CREATED:20231212T173720Z
LAST-MODIFIED:20240731T215945Z
UID:10002176-1811962800-1811966400@www.parkgate.church
SUMMARY:Club KiX
DESCRIPTION:Kids age 4 – 5th grade are invited to join us at Club KiX\, a high-energy\, hands-on hour of Bible learning and practical application.
URL:https://www.parkgate.church/event/club-kix/2027-06-02/
LOCATION:Parkgate Community Church\, 3715 Preston Avenue\, Pasadena\, TX\, 77505\, United States
CATEGORIES:KiX Children's Ministry
ATTACH;FMTTYPE=image/png:https://www.parkgate.church/wp-content/uploads/2024/07/Club-KiX-Screen.png
END:VEVENT
BEGIN:VEVENT
DTSTART;TZID=America/Chicago:20270602T190000
DTEND;TZID=America/Chicago:20270602T200000
DTSTAMP:20260421T131437
CREATED:20231212T174020Z
LAST-MODIFIED:20231228T023812Z
UID:10002435-1811962800-1811966400@www.parkgate.church
SUMMARY:IMPACT Midweek
DESCRIPTION:Students in 6th – 12th grade are invited to join us for our IMPACT Midweek Gatherings\, from 7 – 8 p.m. on Wednesday nights. During this time\, we hang out with our friends\, play games\, worship\, and dive into God’s Word together.
URL:https://www.parkgate.church/event/impact-midweek/2027-06-02/
LOCATION:Parkgate Community Church\, 3715 Preston Avenue\, Pasadena\, TX\, 77505\, United States
CATEGORIES:IMPACT Student Ministry
ATTACH;FMTTYPE=image/png:https://www.parkgate.church/wp-content/uploads/2023/12/IMPACT-Midweek.png
END:VEVENT
BEGIN:VEVENT
DTSTART;TZID=America/Chicago:20270606T090000
DTEND;TZID=America/Chicago:20270606T101500
DTSTAMP:20260421T131437
CREATED:20231025T073903Z
LAST-MODIFIED:20231212T161518Z
UID:10001256-1812272400-1812276900@www.parkgate.church
SUMMARY:Sundays @ 9 a.m.
DESCRIPTION:On Sundays at 9 a.m.\, we offer: \n\nWorship Service\nSundayLife Gatherings\nKiX Children’s Ministry\nIMPACT Student Ministry
URL:https://www.parkgate.church/event/sundays-9-a-m/2027-06-06/
LOCATION:Parkgate Community Church\, 3715 Preston Avenue\, Pasadena\, TX\, 77505\, United States
CATEGORIES:IMPACT Student Ministry,KiX Children's Ministry,Sunday Mornings,SundayLife
ATTACH;FMTTYPE=image/png:https://www.parkgate.church/wp-content/uploads/2023/10/Sundays-at-9-a.m.png
END:VEVENT
BEGIN:VEVENT
DTSTART;TZID=America/Chicago:20270606T104500
DTEND;TZID=America/Chicago:20270606T120000
DTSTAMP:20260421T131437
CREATED:20231212T161833Z
LAST-MODIFIED:20231212T161833Z
UID:10001523-1812278700-1812283200@www.parkgate.church
SUMMARY:Sundays @ 10:45 a.m.
DESCRIPTION:On Sundays at 10:45 a.m.\, we offer: \n\nWorship Service\nSundayLife Gatherings\nKiX Children’s Ministry\n\nOur students (6th – 12th grades) are invited to participate in our worship service.
URL:https://www.parkgate.church/event/sundays-1045-a-m/2027-06-06/
LOCATION:Parkgate Community Church\, 3715 Preston Avenue\, Pasadena\, TX\, 77505\, United States
CATEGORIES:KiX Children's Ministry,Sunday Mornings,SundayLife
ATTACH;FMTTYPE=image/png:https://www.parkgate.church/wp-content/uploads/2023/12/Sundays-at-1045-a.m.png
END:VEVENT
BEGIN:VEVENT
DTSTART;TZID=America/Chicago:20270606T170000
DTEND;TZID=America/Chicago:20270606T190000
DTSTAMP:20260421T131437
CREATED:20240404T204714Z
LAST-MODIFIED:20240411T212024Z
UID:10002758-1812301200-1812308400@www.parkgate.church
SUMMARY:Young Adult LifeGroup
DESCRIPTION:Join us for an uplifting and engaging gathering tailored for young adults seeking community\, growth\, and faith. Discover a place where you belong and can journey together in faith. For more details\, please reach out to Pastor Kenny at kboggs@parkgate.org.
URL:https://www.parkgate.church/event/young-adult-lifegroup/2027-06-06/
LOCATION:Pastor Kenneth’s House\, La Porte\, TX\, 77571\, United States
CATEGORIES:Adults,LifeGroups
ATTACH;FMTTYPE=image/png:https://www.parkgate.church/wp-content/uploads/2024/04/LifeGroup-Screen.png
END:VEVENT
BEGIN:VEVENT
DTSTART;TZID=America/Chicago:20270609T190000
DTEND;TZID=America/Chicago:20270609T200000
DTSTAMP:20260421T131437
CREATED:20231212T173720Z
LAST-MODIFIED:20240731T215945Z
UID:10002177-1812567600-1812571200@www.parkgate.church
SUMMARY:Club KiX
DESCRIPTION:Kids age 4 – 5th grade are invited to join us at Club KiX\, a high-energy\, hands-on hour of Bible learning and practical application.
URL:https://www.parkgate.church/event/club-kix/2027-06-09/
LOCATION:Parkgate Community Church\, 3715 Preston Avenue\, Pasadena\, TX\, 77505\, United States
CATEGORIES:KiX Children's Ministry
ATTACH;FMTTYPE=image/png:https://www.parkgate.church/wp-content/uploads/2024/07/Club-KiX-Screen.png
END:VEVENT
BEGIN:VEVENT
DTSTART;TZID=America/Chicago:20270609T190000
DTEND;TZID=America/Chicago:20270609T200000
DTSTAMP:20260421T131437
CREATED:20231212T174020Z
LAST-MODIFIED:20231228T023812Z
UID:10002436-1812567600-1812571200@www.parkgate.church
SUMMARY:IMPACT Midweek
DESCRIPTION:Students in 6th – 12th grade are invited to join us for our IMPACT Midweek Gatherings\, from 7 – 8 p.m. on Wednesday nights. During this time\, we hang out with our friends\, play games\, worship\, and dive into God’s Word together.
URL:https://www.parkgate.church/event/impact-midweek/2027-06-09/
LOCATION:Parkgate Community Church\, 3715 Preston Avenue\, Pasadena\, TX\, 77505\, United States
CATEGORIES:IMPACT Student Ministry
ATTACH;FMTTYPE=image/png:https://www.parkgate.church/wp-content/uploads/2023/12/IMPACT-Midweek.png
END:VEVENT
BEGIN:VEVENT
DTSTART;TZID=America/Chicago:20270610T080000
DTEND;TZID=America/Chicago:20270610T093000
DTSTAMP:20260421T131437
CREATED:20231212T164009Z
LAST-MODIFIED:20231212T164332Z
UID:10001969-1812614400-1812619800@www.parkgate.church
SUMMARY:Men's Breakfast & Fellowship
DESCRIPTION:Men\, you’re invited to join us in the back room at Kelley’s Country Cookin’ on Spencer Highway from 8 – 9:30 a.m. for a time of good food and fellowship.
URL:https://www.parkgate.church/event/mens-breakfast-fellowship/2027-06-10/
LOCATION:Kelley’s Country Cooking\, 7011 Spencer Hwy\, Pasadena\, TX\, 77505\, United States
CATEGORIES:Men
ATTACH;FMTTYPE=image/png:https://www.parkgate.church/wp-content/uploads/2023/12/Mens-Breakfast-Screen-Revised.png
END:VEVENT
BEGIN:VEVENT
DTSTART;TZID=America/Chicago:20270613T090000
DTEND;TZID=America/Chicago:20270613T101500
DTSTAMP:20260421T131437
CREATED:20231025T073903Z
LAST-MODIFIED:20231212T161518Z
UID:10001257-1812877200-1812881700@www.parkgate.church
SUMMARY:Sundays @ 9 a.m.
DESCRIPTION:On Sundays at 9 a.m.\, we offer: \n\nWorship Service\nSundayLife Gatherings\nKiX Children’s Ministry\nIMPACT Student Ministry
URL:https://www.parkgate.church/event/sundays-9-a-m/2027-06-13/
LOCATION:Parkgate Community Church\, 3715 Preston Avenue\, Pasadena\, TX\, 77505\, United States
CATEGORIES:IMPACT Student Ministry,KiX Children's Ministry,Sunday Mornings,SundayLife
ATTACH;FMTTYPE=image/png:https://www.parkgate.church/wp-content/uploads/2023/10/Sundays-at-9-a.m.png
END:VEVENT
BEGIN:VEVENT
DTSTART;TZID=America/Chicago:20270613T104500
DTEND;TZID=America/Chicago:20270613T120000
DTSTAMP:20260421T131437
CREATED:20231212T161833Z
LAST-MODIFIED:20231212T161833Z
UID:10001524-1812883500-1812888000@www.parkgate.church
SUMMARY:Sundays @ 10:45 a.m.
DESCRIPTION:On Sundays at 10:45 a.m.\, we offer: \n\nWorship Service\nSundayLife Gatherings\nKiX Children’s Ministry\n\nOur students (6th – 12th grades) are invited to participate in our worship service.
URL:https://www.parkgate.church/event/sundays-1045-a-m/2027-06-13/
LOCATION:Parkgate Community Church\, 3715 Preston Avenue\, Pasadena\, TX\, 77505\, United States
CATEGORIES:KiX Children's Ministry,Sunday Mornings,SundayLife
ATTACH;FMTTYPE=image/png:https://www.parkgate.church/wp-content/uploads/2023/12/Sundays-at-1045-a.m.png
END:VEVENT
BEGIN:VEVENT
DTSTART;TZID=America/Chicago:20270613T170000
DTEND;TZID=America/Chicago:20270613T190000
DTSTAMP:20260421T131437
CREATED:20240404T204714Z
LAST-MODIFIED:20240411T212024Z
UID:10002759-1812906000-1812913200@www.parkgate.church
SUMMARY:Young Adult LifeGroup
DESCRIPTION:Join us for an uplifting and engaging gathering tailored for young adults seeking community\, growth\, and faith. Discover a place where you belong and can journey together in faith. For more details\, please reach out to Pastor Kenny at kboggs@parkgate.org.
URL:https://www.parkgate.church/event/young-adult-lifegroup/2027-06-13/
LOCATION:Pastor Kenneth’s House\, La Porte\, TX\, 77571\, United States
CATEGORIES:Adults,LifeGroups
ATTACH;FMTTYPE=image/png:https://www.parkgate.church/wp-content/uploads/2024/04/LifeGroup-Screen.png
END:VEVENT
BEGIN:VEVENT
DTSTART;TZID=America/Chicago:20270616T190000
DTEND;TZID=America/Chicago:20270616T200000
DTSTAMP:20260421T131437
CREATED:20231212T173720Z
LAST-MODIFIED:20240731T215945Z
UID:10002178-1813172400-1813176000@www.parkgate.church
SUMMARY:Club KiX
DESCRIPTION:Kids age 4 – 5th grade are invited to join us at Club KiX\, a high-energy\, hands-on hour of Bible learning and practical application.
URL:https://www.parkgate.church/event/club-kix/2027-06-16/
LOCATION:Parkgate Community Church\, 3715 Preston Avenue\, Pasadena\, TX\, 77505\, United States
CATEGORIES:KiX Children's Ministry
ATTACH;FMTTYPE=image/png:https://www.parkgate.church/wp-content/uploads/2024/07/Club-KiX-Screen.png
END:VEVENT
BEGIN:VEVENT
DTSTART;TZID=America/Chicago:20270616T190000
DTEND;TZID=America/Chicago:20270616T200000
DTSTAMP:20260421T131437
CREATED:20231212T174020Z
LAST-MODIFIED:20231228T023812Z
UID:10002437-1813172400-1813176000@www.parkgate.church
SUMMARY:IMPACT Midweek
DESCRIPTION:Students in 6th – 12th grade are invited to join us for our IMPACT Midweek Gatherings\, from 7 – 8 p.m. on Wednesday nights. During this time\, we hang out with our friends\, play games\, worship\, and dive into God’s Word together.
URL:https://www.parkgate.church/event/impact-midweek/2027-06-16/
LOCATION:Parkgate Community Church\, 3715 Preston Avenue\, Pasadena\, TX\, 77505\, United States
CATEGORIES:IMPACT Student Ministry
ATTACH;FMTTYPE=image/png:https://www.parkgate.church/wp-content/uploads/2023/12/IMPACT-Midweek.png
END:VEVENT
BEGIN:VEVENT
DTSTART;TZID=America/Chicago:20270620T090000
DTEND;TZID=America/Chicago:20270620T101500
DTSTAMP:20260421T131437
CREATED:20231025T073903Z
LAST-MODIFIED:20231212T161518Z
UID:10001258-1813482000-1813486500@www.parkgate.church
SUMMARY:Sundays @ 9 a.m.
DESCRIPTION:On Sundays at 9 a.m.\, we offer: \n\nWorship Service\nSundayLife Gatherings\nKiX Children’s Ministry\nIMPACT Student Ministry
URL:https://www.parkgate.church/event/sundays-9-a-m/2027-06-20/
LOCATION:Parkgate Community Church\, 3715 Preston Avenue\, Pasadena\, TX\, 77505\, United States
CATEGORIES:IMPACT Student Ministry,KiX Children's Ministry,Sunday Mornings,SundayLife
ATTACH;FMTTYPE=image/png:https://www.parkgate.church/wp-content/uploads/2023/10/Sundays-at-9-a.m.png
END:VEVENT
BEGIN:VEVENT
DTSTART;TZID=America/Chicago:20270620T104500
DTEND;TZID=America/Chicago:20270620T120000
DTSTAMP:20260421T131437
CREATED:20231212T161833Z
LAST-MODIFIED:20231212T161833Z
UID:10001525-1813488300-1813492800@www.parkgate.church
SUMMARY:Sundays @ 10:45 a.m.
DESCRIPTION:On Sundays at 10:45 a.m.\, we offer: \n\nWorship Service\nSundayLife Gatherings\nKiX Children’s Ministry\n\nOur students (6th – 12th grades) are invited to participate in our worship service.
URL:https://www.parkgate.church/event/sundays-1045-a-m/2027-06-20/
LOCATION:Parkgate Community Church\, 3715 Preston Avenue\, Pasadena\, TX\, 77505\, United States
CATEGORIES:KiX Children's Ministry,Sunday Mornings,SundayLife
ATTACH;FMTTYPE=image/png:https://www.parkgate.church/wp-content/uploads/2023/12/Sundays-at-1045-a.m.png
END:VEVENT
BEGIN:VEVENT
DTSTART;TZID=America/Chicago:20270620T170000
DTEND;TZID=America/Chicago:20270620T190000
DTSTAMP:20260421T131437
CREATED:20240404T204714Z
LAST-MODIFIED:20240411T212024Z
UID:10002760-1813510800-1813518000@www.parkgate.church
SUMMARY:Young Adult LifeGroup
DESCRIPTION:Join us for an uplifting and engaging gathering tailored for young adults seeking community\, growth\, and faith. Discover a place where you belong and can journey together in faith. For more details\, please reach out to Pastor Kenny at kboggs@parkgate.org.
URL:https://www.parkgate.church/event/young-adult-lifegroup/2027-06-20/
LOCATION:Pastor Kenneth’s House\, La Porte\, TX\, 77571\, United States
CATEGORIES:Adults,LifeGroups
ATTACH;FMTTYPE=image/png:https://www.parkgate.church/wp-content/uploads/2024/04/LifeGroup-Screen.png
END:VEVENT
BEGIN:VEVENT
DTSTART;TZID=America/Chicago:20270623T190000
DTEND;TZID=America/Chicago:20270623T200000
DTSTAMP:20260421T131437
CREATED:20231212T173720Z
LAST-MODIFIED:20240731T215945Z
UID:10002179-1813777200-1813780800@www.parkgate.church
SUMMARY:Club KiX
DESCRIPTION:Kids age 4 – 5th grade are invited to join us at Club KiX\, a high-energy\, hands-on hour of Bible learning and practical application.
URL:https://www.parkgate.church/event/club-kix/2027-06-23/
LOCATION:Parkgate Community Church\, 3715 Preston Avenue\, Pasadena\, TX\, 77505\, United States
CATEGORIES:KiX Children's Ministry
ATTACH;FMTTYPE=image/png:https://www.parkgate.church/wp-content/uploads/2024/07/Club-KiX-Screen.png
END:VEVENT
BEGIN:VEVENT
DTSTART;TZID=America/Chicago:20270623T190000
DTEND;TZID=America/Chicago:20270623T200000
DTSTAMP:20260421T131437
CREATED:20231212T174020Z
LAST-MODIFIED:20231228T023812Z
UID:10002438-1813777200-1813780800@www.parkgate.church
SUMMARY:IMPACT Midweek
DESCRIPTION:Students in 6th – 12th grade are invited to join us for our IMPACT Midweek Gatherings\, from 7 – 8 p.m. on Wednesday nights. During this time\, we hang out with our friends\, play games\, worship\, and dive into God’s Word together.
URL:https://www.parkgate.church/event/impact-midweek/2027-06-23/
LOCATION:Parkgate Community Church\, 3715 Preston Avenue\, Pasadena\, TX\, 77505\, United States
CATEGORIES:IMPACT Student Ministry
ATTACH;FMTTYPE=image/png:https://www.parkgate.church/wp-content/uploads/2023/12/IMPACT-Midweek.png
END:VEVENT
BEGIN:VEVENT
DTSTART;TZID=America/Chicago:20270627T090000
DTEND;TZID=America/Chicago:20270627T101500
DTSTAMP:20260421T131437
CREATED:20231025T073903Z
LAST-MODIFIED:20231212T161518Z
UID:10001259-1814086800-1814091300@www.parkgate.church
SUMMARY:Sundays @ 9 a.m.
DESCRIPTION:On Sundays at 9 a.m.\, we offer: \n\nWorship Service\nSundayLife Gatherings\nKiX Children’s Ministry\nIMPACT Student Ministry
URL:https://www.parkgate.church/event/sundays-9-a-m/2027-06-27/
LOCATION:Parkgate Community Church\, 3715 Preston Avenue\, Pasadena\, TX\, 77505\, United States
CATEGORIES:IMPACT Student Ministry,KiX Children's Ministry,Sunday Mornings,SundayLife
ATTACH;FMTTYPE=image/png:https://www.parkgate.church/wp-content/uploads/2023/10/Sundays-at-9-a.m.png
END:VEVENT
BEGIN:VEVENT
DTSTART;TZID=America/Chicago:20270627T104500
DTEND;TZID=America/Chicago:20270627T120000
DTSTAMP:20260421T131437
CREATED:20231212T161833Z
LAST-MODIFIED:20231212T161833Z
UID:10001526-1814093100-1814097600@www.parkgate.church
SUMMARY:Sundays @ 10:45 a.m.
DESCRIPTION:On Sundays at 10:45 a.m.\, we offer: \n\nWorship Service\nSundayLife Gatherings\nKiX Children’s Ministry\n\nOur students (6th – 12th grades) are invited to participate in our worship service.
URL:https://www.parkgate.church/event/sundays-1045-a-m/2027-06-27/
LOCATION:Parkgate Community Church\, 3715 Preston Avenue\, Pasadena\, TX\, 77505\, United States
CATEGORIES:KiX Children's Ministry,Sunday Mornings,SundayLife
ATTACH;FMTTYPE=image/png:https://www.parkgate.church/wp-content/uploads/2023/12/Sundays-at-1045-a.m.png
END:VEVENT
BEGIN:VEVENT
DTSTART;TZID=America/Chicago:20270627T170000
DTEND;TZID=America/Chicago:20270627T190000
DTSTAMP:20260421T131437
CREATED:20240404T204714Z
LAST-MODIFIED:20240411T212024Z
UID:10002761-1814115600-1814122800@www.parkgate.church
SUMMARY:Young Adult LifeGroup
DESCRIPTION:Join us for an uplifting and engaging gathering tailored for young adults seeking community\, growth\, and faith. Discover a place where you belong and can journey together in faith. For more details\, please reach out to Pastor Kenny at kboggs@parkgate.org.
URL:https://www.parkgate.church/event/young-adult-lifegroup/2027-06-27/
LOCATION:Pastor Kenneth’s House\, La Porte\, TX\, 77571\, United States
CATEGORIES:Adults,LifeGroups
ATTACH;FMTTYPE=image/png:https://www.parkgate.church/wp-content/uploads/2024/04/LifeGroup-Screen.png
END:VEVENT
BEGIN:VEVENT
DTSTART;TZID=America/Chicago:20270630T190000
DTEND;TZID=America/Chicago:20270630T200000
DTSTAMP:20260421T131437
CREATED:20231212T173720Z
LAST-MODIFIED:20240731T215945Z
UID:10002180-1814382000-1814385600@www.parkgate.church
SUMMARY:Club KiX
DESCRIPTION:Kids age 4 – 5th grade are invited to join us at Club KiX\, a high-energy\, hands-on hour of Bible learning and practical application.
URL:https://www.parkgate.church/event/club-kix/2027-06-30/
LOCATION:Parkgate Community Church\, 3715 Preston Avenue\, Pasadena\, TX\, 77505\, United States
CATEGORIES:KiX Children's Ministry
ATTACH;FMTTYPE=image/png:https://www.parkgate.church/wp-content/uploads/2024/07/Club-KiX-Screen.png
END:VEVENT
BEGIN:VEVENT
DTSTART;TZID=America/Chicago:20270630T190000
DTEND;TZID=America/Chicago:20270630T200000
DTSTAMP:20260421T131437
CREATED:20231212T174020Z
LAST-MODIFIED:20231228T023812Z
UID:10002439-1814382000-1814385600@www.parkgate.church
SUMMARY:IMPACT Midweek
DESCRIPTION:Students in 6th – 12th grade are invited to join us for our IMPACT Midweek Gatherings\, from 7 – 8 p.m. on Wednesday nights. During this time\, we hang out with our friends\, play games\, worship\, and dive into God’s Word together.
URL:https://www.parkgate.church/event/impact-midweek/2027-06-30/
LOCATION:Parkgate Community Church\, 3715 Preston Avenue\, Pasadena\, TX\, 77505\, United States
CATEGORIES:IMPACT Student Ministry
ATTACH;FMTTYPE=image/png:https://www.parkgate.church/wp-content/uploads/2023/12/IMPACT-Midweek.png
END:VEVENT
END:VCALENDAR