BEGIN:VCALENDAR
VERSION:2.0
PRODID:-//Parkgate Community Church - ECPv6.15.20//NONSGML v1.0//EN
CALSCALE:GREGORIAN
METHOD:PUBLISH
X-ORIGINAL-URL:https://www.parkgate.church
X-WR-CALDESC:Events for Parkgate Community Church
REFRESH-INTERVAL;VALUE=DURATION:PT1H
X-Robots-Tag:noindex
X-PUBLISHED-TTL:PT1H
BEGIN:VTIMEZONE
TZID:America/Chicago
BEGIN:DAYLIGHT
TZOFFSETFROM:-0600
TZOFFSETTO:-0500
TZNAME:CDT
DTSTART:20240310T080000
END:DAYLIGHT
BEGIN:STANDARD
TZOFFSETFROM:-0500
TZOFFSETTO:-0600
TZNAME:CST
DTSTART:20241103T070000
END:STANDARD
BEGIN:DAYLIGHT
TZOFFSETFROM:-0600
TZOFFSETTO:-0500
TZNAME:CDT
DTSTART:20250309T080000
END:DAYLIGHT
BEGIN:STANDARD
TZOFFSETFROM:-0500
TZOFFSETTO:-0600
TZNAME:CST
DTSTART:20251102T070000
END:STANDARD
BEGIN:DAYLIGHT
TZOFFSETFROM:-0600
TZOFFSETTO:-0500
TZNAME:CDT
DTSTART:20260308T080000
END:DAYLIGHT
BEGIN:STANDARD
TZOFFSETFROM:-0500
TZOFFSETTO:-0600
TZNAME:CST
DTSTART:20261101T070000
END:STANDARD
BEGIN:DAYLIGHT
TZOFFSETFROM:-0600
TZOFFSETTO:-0500
TZNAME:CDT
DTSTART:20270314T080000
END:DAYLIGHT
BEGIN:STANDARD
TZOFFSETFROM:-0500
TZOFFSETTO:-0600
TZNAME:CST
DTSTART:20271107T070000
END:STANDARD
END:VTIMEZONE
BEGIN:VEVENT
DTSTART;TZID=America/Chicago:20260402T190000
DTEND;TZID=America/Chicago:20260402T200000
DTSTAMP:20260421T050549
CREATED:20251210T210654Z
LAST-MODIFIED:20260316T155140Z
UID:10007386-1775156400-1775160000@www.parkgate.church
SUMMARY:Worship Gathering
DESCRIPTION:Holy Week is here\, and we’re kicking it off with a time of worship and dedication as we prepare for Easter Sunday. This gathering will be a time of worship\, reflection\, prayer\, and renewal as we seek to draw closer to God together. KiX and Impact Youth Students will join us for the Worship Gathering.
URL:https://www.parkgate.church/event/worship-gathering-2/
LOCATION:Parkgate Community Church\, 3715 Preston Avenue\, Pasadena\, TX\, 77505\, United States
CATEGORIES:Adults,IMPACT Student Ministry,KiX Children's Ministry
ATTACH;FMTTYPE=image/png:https://www.parkgate.church/wp-content/uploads/2025/12/Worship-Gathering-Screen.png
ORGANIZER;CN="Pastor Kenny":MAILTO:kboggs@parkgate.org
END:VEVENT
BEGIN:VEVENT
DTSTART;TZID=America/Chicago:20260325T190000
DTEND;TZID=America/Chicago:20260325T200000
DTSTAMP:20260421T050549
CREATED:20251210T013819Z
LAST-MODIFIED:20251210T013819Z
UID:10007384-1774465200-1774468800@www.parkgate.church
SUMMARY:Plugged In
DESCRIPTION:New to Parkgate? Join us in the Conference Room (a.k.a. the 1-Five) for Plugged In! Hosted by our pastoral staff\, Plugged In is a place to discover more about our vision\, service opportunities\, and what it means to live life in community here at Parkgate Community Church. We have midweek programs available for kids and students grades K—12 and child care for preschoolers.
URL:https://www.parkgate.church/event/plugged-in-7/
CATEGORIES:Newcomers
ATTACH;FMTTYPE=image/png:https://www.parkgate.church/wp-content/uploads/2024/04/Plugged-In-Screen.png
ORGANIZER;CN="Pastor Kenny":MAILTO:kboggs@parkgate.org
END:VEVENT
BEGIN:VEVENT
DTSTART;TZID=America/Chicago:20260218T190000
DTEND;TZID=America/Chicago:20260218T200000
DTSTAMP:20260421T050549
CREATED:20251210T011512Z
LAST-MODIFIED:20260122T175325Z
UID:10007379-1771441200-1771444800@www.parkgate.church
SUMMARY:Sacred Focus Service
DESCRIPTION:Join us for this sacred journey during the 40 days leading up to Easter. We’ll begin the Sacred Focus season with a worship gathering. Our Impact Youth Ministry will join this gathering. Club KiX will meet as usual. Childcare will be available for children 12 months – 3 years old.
URL:https://www.parkgate.church/event/sacred-focus-service/
LOCATION:Parkgate Community Church\, 3715 Preston Avenue\, Pasadena\, TX\, 77505\, United States
CATEGORIES:Adults,IMPACT Student Ministry
ATTACH;FMTTYPE=image/png:https://www.parkgate.church/wp-content/uploads/2025/12/Sacred-Focus-Screen-No-Date.png
ORGANIZER;CN="Pastor Kenny":MAILTO:kboggs@parkgate.org
END:VEVENT
BEGIN:VEVENT
DTSTART;TZID=America/Chicago:20260128T190000
DTEND;TZID=America/Chicago:20260128T200000
DTSTAMP:20260421T050549
CREATED:20251210T010012Z
LAST-MODIFIED:20251210T010012Z
UID:10007376-1769626800-1769630400@www.parkgate.church
SUMMARY:Plugged In
DESCRIPTION:New to Parkgate? Join us in the Conference Room (a.k.a. the 1-Five) for Plugged In! Hosted by our pastoral staff\, Plugged In is a place to discover more about our vision\, service opportunities\, and what it means to live life in community here at Parkgate Community Church. We have midweek programs available for kids and students grades K—12 and child care for preschoolers.
URL:https://www.parkgate.church/event/plugged-in-5/
CATEGORIES:Newcomers
ATTACH;FMTTYPE=image/png:https://www.parkgate.church/wp-content/uploads/2024/04/Plugged-In-Screen.png
ORGANIZER;CN="Pastor Kenny":MAILTO:kboggs@parkgate.org
END:VEVENT
BEGIN:VEVENT
DTSTART;TZID=America/Chicago:20260107T190000
DTEND;TZID=America/Chicago:20260107T200000
DTSTAMP:20260421T050549
CREATED:20251209T234534Z
LAST-MODIFIED:20251209T234534Z
UID:10007369-1767812400-1767816000@www.parkgate.church
SUMMARY:Encounter Service
DESCRIPTION:Join us for our Encounter Service as we seek the Lord together through prayer and worship. Our KiX Children’s Ministry and Impact Youth Ministry will join us\, allowing families to experience this special time of connection with God together. Childcare will be available for children 3 years and under.
URL:https://www.parkgate.church/event/encounter-service/
LOCATION:Parkgate Community Church\, 3715 Preston Avenue\, Pasadena\, TX\, 77505\, United States
CATEGORIES:Adults,IMPACT Student Ministry,KiX Children's Ministry
ATTACH;FMTTYPE=image/png:https://www.parkgate.church/wp-content/uploads/2025/12/Encounter-Screen-No-Date.png
ORGANIZER;CN="Pastor Kenny":MAILTO:kboggs@parkgate.org
END:VEVENT
BEGIN:VEVENT
DTSTART;TZID=America/Chicago:20251211T180000
DTEND;TZID=America/Chicago:20251211T190000
DTSTAMP:20260421T050549
CREATED:20251211T194948Z
LAST-MODIFIED:20251211T194948Z
UID:10007435-1765476000-1765479600@www.parkgate.church
SUMMARY:Christmas Eve Service
DESCRIPTION:Celebrate our Savior’s birth with us. This evening’s candlelight service is filled with wonderful music and celebration. Be sure to bring your whole family for this special time! Childcare will not be available.
URL:https://www.parkgate.church/event/christmas-eve-service-2/
LOCATION:Parkgate Community Church\, 3715 Preston Avenue\, Pasadena\, TX\, 77505\, United States
CATEGORIES:Christmas
ATTACH;FMTTYPE=image/png:https://www.parkgate.church/wp-content/uploads/2025/12/Christmas-Eve-Service.png
ORGANIZER;CN="Pastor Kenny":MAILTO:kboggs@parkgate.org
END:VEVENT
BEGIN:VEVENT
DTSTART;TZID=America/Chicago:20250827T190000
DTEND;TZID=America/Chicago:20250827T200000
DTSTAMP:20260421T050549
CREATED:20250804T155241Z
LAST-MODIFIED:20250804T155241Z
UID:10007271-1756321200-1756324800@www.parkgate.church
SUMMARY:Plugged In
DESCRIPTION:New to Parkgate? Join us in the Conference Room (a.k.a. the 1-Five) for Plugged In! Hosted by our pastoral staff\, Plugged In is a place to discover more about our vision\, service opportunities\, and what it means to live life in community here at Parkgate Community Church. We have midweek programs available for kids and students grades K—12 and child care for preschoolers.
URL:https://www.parkgate.church/event/plugged-in-4/
LOCATION:Parkgate Community Church\, 3715 Preston Avenue\, Pasadena\, TX\, 77505\, United States
CATEGORIES:Adults
ATTACH;FMTTYPE=image/png:https://www.parkgate.church/wp-content/uploads/2024/04/Plugged-In-Screen.png
ORGANIZER;CN="Pastor Kenny":MAILTO:kboggs@parkgate.org
END:VEVENT
BEGIN:VEVENT
DTSTART;TZID=America/Chicago:20250730T190000
DTEND;TZID=America/Chicago:20250730T200000
DTSTAMP:20260421T050549
CREATED:20250609T171544Z
LAST-MODIFIED:20250609T171544Z
UID:10007200-1753902000-1753905600@www.parkgate.church
SUMMARY:Culture & Christ
DESCRIPTION:Join us each Wednesday night in June and July for a thought-provoking series exploring how the message of Christ speaks to the challenges\, questions\, and values of today’s culture. In a world full of shifting opinions and constant noise\, we’re digging into Scripture to discover how to follow Jesus with clarity and courage. Some of the cultural topics we’ll address are spiritual warfare\, abortion\, transgenderism\, and homosexuality. Come ready to engage your heart and mind as we ask: What does it really mean to live for Christ in the culture we’re in? We have midweek programs available for kids and students grades K—12 and child care for preschoolers.
URL:https://www.parkgate.church/event/culture-christ/2025-07-30/
LOCATION:Parkgate Community Church\, 3715 Preston Avenue\, Pasadena\, TX\, 77505\, United States
CATEGORIES:Adults
ATTACH;FMTTYPE=image/png:https://www.parkgate.church/wp-content/uploads/2025/06/Culture-Christ-Screen.png
ORGANIZER;CN="Pastor Kenny":MAILTO:kboggs@parkgate.org
END:VEVENT
BEGIN:VEVENT
DTSTART;TZID=America/Chicago:20250723T190000
DTEND;TZID=America/Chicago:20250723T200000
DTSTAMP:20260421T050549
CREATED:20250609T171544Z
LAST-MODIFIED:20250609T171544Z
UID:10007199-1753297200-1753300800@www.parkgate.church
SUMMARY:Culture & Christ
DESCRIPTION:Join us each Wednesday night in June and July for a thought-provoking series exploring how the message of Christ speaks to the challenges\, questions\, and values of today’s culture. In a world full of shifting opinions and constant noise\, we’re digging into Scripture to discover how to follow Jesus with clarity and courage. Some of the cultural topics we’ll address are spiritual warfare\, abortion\, transgenderism\, and homosexuality. Come ready to engage your heart and mind as we ask: What does it really mean to live for Christ in the culture we’re in? We have midweek programs available for kids and students grades K—12 and child care for preschoolers.
URL:https://www.parkgate.church/event/culture-christ/2025-07-23/
LOCATION:Parkgate Community Church\, 3715 Preston Avenue\, Pasadena\, TX\, 77505\, United States
CATEGORIES:Adults
ATTACH;FMTTYPE=image/png:https://www.parkgate.church/wp-content/uploads/2025/06/Culture-Christ-Screen.png
ORGANIZER;CN="Pastor Kenny":MAILTO:kboggs@parkgate.org
END:VEVENT
BEGIN:VEVENT
DTSTART;TZID=America/Chicago:20250716T190000
DTEND;TZID=America/Chicago:20250716T200000
DTSTAMP:20260421T050549
CREATED:20250609T171544Z
LAST-MODIFIED:20250609T171544Z
UID:10007198-1752692400-1752696000@www.parkgate.church
SUMMARY:Culture & Christ
DESCRIPTION:Join us each Wednesday night in June and July for a thought-provoking series exploring how the message of Christ speaks to the challenges\, questions\, and values of today’s culture. In a world full of shifting opinions and constant noise\, we’re digging into Scripture to discover how to follow Jesus with clarity and courage. Some of the cultural topics we’ll address are spiritual warfare\, abortion\, transgenderism\, and homosexuality. Come ready to engage your heart and mind as we ask: What does it really mean to live for Christ in the culture we’re in? We have midweek programs available for kids and students grades K—12 and child care for preschoolers.
URL:https://www.parkgate.church/event/culture-christ/2025-07-16/
LOCATION:Parkgate Community Church\, 3715 Preston Avenue\, Pasadena\, TX\, 77505\, United States
CATEGORIES:Adults
ATTACH;FMTTYPE=image/png:https://www.parkgate.church/wp-content/uploads/2025/06/Culture-Christ-Screen.png
ORGANIZER;CN="Pastor Kenny":MAILTO:kboggs@parkgate.org
END:VEVENT
BEGIN:VEVENT
DTSTART;TZID=America/Chicago:20250709T190000
DTEND;TZID=America/Chicago:20250709T200000
DTSTAMP:20260421T050549
CREATED:20250609T171544Z
LAST-MODIFIED:20250609T171544Z
UID:10007197-1752087600-1752091200@www.parkgate.church
SUMMARY:Culture & Christ
DESCRIPTION:Join us each Wednesday night in June and July for a thought-provoking series exploring how the message of Christ speaks to the challenges\, questions\, and values of today’s culture. In a world full of shifting opinions and constant noise\, we’re digging into Scripture to discover how to follow Jesus with clarity and courage. Some of the cultural topics we’ll address are spiritual warfare\, abortion\, transgenderism\, and homosexuality. Come ready to engage your heart and mind as we ask: What does it really mean to live for Christ in the culture we’re in? We have midweek programs available for kids and students grades K—12 and child care for preschoolers.
URL:https://www.parkgate.church/event/culture-christ/2025-07-09/
LOCATION:Parkgate Community Church\, 3715 Preston Avenue\, Pasadena\, TX\, 77505\, United States
CATEGORIES:Adults
ATTACH;FMTTYPE=image/png:https://www.parkgate.church/wp-content/uploads/2025/06/Culture-Christ-Screen.png
ORGANIZER;CN="Pastor Kenny":MAILTO:kboggs@parkgate.org
END:VEVENT
BEGIN:VEVENT
DTSTART;TZID=America/Chicago:20250702T190000
DTEND;TZID=America/Chicago:20250702T200000
DTSTAMP:20260421T050549
CREATED:20250609T171544Z
LAST-MODIFIED:20250609T171544Z
UID:10007196-1751482800-1751486400@www.parkgate.church
SUMMARY:Culture & Christ
DESCRIPTION:Join us each Wednesday night in June and July for a thought-provoking series exploring how the message of Christ speaks to the challenges\, questions\, and values of today’s culture. In a world full of shifting opinions and constant noise\, we’re digging into Scripture to discover how to follow Jesus with clarity and courage. Some of the cultural topics we’ll address are spiritual warfare\, abortion\, transgenderism\, and homosexuality. Come ready to engage your heart and mind as we ask: What does it really mean to live for Christ in the culture we’re in? We have midweek programs available for kids and students grades K—12 and child care for preschoolers.
URL:https://www.parkgate.church/event/culture-christ/2025-07-02/
LOCATION:Parkgate Community Church\, 3715 Preston Avenue\, Pasadena\, TX\, 77505\, United States
CATEGORIES:Adults
ATTACH;FMTTYPE=image/png:https://www.parkgate.church/wp-content/uploads/2025/06/Culture-Christ-Screen.png
ORGANIZER;CN="Pastor Kenny":MAILTO:kboggs@parkgate.org
END:VEVENT
BEGIN:VEVENT
DTSTART;TZID=America/Chicago:20250625T190000
DTEND;TZID=America/Chicago:20250625T200000
DTSTAMP:20260421T050549
CREATED:20250609T171544Z
LAST-MODIFIED:20250609T171544Z
UID:10007195-1750878000-1750881600@www.parkgate.church
SUMMARY:Culture & Christ
DESCRIPTION:Join us each Wednesday night in June and July for a thought-provoking series exploring how the message of Christ speaks to the challenges\, questions\, and values of today’s culture. In a world full of shifting opinions and constant noise\, we’re digging into Scripture to discover how to follow Jesus with clarity and courage. Some of the cultural topics we’ll address are spiritual warfare\, abortion\, transgenderism\, and homosexuality. Come ready to engage your heart and mind as we ask: What does it really mean to live for Christ in the culture we’re in? We have midweek programs available for kids and students grades K—12 and child care for preschoolers.
URL:https://www.parkgate.church/event/culture-christ/2025-06-25/
LOCATION:Parkgate Community Church\, 3715 Preston Avenue\, Pasadena\, TX\, 77505\, United States
CATEGORIES:Adults
ATTACH;FMTTYPE=image/png:https://www.parkgate.church/wp-content/uploads/2025/06/Culture-Christ-Screen.png
ORGANIZER;CN="Pastor Kenny":MAILTO:kboggs@parkgate.org
END:VEVENT
BEGIN:VEVENT
DTSTART;TZID=America/Chicago:20250622T120000
DTEND;TZID=America/Chicago:20250622T130000
DTSTAMP:20260421T050549
CREATED:20250609T173523Z
LAST-MODIFIED:20250609T173524Z
UID:10005955-1750593600-1750597200@www.parkgate.church
SUMMARY:Plugged In
DESCRIPTION:New to Parkgate? Discover what it means to live in community here at Parkgate Church. Childcare is provided\, and programming is available for students K-12.
URL:https://www.parkgate.church/event/plugged-in-2-2/2025-06-22/
LOCATION:Parkgate Community Church\, 3715 Preston Avenue\, Pasadena\, TX\, 77505\, United States
ATTACH;FMTTYPE=image/png:https://www.parkgate.church/wp-content/uploads/2024/04/Plugged-In-Screen.png
ORGANIZER;CN="Pastor Kenny":MAILTO:kboggs@parkgate.org
END:VEVENT
BEGIN:VEVENT
DTSTART;TZID=America/Chicago:20250611T190000
DTEND;TZID=America/Chicago:20250611T200000
DTSTAMP:20260421T050549
CREATED:20250609T171544Z
LAST-MODIFIED:20250609T171544Z
UID:10007193-1749668400-1749672000@www.parkgate.church
SUMMARY:Culture & Christ
DESCRIPTION:Join us each Wednesday night in June and July for a thought-provoking series exploring how the message of Christ speaks to the challenges\, questions\, and values of today’s culture. In a world full of shifting opinions and constant noise\, we’re digging into Scripture to discover how to follow Jesus with clarity and courage. Some of the cultural topics we’ll address are spiritual warfare\, abortion\, transgenderism\, and homosexuality. Come ready to engage your heart and mind as we ask: What does it really mean to live for Christ in the culture we’re in? We have midweek programs available for kids and students grades K—12 and child care for preschoolers.
URL:https://www.parkgate.church/event/culture-christ/2025-06-11/
LOCATION:Parkgate Community Church\, 3715 Preston Avenue\, Pasadena\, TX\, 77505\, United States
CATEGORIES:Adults
ATTACH;FMTTYPE=image/png:https://www.parkgate.church/wp-content/uploads/2025/06/Culture-Christ-Screen.png
ORGANIZER;CN="Pastor Kenny":MAILTO:kboggs@parkgate.org
END:VEVENT
BEGIN:VEVENT
DTSTART;TZID=America/Chicago:20250609T080000
DTEND;TZID=America/Chicago:20250609T170000
DTSTAMP:20260421T050549
CREATED:20250609T173523Z
LAST-MODIFIED:20250609T173524Z
UID:10007265-1749456000-1749488400@www.parkgate.church
SUMMARY:Plugged In
DESCRIPTION:New to Parkgate? Discover what it means to live in community here at Parkgate Church. Childcare is provided\, and programming is available for students K-12.
URL:https://www.parkgate.church/event/plugged-in-2-2/2025-06-09/
LOCATION:Parkgate Community Church\, 3715 Preston Avenue\, Pasadena\, TX\, 77505\, United States
ATTACH;FMTTYPE=image/png:https://www.parkgate.church/wp-content/uploads/2024/04/Plugged-In-Screen.png
ORGANIZER;CN="Pastor Kenny":MAILTO:kboggs@parkgate.org
END:VEVENT
BEGIN:VEVENT
DTSTART;TZID=America/Chicago:20250608T160000
DTEND;TZID=America/Chicago:20250608T180000
DTSTAMP:20260421T050549
CREATED:20241107T170019Z
LAST-MODIFIED:20241107T170019Z
UID:10006625-1749398400-1749405600@www.parkgate.church
SUMMARY:Boggs LifeGroup
DESCRIPTION:The Boggs LifeGroup is a group of mixed ages\, primarily young families\, who meet together weekly for various Bible studies.
URL:https://www.parkgate.church/event/boggs-lifegroup/2025-06-08/
LOCATION:Boggs House\, Houston\, TX\, 77034\, United States
CATEGORIES:LifeGroups
ATTACH;FMTTYPE=image/png:https://www.parkgate.church/wp-content/uploads/2024/04/LifeGroup-Screen.png
ORGANIZER;CN="Pastor Kenny":MAILTO:kboggs@parkgate.org
END:VEVENT
BEGIN:VEVENT
DTSTART;TZID=America/Chicago:20250603T183000
DTEND;TZID=America/Chicago:20250603T193000
DTSTAMP:20260421T050549
CREATED:20250130T160540Z
LAST-MODIFIED:20250130T160540Z
UID:10006884-1748975400-1748979000@www.parkgate.church
SUMMARY:John & Cydni's LifeGroup
DESCRIPTION:This LifeGroup is comprised of couples and individuals aged 40 and up and meets online via Zoom. For more details\, please reach out to Pastor Kenny at kboggs@parkgate.org.
URL:https://www.parkgate.church/event/john-cydnis-lifegroup-2/2025-06-03/
LOCATION:Zoom
CATEGORIES:Adults,LifeGroups
ATTACH;FMTTYPE=image/png:https://www.parkgate.church/wp-content/uploads/2024/04/LifeGroup-Screen.png
ORGANIZER;CN="Pastor Kenny":MAILTO:kboggs@parkgate.org
END:VEVENT
BEGIN:VEVENT
DTSTART;TZID=America/Chicago:20250601T160000
DTEND;TZID=America/Chicago:20250601T180000
DTSTAMP:20260421T050549
CREATED:20241107T170019Z
LAST-MODIFIED:20241107T170019Z
UID:10006624-1748793600-1748800800@www.parkgate.church
SUMMARY:Boggs LifeGroup
DESCRIPTION:The Boggs LifeGroup is a group of mixed ages\, primarily young families\, who meet together weekly for various Bible studies.
URL:https://www.parkgate.church/event/boggs-lifegroup/2025-06-01/
LOCATION:Boggs House\, Houston\, TX\, 77034\, United States
CATEGORIES:LifeGroups
ATTACH;FMTTYPE=image/png:https://www.parkgate.church/wp-content/uploads/2024/04/LifeGroup-Screen.png
ORGANIZER;CN="Pastor Kenny":MAILTO:kboggs@parkgate.org
END:VEVENT
BEGIN:VEVENT
DTSTART;TZID=America/Chicago:20250528T190000
DTEND;TZID=America/Chicago:20250528T200000
DTSTAMP:20260421T050549
CREATED:20240416T205308Z
LAST-MODIFIED:20240416T205308Z
UID:10005954-1748458800-1748462400@www.parkgate.church
SUMMARY:Plugged In
DESCRIPTION:New to Parkgate? Discover what it means to live in community here at Parkgate Church. Childcare is provided\, and programming is available for students K-12.
URL:https://www.parkgate.church/event/plugged-in-2/2025-05-28/
LOCATION:Parkgate Community Church\, 3715 Preston Avenue\, Pasadena\, TX\, 77505\, United States
ATTACH;FMTTYPE=image/png:https://www.parkgate.church/wp-content/uploads/2024/04/Plugged-In-Screen.png
ORGANIZER;CN="Pastor Kenny":MAILTO:kboggs@parkgate.org
END:VEVENT
BEGIN:VEVENT
DTSTART;TZID=America/Chicago:20250527T183000
DTEND;TZID=America/Chicago:20250527T193000
DTSTAMP:20260421T050549
CREATED:20250130T160540Z
LAST-MODIFIED:20250130T160540Z
UID:10006883-1748370600-1748374200@www.parkgate.church
SUMMARY:John & Cydni's LifeGroup
DESCRIPTION:This LifeGroup is comprised of couples and individuals aged 40 and up and meets online via Zoom. For more details\, please reach out to Pastor Kenny at kboggs@parkgate.org.
URL:https://www.parkgate.church/event/john-cydnis-lifegroup-2/2025-05-27/
LOCATION:Zoom
CATEGORIES:Adults,LifeGroups
ATTACH;FMTTYPE=image/png:https://www.parkgate.church/wp-content/uploads/2024/04/LifeGroup-Screen.png
ORGANIZER;CN="Pastor Kenny":MAILTO:kboggs@parkgate.org
END:VEVENT
BEGIN:VEVENT
DTSTART;TZID=America/Chicago:20250525T160000
DTEND;TZID=America/Chicago:20250525T180000
DTSTAMP:20260421T050549
CREATED:20241107T170019Z
LAST-MODIFIED:20241107T170019Z
UID:10006623-1748188800-1748196000@www.parkgate.church
SUMMARY:Boggs LifeGroup
DESCRIPTION:The Boggs LifeGroup is a group of mixed ages\, primarily young families\, who meet together weekly for various Bible studies.
URL:https://www.parkgate.church/event/boggs-lifegroup/2025-05-25/
LOCATION:Boggs House\, Houston\, TX\, 77034\, United States
CATEGORIES:LifeGroups
ATTACH;FMTTYPE=image/png:https://www.parkgate.church/wp-content/uploads/2024/04/LifeGroup-Screen.png
ORGANIZER;CN="Pastor Kenny":MAILTO:kboggs@parkgate.org
END:VEVENT
BEGIN:VEVENT
DTSTART;TZID=America/Chicago:20250520T183000
DTEND;TZID=America/Chicago:20250520T193000
DTSTAMP:20260421T050549
CREATED:20250130T160540Z
LAST-MODIFIED:20250130T160540Z
UID:10006882-1747765800-1747769400@www.parkgate.church
SUMMARY:John & Cydni's LifeGroup
DESCRIPTION:This LifeGroup is comprised of couples and individuals aged 40 and up and meets online via Zoom. For more details\, please reach out to Pastor Kenny at kboggs@parkgate.org.
URL:https://www.parkgate.church/event/john-cydnis-lifegroup-2/2025-05-20/
LOCATION:Zoom
CATEGORIES:Adults,LifeGroups
ATTACH;FMTTYPE=image/png:https://www.parkgate.church/wp-content/uploads/2024/04/LifeGroup-Screen.png
ORGANIZER;CN="Pastor Kenny":MAILTO:kboggs@parkgate.org
END:VEVENT
BEGIN:VEVENT
DTSTART;TZID=America/Chicago:20250518T160000
DTEND;TZID=America/Chicago:20250518T180000
DTSTAMP:20260421T050549
CREATED:20241107T170019Z
LAST-MODIFIED:20241107T170019Z
UID:10006622-1747584000-1747591200@www.parkgate.church
SUMMARY:Boggs LifeGroup
DESCRIPTION:The Boggs LifeGroup is a group of mixed ages\, primarily young families\, who meet together weekly for various Bible studies.
URL:https://www.parkgate.church/event/boggs-lifegroup/2025-05-18/
LOCATION:Boggs House\, Houston\, TX\, 77034\, United States
CATEGORIES:LifeGroups
ATTACH;FMTTYPE=image/png:https://www.parkgate.church/wp-content/uploads/2024/04/LifeGroup-Screen.png
ORGANIZER;CN="Pastor Kenny":MAILTO:kboggs@parkgate.org
END:VEVENT
BEGIN:VEVENT
DTSTART;TZID=America/Chicago:20250513T183000
DTEND;TZID=America/Chicago:20250513T193000
DTSTAMP:20260421T050549
CREATED:20250130T160540Z
LAST-MODIFIED:20250130T160540Z
UID:10006881-1747161000-1747164600@www.parkgate.church
SUMMARY:John & Cydni's LifeGroup
DESCRIPTION:This LifeGroup is comprised of couples and individuals aged 40 and up and meets online via Zoom. For more details\, please reach out to Pastor Kenny at kboggs@parkgate.org.
URL:https://www.parkgate.church/event/john-cydnis-lifegroup-2/2025-05-13/
LOCATION:Zoom
CATEGORIES:Adults,LifeGroups
ATTACH;FMTTYPE=image/png:https://www.parkgate.church/wp-content/uploads/2024/04/LifeGroup-Screen.png
ORGANIZER;CN="Pastor Kenny":MAILTO:kboggs@parkgate.org
END:VEVENT
BEGIN:VEVENT
DTSTART;TZID=America/Chicago:20250511T160000
DTEND;TZID=America/Chicago:20250511T180000
DTSTAMP:20260421T050549
CREATED:20241107T170019Z
LAST-MODIFIED:20241107T170019Z
UID:10006621-1746979200-1746986400@www.parkgate.church
SUMMARY:Boggs LifeGroup
DESCRIPTION:The Boggs LifeGroup is a group of mixed ages\, primarily young families\, who meet together weekly for various Bible studies.
URL:https://www.parkgate.church/event/boggs-lifegroup/2025-05-11/
LOCATION:Boggs House\, Houston\, TX\, 77034\, United States
CATEGORIES:LifeGroups
ATTACH;FMTTYPE=image/png:https://www.parkgate.church/wp-content/uploads/2024/04/LifeGroup-Screen.png
ORGANIZER;CN="Pastor Kenny":MAILTO:kboggs@parkgate.org
END:VEVENT
BEGIN:VEVENT
DTSTART;TZID=America/Chicago:20250506T183000
DTEND;TZID=America/Chicago:20250506T193000
DTSTAMP:20260421T050549
CREATED:20250130T160540Z
LAST-MODIFIED:20250130T160540Z
UID:10006880-1746556200-1746559800@www.parkgate.church
SUMMARY:John & Cydni's LifeGroup
DESCRIPTION:This LifeGroup is comprised of couples and individuals aged 40 and up and meets online via Zoom. For more details\, please reach out to Pastor Kenny at kboggs@parkgate.org.
URL:https://www.parkgate.church/event/john-cydnis-lifegroup-2/2025-05-06/
LOCATION:Zoom
CATEGORIES:Adults,LifeGroups
ATTACH;FMTTYPE=image/png:https://www.parkgate.church/wp-content/uploads/2024/04/LifeGroup-Screen.png
ORGANIZER;CN="Pastor Kenny":MAILTO:kboggs@parkgate.org
END:VEVENT
BEGIN:VEVENT
DTSTART;TZID=America/Chicago:20250504T160000
DTEND;TZID=America/Chicago:20250504T180000
DTSTAMP:20260421T050549
CREATED:20241107T170019Z
LAST-MODIFIED:20241107T170019Z
UID:10006620-1746374400-1746381600@www.parkgate.church
SUMMARY:Boggs LifeGroup
DESCRIPTION:The Boggs LifeGroup is a group of mixed ages\, primarily young families\, who meet together weekly for various Bible studies.
URL:https://www.parkgate.church/event/boggs-lifegroup/2025-05-04/
LOCATION:Boggs House\, Houston\, TX\, 77034\, United States
CATEGORIES:LifeGroups
ATTACH;FMTTYPE=image/png:https://www.parkgate.church/wp-content/uploads/2024/04/LifeGroup-Screen.png
ORGANIZER;CN="Pastor Kenny":MAILTO:kboggs@parkgate.org
END:VEVENT
BEGIN:VEVENT
DTSTART;TZID=America/Chicago:20250430T190000
DTEND;TZID=America/Chicago:20250430T200000
DTSTAMP:20260421T050549
CREATED:20240416T205308Z
LAST-MODIFIED:20240416T205308Z
UID:10005953-1746039600-1746043200@www.parkgate.church
SUMMARY:Plugged In
DESCRIPTION:New to Parkgate? Discover what it means to live in community here at Parkgate Church. Childcare is provided\, and programming is available for students K-12.
URL:https://www.parkgate.church/event/plugged-in-2/2025-04-30/
LOCATION:Parkgate Community Church\, 3715 Preston Avenue\, Pasadena\, TX\, 77505\, United States
ATTACH;FMTTYPE=image/png:https://www.parkgate.church/wp-content/uploads/2024/04/Plugged-In-Screen.png
ORGANIZER;CN="Pastor Kenny":MAILTO:kboggs@parkgate.org
END:VEVENT
BEGIN:VEVENT
DTSTART;TZID=America/Chicago:20250429T183000
DTEND;TZID=America/Chicago:20250429T193000
DTSTAMP:20260421T050549
CREATED:20250130T160540Z
LAST-MODIFIED:20250130T160540Z
UID:10006879-1745951400-1745955000@www.parkgate.church
SUMMARY:John & Cydni's LifeGroup
DESCRIPTION:This LifeGroup is comprised of couples and individuals aged 40 and up and meets online via Zoom. For more details\, please reach out to Pastor Kenny at kboggs@parkgate.org.
URL:https://www.parkgate.church/event/john-cydnis-lifegroup-2/2025-04-29/
LOCATION:Zoom
CATEGORIES:Adults,LifeGroups
ATTACH;FMTTYPE=image/png:https://www.parkgate.church/wp-content/uploads/2024/04/LifeGroup-Screen.png
ORGANIZER;CN="Pastor Kenny":MAILTO:kboggs@parkgate.org
END:VEVENT
END:VCALENDAR