BEGIN:VCALENDAR
VERSION:2.0
PRODID:-//Parkgate Community Church - ECPv6.15.20//NONSGML v1.0//EN
CALSCALE:GREGORIAN
METHOD:PUBLISH
X-WR-CALNAME:Parkgate Community Church
X-ORIGINAL-URL:https://www.parkgate.church
X-WR-CALDESC:Events for Parkgate Community Church
REFRESH-INTERVAL;VALUE=DURATION:PT1H
X-Robots-Tag:noindex
X-PUBLISHED-TTL:PT1H
BEGIN:VTIMEZONE
TZID:America/Chicago
BEGIN:DAYLIGHT
TZOFFSETFROM:-0600
TZOFFSETTO:-0500
TZNAME:CDT
DTSTART:20230312T080000
END:DAYLIGHT
BEGIN:STANDARD
TZOFFSETFROM:-0500
TZOFFSETTO:-0600
TZNAME:CST
DTSTART:20231105T070000
END:STANDARD
BEGIN:DAYLIGHT
TZOFFSETFROM:-0600
TZOFFSETTO:-0500
TZNAME:CDT
DTSTART:20240310T080000
END:DAYLIGHT
BEGIN:STANDARD
TZOFFSETFROM:-0500
TZOFFSETTO:-0600
TZNAME:CST
DTSTART:20241103T070000
END:STANDARD
BEGIN:DAYLIGHT
TZOFFSETFROM:-0600
TZOFFSETTO:-0500
TZNAME:CDT
DTSTART:20250309T080000
END:DAYLIGHT
BEGIN:STANDARD
TZOFFSETFROM:-0500
TZOFFSETTO:-0600
TZNAME:CST
DTSTART:20251102T070000
END:STANDARD
BEGIN:DAYLIGHT
TZOFFSETFROM:-0600
TZOFFSETTO:-0500
TZNAME:CDT
DTSTART:20260308T080000
END:DAYLIGHT
BEGIN:STANDARD
TZOFFSETFROM:-0500
TZOFFSETTO:-0600
TZNAME:CST
DTSTART:20261101T070000
END:STANDARD
END:VTIMEZONE
BEGIN:VEVENT
DTSTART;TZID=America/Chicago:20250302T160000
DTEND;TZID=America/Chicago:20250302T180000
DTSTAMP:20260421T113408
CREATED:20241107T170019Z
LAST-MODIFIED:20241107T170019Z
UID:10006611-1740931200-1740938400@www.parkgate.church
SUMMARY:Boggs LifeGroup
DESCRIPTION:The Boggs LifeGroup is a group of mixed ages\, primarily young families\, who meet together weekly for various Bible studies.
URL:https://www.parkgate.church/event/boggs-lifegroup/2025-03-02/
LOCATION:Boggs House\, Houston\, TX\, 77034\, United States
CATEGORIES:LifeGroups
ATTACH;FMTTYPE=image/png:https://www.parkgate.church/wp-content/uploads/2024/04/LifeGroup-Screen.png
ORGANIZER;CN="Pastor Kenny":MAILTO:kboggs@parkgate.org
END:VEVENT
BEGIN:VEVENT
DTSTART;TZID=America/Chicago:20250226T190000
DTEND;TZID=America/Chicago:20250226T200000
DTSTAMP:20260421T113408
CREATED:20240416T205308Z
LAST-MODIFIED:20240416T205308Z
UID:10005951-1740596400-1740600000@www.parkgate.church
SUMMARY:Plugged In
DESCRIPTION:New to Parkgate? Discover what it means to live in community here at Parkgate Church. Childcare is provided\, and programming is available for students K-12.
URL:https://www.parkgate.church/event/plugged-in-2/2025-02-26/
LOCATION:Parkgate Community Church\, 3715 Preston Avenue\, Pasadena\, TX\, 77505\, United States
ATTACH;FMTTYPE=image/png:https://www.parkgate.church/wp-content/uploads/2024/04/Plugged-In-Screen.png
ORGANIZER;CN="Pastor Kenny":MAILTO:kboggs@parkgate.org
END:VEVENT
BEGIN:VEVENT
DTSTART;TZID=America/Chicago:20250225T183000
DTEND;TZID=America/Chicago:20250225T193000
DTSTAMP:20260421T113408
CREATED:20250130T160540Z
LAST-MODIFIED:20250130T160540Z
UID:10006870-1740508200-1740511800@www.parkgate.church
SUMMARY:John & Cydni's LifeGroup
DESCRIPTION:This LifeGroup is comprised of couples and individuals aged 40 and up and meets online via Zoom. For more details\, please reach out to Pastor Kenny at kboggs@parkgate.org.
URL:https://www.parkgate.church/event/john-cydnis-lifegroup-2/2025-02-25/
LOCATION:Zoom
CATEGORIES:Adults,LifeGroups
ATTACH;FMTTYPE=image/png:https://www.parkgate.church/wp-content/uploads/2024/04/LifeGroup-Screen.png
ORGANIZER;CN="Pastor Kenny":MAILTO:kboggs@parkgate.org
END:VEVENT
BEGIN:VEVENT
DTSTART;TZID=America/Chicago:20250223T160000
DTEND;TZID=America/Chicago:20250223T180000
DTSTAMP:20260421T113408
CREATED:20241107T170019Z
LAST-MODIFIED:20241107T170019Z
UID:10006610-1740326400-1740333600@www.parkgate.church
SUMMARY:Boggs LifeGroup
DESCRIPTION:The Boggs LifeGroup is a group of mixed ages\, primarily young families\, who meet together weekly for various Bible studies.
URL:https://www.parkgate.church/event/boggs-lifegroup/2025-02-23/
LOCATION:Boggs House\, Houston\, TX\, 77034\, United States
CATEGORIES:LifeGroups
ATTACH;FMTTYPE=image/png:https://www.parkgate.church/wp-content/uploads/2024/04/LifeGroup-Screen.png
ORGANIZER;CN="Pastor Kenny":MAILTO:kboggs@parkgate.org
END:VEVENT
BEGIN:VEVENT
DTSTART;TZID=America/Chicago:20250218T183000
DTEND;TZID=America/Chicago:20250218T193000
DTSTAMP:20260421T113408
CREATED:20250130T160540Z
LAST-MODIFIED:20250130T160540Z
UID:10006869-1739903400-1739907000@www.parkgate.church
SUMMARY:John & Cydni's LifeGroup
DESCRIPTION:This LifeGroup is comprised of couples and individuals aged 40 and up and meets online via Zoom. For more details\, please reach out to Pastor Kenny at kboggs@parkgate.org.
URL:https://www.parkgate.church/event/john-cydnis-lifegroup-2/2025-02-18/
LOCATION:Zoom
CATEGORIES:Adults,LifeGroups
ATTACH;FMTTYPE=image/png:https://www.parkgate.church/wp-content/uploads/2024/04/LifeGroup-Screen.png
ORGANIZER;CN="Pastor Kenny":MAILTO:kboggs@parkgate.org
END:VEVENT
BEGIN:VEVENT
DTSTART;TZID=America/Chicago:20250216T160000
DTEND;TZID=America/Chicago:20250216T180000
DTSTAMP:20260421T113408
CREATED:20241107T170019Z
LAST-MODIFIED:20241107T170019Z
UID:10006609-1739721600-1739728800@www.parkgate.church
SUMMARY:Boggs LifeGroup
DESCRIPTION:The Boggs LifeGroup is a group of mixed ages\, primarily young families\, who meet together weekly for various Bible studies.
URL:https://www.parkgate.church/event/boggs-lifegroup/2025-02-16/
LOCATION:Boggs House\, Houston\, TX\, 77034\, United States
CATEGORIES:LifeGroups
ATTACH;FMTTYPE=image/png:https://www.parkgate.church/wp-content/uploads/2024/04/LifeGroup-Screen.png
ORGANIZER;CN="Pastor Kenny":MAILTO:kboggs@parkgate.org
END:VEVENT
BEGIN:VEVENT
DTSTART;TZID=America/Chicago:20250211T183000
DTEND;TZID=America/Chicago:20250211T193000
DTSTAMP:20260421T113408
CREATED:20250130T160540Z
LAST-MODIFIED:20250130T160540Z
UID:10006868-1739298600-1739302200@www.parkgate.church
SUMMARY:John & Cydni's LifeGroup
DESCRIPTION:This LifeGroup is comprised of couples and individuals aged 40 and up and meets online via Zoom. For more details\, please reach out to Pastor Kenny at kboggs@parkgate.org.
URL:https://www.parkgate.church/event/john-cydnis-lifegroup-2/2025-02-11/
LOCATION:Zoom
CATEGORIES:Adults,LifeGroups
ATTACH;FMTTYPE=image/png:https://www.parkgate.church/wp-content/uploads/2024/04/LifeGroup-Screen.png
ORGANIZER;CN="Pastor Kenny":MAILTO:kboggs@parkgate.org
END:VEVENT
BEGIN:VEVENT
DTSTART;TZID=America/Chicago:20250209T160000
DTEND;TZID=America/Chicago:20250209T180000
DTSTAMP:20260421T113408
CREATED:20241107T170019Z
LAST-MODIFIED:20241107T170019Z
UID:10006608-1739116800-1739124000@www.parkgate.church
SUMMARY:Boggs LifeGroup
DESCRIPTION:The Boggs LifeGroup is a group of mixed ages\, primarily young families\, who meet together weekly for various Bible studies.
URL:https://www.parkgate.church/event/boggs-lifegroup/2025-02-09/
LOCATION:Boggs House\, Houston\, TX\, 77034\, United States
CATEGORIES:LifeGroups
ATTACH;FMTTYPE=image/png:https://www.parkgate.church/wp-content/uploads/2024/04/LifeGroup-Screen.png
ORGANIZER;CN="Pastor Kenny":MAILTO:kboggs@parkgate.org
END:VEVENT
BEGIN:VEVENT
DTSTART;TZID=America/Chicago:20250204T183000
DTEND;TZID=America/Chicago:20250204T193000
DTSTAMP:20260421T113408
CREATED:20250130T160540Z
LAST-MODIFIED:20250130T160540Z
UID:10006867-1738693800-1738697400@www.parkgate.church
SUMMARY:John & Cydni's LifeGroup
DESCRIPTION:This LifeGroup is comprised of couples and individuals aged 40 and up and meets online via Zoom. For more details\, please reach out to Pastor Kenny at kboggs@parkgate.org.
URL:https://www.parkgate.church/event/john-cydnis-lifegroup-2/2025-02-04/
LOCATION:Zoom
CATEGORIES:Adults,LifeGroups
ATTACH;FMTTYPE=image/png:https://www.parkgate.church/wp-content/uploads/2024/04/LifeGroup-Screen.png
ORGANIZER;CN="Pastor Kenny":MAILTO:kboggs@parkgate.org
END:VEVENT
BEGIN:VEVENT
DTSTART;TZID=America/Chicago:20250202T160000
DTEND;TZID=America/Chicago:20250202T180000
DTSTAMP:20260421T113408
CREATED:20241107T170019Z
LAST-MODIFIED:20241107T170019Z
UID:10006607-1738512000-1738519200@www.parkgate.church
SUMMARY:Boggs LifeGroup
DESCRIPTION:The Boggs LifeGroup is a group of mixed ages\, primarily young families\, who meet together weekly for various Bible studies.
URL:https://www.parkgate.church/event/boggs-lifegroup/2025-02-02/
LOCATION:Boggs House\, Houston\, TX\, 77034\, United States
CATEGORIES:LifeGroups
ATTACH;FMTTYPE=image/png:https://www.parkgate.church/wp-content/uploads/2024/04/LifeGroup-Screen.png
ORGANIZER;CN="Pastor Kenny":MAILTO:kboggs@parkgate.org
END:VEVENT
BEGIN:VEVENT
DTSTART;TZID=America/Chicago:20250129T190000
DTEND;TZID=America/Chicago:20250129T200000
DTSTAMP:20260421T113408
CREATED:20240416T205308Z
LAST-MODIFIED:20240416T205308Z
UID:10005950-1738177200-1738180800@www.parkgate.church
SUMMARY:Plugged In
DESCRIPTION:New to Parkgate? Discover what it means to live in community here at Parkgate Church. Childcare is provided\, and programming is available for students K-12.
URL:https://www.parkgate.church/event/plugged-in-2/2025-01-29/
LOCATION:Parkgate Community Church\, 3715 Preston Avenue\, Pasadena\, TX\, 77505\, United States
ATTACH;FMTTYPE=image/png:https://www.parkgate.church/wp-content/uploads/2024/04/Plugged-In-Screen.png
ORGANIZER;CN="Pastor Kenny":MAILTO:kboggs@parkgate.org
END:VEVENT
BEGIN:VEVENT
DTSTART;TZID=America/Chicago:20250128T183000
DTEND;TZID=America/Chicago:20250128T193000
DTSTAMP:20260421T113408
CREATED:20250130T160540Z
LAST-MODIFIED:20250130T160540Z
UID:10006866-1738089000-1738092600@www.parkgate.church
SUMMARY:John & Cydni's LifeGroup
DESCRIPTION:This LifeGroup is comprised of couples and individuals aged 40 and up and meets online via Zoom. For more details\, please reach out to Pastor Kenny at kboggs@parkgate.org.
URL:https://www.parkgate.church/event/john-cydnis-lifegroup-2/2025-01-28/
LOCATION:Zoom
CATEGORIES:Adults,LifeGroups
ATTACH;FMTTYPE=image/png:https://www.parkgate.church/wp-content/uploads/2024/04/LifeGroup-Screen.png
ORGANIZER;CN="Pastor Kenny":MAILTO:kboggs@parkgate.org
END:VEVENT
BEGIN:VEVENT
DTSTART;TZID=America/Chicago:20250126T160000
DTEND;TZID=America/Chicago:20250126T180000
DTSTAMP:20260421T113408
CREATED:20241107T170019Z
LAST-MODIFIED:20241107T170019Z
UID:10006606-1737907200-1737914400@www.parkgate.church
SUMMARY:Boggs LifeGroup
DESCRIPTION:The Boggs LifeGroup is a group of mixed ages\, primarily young families\, who meet together weekly for various Bible studies.
URL:https://www.parkgate.church/event/boggs-lifegroup/2025-01-26/
LOCATION:Boggs House\, Houston\, TX\, 77034\, United States
CATEGORIES:LifeGroups
ATTACH;FMTTYPE=image/png:https://www.parkgate.church/wp-content/uploads/2024/04/LifeGroup-Screen.png
ORGANIZER;CN="Pastor Kenny":MAILTO:kboggs@parkgate.org
END:VEVENT
BEGIN:VEVENT
DTSTART;TZID=America/Chicago:20250119T160000
DTEND;TZID=America/Chicago:20250119T180000
DTSTAMP:20260421T113408
CREATED:20241107T170019Z
LAST-MODIFIED:20241107T170019Z
UID:10006605-1737302400-1737309600@www.parkgate.church
SUMMARY:Boggs LifeGroup
DESCRIPTION:The Boggs LifeGroup is a group of mixed ages\, primarily young families\, who meet together weekly for various Bible studies.
URL:https://www.parkgate.church/event/boggs-lifegroup/2025-01-19/
LOCATION:Boggs House\, Houston\, TX\, 77034\, United States
CATEGORIES:LifeGroups
ATTACH;FMTTYPE=image/png:https://www.parkgate.church/wp-content/uploads/2024/04/LifeGroup-Screen.png
ORGANIZER;CN="Pastor Kenny":MAILTO:kboggs@parkgate.org
END:VEVENT
BEGIN:VEVENT
DTSTART;TZID=America/Chicago:20250112T160000
DTEND;TZID=America/Chicago:20250112T180000
DTSTAMP:20260421T113408
CREATED:20241107T170019Z
LAST-MODIFIED:20241107T170019Z
UID:10006604-1736697600-1736704800@www.parkgate.church
SUMMARY:Boggs LifeGroup
DESCRIPTION:The Boggs LifeGroup is a group of mixed ages\, primarily young families\, who meet together weekly for various Bible studies.
URL:https://www.parkgate.church/event/boggs-lifegroup/2025-01-12/
LOCATION:Boggs House\, Houston\, TX\, 77034\, United States
CATEGORIES:LifeGroups
ATTACH;FMTTYPE=image/png:https://www.parkgate.church/wp-content/uploads/2024/04/LifeGroup-Screen.png
ORGANIZER;CN="Pastor Kenny":MAILTO:kboggs@parkgate.org
END:VEVENT
BEGIN:VEVENT
DTSTART;TZID=America/Chicago:20250105T160000
DTEND;TZID=America/Chicago:20250105T180000
DTSTAMP:20260421T113408
CREATED:20241107T170019Z
LAST-MODIFIED:20241107T170019Z
UID:10006603-1736092800-1736100000@www.parkgate.church
SUMMARY:Boggs LifeGroup
DESCRIPTION:The Boggs LifeGroup is a group of mixed ages\, primarily young families\, who meet together weekly for various Bible studies.
URL:https://www.parkgate.church/event/boggs-lifegroup/2025-01-05/
LOCATION:Boggs House\, Houston\, TX\, 77034\, United States
CATEGORIES:LifeGroups
ATTACH;FMTTYPE=image/png:https://www.parkgate.church/wp-content/uploads/2024/04/LifeGroup-Screen.png
ORGANIZER;CN="Pastor Kenny":MAILTO:kboggs@parkgate.org
END:VEVENT
BEGIN:VEVENT
DTSTART;TZID=America/Chicago:20241229T160000
DTEND;TZID=America/Chicago:20241229T180000
DTSTAMP:20260421T113408
CREATED:20241107T170019Z
LAST-MODIFIED:20241107T170019Z
UID:10006602-1735488000-1735495200@www.parkgate.church
SUMMARY:Boggs LifeGroup
DESCRIPTION:The Boggs LifeGroup is a group of mixed ages\, primarily young families\, who meet together weekly for various Bible studies.
URL:https://www.parkgate.church/event/boggs-lifegroup/2024-12-29/
LOCATION:Boggs House\, Houston\, TX\, 77034\, United States
CATEGORIES:LifeGroups
ATTACH;FMTTYPE=image/png:https://www.parkgate.church/wp-content/uploads/2024/04/LifeGroup-Screen.png
ORGANIZER;CN="Pastor Kenny":MAILTO:kboggs@parkgate.org
END:VEVENT
BEGIN:VEVENT
DTSTART;TZID=America/Chicago:20241225T190000
DTEND;TZID=America/Chicago:20241225T200000
DTSTAMP:20260421T113408
CREATED:20240416T205308Z
LAST-MODIFIED:20240416T205308Z
UID:10005949-1735153200-1735156800@www.parkgate.church
SUMMARY:Plugged In
DESCRIPTION:New to Parkgate? Discover what it means to live in community here at Parkgate Church. Childcare is provided\, and programming is available for students K-12.
URL:https://www.parkgate.church/event/plugged-in-2/2024-12-25/
LOCATION:Parkgate Community Church\, 3715 Preston Avenue\, Pasadena\, TX\, 77505\, United States
ATTACH;FMTTYPE=image/png:https://www.parkgate.church/wp-content/uploads/2024/04/Plugged-In-Screen.png
ORGANIZER;CN="Pastor Kenny":MAILTO:kboggs@parkgate.org
END:VEVENT
BEGIN:VEVENT
DTSTART;TZID=America/Chicago:20241224T180000
DTEND;TZID=America/Chicago:20241224T190000
DTSTAMP:20260421T113408
CREATED:20240529T153025Z
LAST-MODIFIED:20240529T153025Z
UID:10006026-1735063200-1735066800@www.parkgate.church
SUMMARY:Christmas Eve Service
DESCRIPTION:Join us for our annual Christmas Eve service as we celebrate the birth of our Savior and King.
URL:https://www.parkgate.church/event/christmas-eve-service/
LOCATION:Parkgate Community Church\, 3715 Preston Avenue\, Pasadena\, TX\, 77505\, United States
ATTACH;FMTTYPE=image/png:https://www.parkgate.church/wp-content/uploads/2024/05/Christmas-Eve-Service-Screen.png
ORGANIZER;CN="Pastor Kenny":MAILTO:kboggs@parkgate.org
END:VEVENT
BEGIN:VEVENT
DTSTART;TZID=America/Chicago:20241222T160000
DTEND;TZID=America/Chicago:20241222T180000
DTSTAMP:20260421T113408
CREATED:20241107T170019Z
LAST-MODIFIED:20241107T170019Z
UID:10006601-1734883200-1734890400@www.parkgate.church
SUMMARY:Boggs LifeGroup
DESCRIPTION:The Boggs LifeGroup is a group of mixed ages\, primarily young families\, who meet together weekly for various Bible studies.
URL:https://www.parkgate.church/event/boggs-lifegroup/2024-12-22/
LOCATION:Boggs House\, Houston\, TX\, 77034\, United States
CATEGORIES:LifeGroups
ATTACH;FMTTYPE=image/png:https://www.parkgate.church/wp-content/uploads/2024/04/LifeGroup-Screen.png
ORGANIZER;CN="Pastor Kenny":MAILTO:kboggs@parkgate.org
END:VEVENT
BEGIN:VEVENT
DTSTART;TZID=America/Chicago:20241215T160000
DTEND;TZID=America/Chicago:20241215T180000
DTSTAMP:20260421T113408
CREATED:20241107T170019Z
LAST-MODIFIED:20241107T170019Z
UID:10006600-1734278400-1734285600@www.parkgate.church
SUMMARY:Boggs LifeGroup
DESCRIPTION:The Boggs LifeGroup is a group of mixed ages\, primarily young families\, who meet together weekly for various Bible studies.
URL:https://www.parkgate.church/event/boggs-lifegroup/2024-12-15/
LOCATION:Boggs House\, Houston\, TX\, 77034\, United States
CATEGORIES:LifeGroups
ATTACH;FMTTYPE=image/png:https://www.parkgate.church/wp-content/uploads/2024/04/LifeGroup-Screen.png
ORGANIZER;CN="Pastor Kenny":MAILTO:kboggs@parkgate.org
END:VEVENT
BEGIN:VEVENT
DTSTART;TZID=America/Chicago:20241208T160000
DTEND;TZID=America/Chicago:20241208T180000
DTSTAMP:20260421T113408
CREATED:20241107T170019Z
LAST-MODIFIED:20241107T170019Z
UID:10006599-1733673600-1733680800@www.parkgate.church
SUMMARY:Boggs LifeGroup
DESCRIPTION:The Boggs LifeGroup is a group of mixed ages\, primarily young families\, who meet together weekly for various Bible studies.
URL:https://www.parkgate.church/event/boggs-lifegroup/2024-12-08/
LOCATION:Boggs House\, Houston\, TX\, 77034\, United States
CATEGORIES:LifeGroups
ATTACH;FMTTYPE=image/png:https://www.parkgate.church/wp-content/uploads/2024/04/LifeGroup-Screen.png
ORGANIZER;CN="Pastor Kenny":MAILTO:kboggs@parkgate.org
END:VEVENT
BEGIN:VEVENT
DTSTART;TZID=America/Chicago:20241201T160000
DTEND;TZID=America/Chicago:20241201T180000
DTSTAMP:20260421T113408
CREATED:20241107T170019Z
LAST-MODIFIED:20241107T170019Z
UID:10006598-1733068800-1733076000@www.parkgate.church
SUMMARY:Boggs LifeGroup
DESCRIPTION:The Boggs LifeGroup is a group of mixed ages\, primarily young families\, who meet together weekly for various Bible studies.
URL:https://www.parkgate.church/event/boggs-lifegroup/2024-12-01/
LOCATION:Boggs House\, Houston\, TX\, 77034\, United States
CATEGORIES:LifeGroups
ATTACH;FMTTYPE=image/png:https://www.parkgate.church/wp-content/uploads/2024/04/LifeGroup-Screen.png
ORGANIZER;CN="Pastor Kenny":MAILTO:kboggs@parkgate.org
END:VEVENT
BEGIN:VEVENT
DTSTART;TZID=America/Chicago:20241127T190000
DTEND;TZID=America/Chicago:20241127T200000
DTSTAMP:20260421T113408
CREATED:20240416T205308Z
LAST-MODIFIED:20240416T205308Z
UID:10005948-1732734000-1732737600@www.parkgate.church
SUMMARY:Plugged In
DESCRIPTION:New to Parkgate? Discover what it means to live in community here at Parkgate Church. Childcare is provided\, and programming is available for students K-12.
URL:https://www.parkgate.church/event/plugged-in-2/2024-11-27/
LOCATION:Parkgate Community Church\, 3715 Preston Avenue\, Pasadena\, TX\, 77505\, United States
ATTACH;FMTTYPE=image/png:https://www.parkgate.church/wp-content/uploads/2024/04/Plugged-In-Screen.png
ORGANIZER;CN="Pastor Kenny":MAILTO:kboggs@parkgate.org
END:VEVENT
BEGIN:VEVENT
DTSTART;TZID=America/Chicago:20241124T160000
DTEND;TZID=America/Chicago:20241124T180000
DTSTAMP:20260421T113408
CREATED:20241107T170019Z
LAST-MODIFIED:20241107T170019Z
UID:10006597-1732464000-1732471200@www.parkgate.church
SUMMARY:Boggs LifeGroup
DESCRIPTION:The Boggs LifeGroup is a group of mixed ages\, primarily young families\, who meet together weekly for various Bible studies.
URL:https://www.parkgate.church/event/boggs-lifegroup/2024-11-24/
LOCATION:Boggs House\, Houston\, TX\, 77034\, United States
CATEGORIES:LifeGroups
ATTACH;FMTTYPE=image/png:https://www.parkgate.church/wp-content/uploads/2024/04/LifeGroup-Screen.png
ORGANIZER;CN="Pastor Kenny":MAILTO:kboggs@parkgate.org
END:VEVENT
BEGIN:VEVENT
DTSTART;TZID=America/Chicago:20241120T190000
DTEND;TZID=America/Chicago:20241120T200000
DTSTAMP:20260421T113408
CREATED:20241107T170917Z
LAST-MODIFIED:20241107T170917Z
UID:10006857-1732129200-1732132800@www.parkgate.church
SUMMARY:Plugged In
DESCRIPTION:New to Parkgate? Join us for Plugged In on Wednesday\, November 20 @ 7 p.m.! Hosted by our pastoral staff\, Plugged In is a place to discover more about our vision\, service opportunities\, and what it means to live life in community here at Parkgate Community Church. We have midweek programs available for kids and students grades K—12 and child care for preschoolers.
URL:https://www.parkgate.church/event/plugged-in-3/
LOCATION:Parkgate Community Church\, 3715 Preston Avenue\, Pasadena\, TX\, 77505\, United States
CATEGORIES:Newcomers
ATTACH;FMTTYPE=image/png:https://www.parkgate.church/wp-content/uploads/2024/04/Plugged-In-Screen.png
ORGANIZER;CN="Pastor Kenny":MAILTO:kboggs@parkgate.org
END:VEVENT
BEGIN:VEVENT
DTSTART;TZID=America/Chicago:20241117T160000
DTEND;TZID=America/Chicago:20241117T180000
DTSTAMP:20260421T113408
CREATED:20241107T170019Z
LAST-MODIFIED:20241107T170019Z
UID:10006596-1731859200-1731866400@www.parkgate.church
SUMMARY:Boggs LifeGroup
DESCRIPTION:The Boggs LifeGroup is a group of mixed ages\, primarily young families\, who meet together weekly for various Bible studies.
URL:https://www.parkgate.church/event/boggs-lifegroup/2024-11-17/
LOCATION:Boggs House\, Houston\, TX\, 77034\, United States
CATEGORIES:LifeGroups
ATTACH;FMTTYPE=image/png:https://www.parkgate.church/wp-content/uploads/2024/04/LifeGroup-Screen.png
ORGANIZER;CN="Pastor Kenny":MAILTO:kboggs@parkgate.org
END:VEVENT
BEGIN:VEVENT
DTSTART;TZID=America/Chicago:20241110T160000
DTEND;TZID=America/Chicago:20241110T180000
DTSTAMP:20260421T113408
CREATED:20241107T170019Z
LAST-MODIFIED:20241107T170019Z
UID:10006595-1731254400-1731261600@www.parkgate.church
SUMMARY:Boggs LifeGroup
DESCRIPTION:The Boggs LifeGroup is a group of mixed ages\, primarily young families\, who meet together weekly for various Bible studies.
URL:https://www.parkgate.church/event/boggs-lifegroup/2024-11-10/
LOCATION:Boggs House\, Houston\, TX\, 77034\, United States
CATEGORIES:LifeGroups
ATTACH;FMTTYPE=image/png:https://www.parkgate.church/wp-content/uploads/2024/04/LifeGroup-Screen.png
ORGANIZER;CN="Pastor Kenny":MAILTO:kboggs@parkgate.org
END:VEVENT
BEGIN:VEVENT
DTSTART;TZID=America/Chicago:20241030T190000
DTEND;TZID=America/Chicago:20241030T200000
DTSTAMP:20260421T113408
CREATED:20240416T205308Z
LAST-MODIFIED:20240416T205308Z
UID:10005947-1730314800-1730318400@www.parkgate.church
SUMMARY:Plugged In
DESCRIPTION:New to Parkgate? Discover what it means to live in community here at Parkgate Church. Childcare is provided\, and programming is available for students K-12.
URL:https://www.parkgate.church/event/plugged-in-2/2024-10-30/
LOCATION:Parkgate Community Church\, 3715 Preston Avenue\, Pasadena\, TX\, 77505\, United States
ATTACH;FMTTYPE=image/png:https://www.parkgate.church/wp-content/uploads/2024/04/Plugged-In-Screen.png
ORGANIZER;CN="Pastor Kenny":MAILTO:kboggs@parkgate.org
END:VEVENT
BEGIN:VEVENT
DTSTART;TZID=America/Chicago:20240925T190000
DTEND;TZID=America/Chicago:20240925T200000
DTSTAMP:20260421T113408
CREATED:20240416T205308Z
LAST-MODIFIED:20240416T205308Z
UID:10005946-1727290800-1727294400@www.parkgate.church
SUMMARY:Plugged In
DESCRIPTION:New to Parkgate? Discover what it means to live in community here at Parkgate Church. Childcare is provided\, and programming is available for students K-12.
URL:https://www.parkgate.church/event/plugged-in-2/2024-09-25/
LOCATION:Parkgate Community Church\, 3715 Preston Avenue\, Pasadena\, TX\, 77505\, United States
ATTACH;FMTTYPE=image/png:https://www.parkgate.church/wp-content/uploads/2024/04/Plugged-In-Screen.png
ORGANIZER;CN="Pastor Kenny":MAILTO:kboggs@parkgate.org
END:VEVENT
END:VCALENDAR