BEGIN:VCALENDAR
VERSION:2.0
PRODID:-//Parkgate Community Church - ECPv6.15.20//NONSGML v1.0//EN
CALSCALE:GREGORIAN
METHOD:PUBLISH
X-WR-CALNAME:Parkgate Community Church
X-ORIGINAL-URL:https://www.parkgate.church
X-WR-CALDESC:Events for Parkgate Community Church
REFRESH-INTERVAL;VALUE=DURATION:PT1H
X-Robots-Tag:noindex
X-PUBLISHED-TTL:PT1H
BEGIN:VTIMEZONE
TZID:America/Chicago
BEGIN:DAYLIGHT
TZOFFSETFROM:-0600
TZOFFSETTO:-0500
TZNAME:CDT
DTSTART:20240310T080000
END:DAYLIGHT
BEGIN:STANDARD
TZOFFSETFROM:-0500
TZOFFSETTO:-0600
TZNAME:CST
DTSTART:20241103T070000
END:STANDARD
BEGIN:DAYLIGHT
TZOFFSETFROM:-0600
TZOFFSETTO:-0500
TZNAME:CDT
DTSTART:20250309T080000
END:DAYLIGHT
BEGIN:STANDARD
TZOFFSETFROM:-0500
TZOFFSETTO:-0600
TZNAME:CST
DTSTART:20251102T070000
END:STANDARD
BEGIN:DAYLIGHT
TZOFFSETFROM:-0600
TZOFFSETTO:-0500
TZNAME:CDT
DTSTART:20260308T080000
END:DAYLIGHT
BEGIN:STANDARD
TZOFFSETFROM:-0500
TZOFFSETTO:-0600
TZNAME:CST
DTSTART:20261101T070000
END:STANDARD
END:VTIMEZONE
BEGIN:VEVENT
DTSTART;TZID=America/Chicago:20250507T180000
DTEND;TZID=America/Chicago:20250507T200000
DTSTAMP:20260423T173751
CREATED:20231212T163824Z
LAST-MODIFIED:20240724T195525Z
UID:10001883-1746640800-1746648000@www.parkgate.church
SUMMARY:Fun Night
DESCRIPTION:Join fellow Parkgate adults in the Fellowship Room at 6 p.m. for a time of board games and cards\, fellowship\, and a light meal.
URL:https://www.parkgate.church/event/fellowship-game-night/2025-05-07/
LOCATION:Parkgate Community Church\, 3715 Preston Avenue\, Pasadena\, TX\, 77505\, United States
CATEGORIES:Adults
ATTACH;FMTTYPE=image/png:https://www.parkgate.church/wp-content/uploads/2023/12/Fun-Night-Screen.png
END:VEVENT
BEGIN:VEVENT
DTSTART;TZID=America/Chicago:20250506T190000
DTEND;TZID=America/Chicago:20250506T200000
DTSTAMP:20260423T173751
CREATED:20240904T203227Z
LAST-MODIFIED:20240904T203227Z
UID:10006366-1746558000-1746561600@www.parkgate.church
SUMMARY:Brittney's Group
DESCRIPTION:Ladies of Parkagte\, engage with the Parkgate sisterhood on Tuesdays at 7 p.m. to study the Bible and join in fellowship together. Women of all ages are welcome.
URL:https://www.parkgate.church/event/brittneys-group/2025-05-06/
LOCATION:Parkgate Community Church\, 3715 Preston Avenue\, Pasadena\, TX\, 77505\, United States
CATEGORIES:LifeGroups
ATTACH;FMTTYPE=image/png:https://www.parkgate.church/wp-content/uploads/2024/04/LifeGroup-Screen.png
ORGANIZER;CN="Brittney Mejia":MAILTO:Brittney.martinez16@gmail.com
END:VEVENT
BEGIN:VEVENT
DTSTART;TZID=America/Chicago:20250506T100000
DTEND;TZID=America/Chicago:20250506T110000
DTSTAMP:20260423T173751
CREATED:20240904T200054Z
LAST-MODIFIED:20250609T171823Z
UID:10006105-1746525600-1746529200@www.parkgate.church
SUMMARY:Becky's LifeGroup
DESCRIPTION:This life group is open to ladies of any age. We study the Bible\, using books\, video series\, and discussions to deepen our understanding of what it means to truly walk in the Lord’s plan for our lives.
URL:https://www.parkgate.church/event/beckys-lifegroup-2/2025-05-06/
LOCATION:Parkgate Community Church\, 3715 Preston Avenue\, Pasadena\, TX\, 77505\, United States
CATEGORIES:LifeGroups
ATTACH;FMTTYPE=image/png:https://www.parkgate.church/wp-content/uploads/2024/04/LifeGroup-Screen.png
ORGANIZER;CN="Becky Hicks":MAILTO:bhicks200416@sbcglobal.net
END:VEVENT
BEGIN:VEVENT
DTSTART;TZID=America/Chicago:20250504T104500
DTEND;TZID=America/Chicago:20250504T120000
DTSTAMP:20260423T173751
CREATED:20231212T161833Z
LAST-MODIFIED:20231212T161833Z
UID:10001414-1746355500-1746360000@www.parkgate.church
SUMMARY:Sundays @ 10:45 a.m.
DESCRIPTION:On Sundays at 10:45 a.m.\, we offer: \n\nWorship Service\nSundayLife Gatherings\nKiX Children’s Ministry\n\nOur students (6th – 12th grades) are invited to participate in our worship service.
URL:https://www.parkgate.church/event/sundays-1045-a-m/2025-05-04/
LOCATION:Parkgate Community Church\, 3715 Preston Avenue\, Pasadena\, TX\, 77505\, United States
CATEGORIES:KiX Children's Ministry,Sunday Mornings,SundayLife
ATTACH;FMTTYPE=image/png:https://www.parkgate.church/wp-content/uploads/2023/12/Sundays-at-1045-a.m.png
END:VEVENT
BEGIN:VEVENT
DTSTART;TZID=America/Chicago:20250504T090000
DTEND;TZID=America/Chicago:20250504T101500
DTSTAMP:20260423T173751
CREATED:20231025T073903Z
LAST-MODIFIED:20231212T161518Z
UID:10001147-1746349200-1746353700@www.parkgate.church
SUMMARY:Sundays @ 9 a.m.
DESCRIPTION:On Sundays at 9 a.m.\, we offer: \n\nWorship Service\nSundayLife Gatherings\nKiX Children’s Ministry\nIMPACT Student Ministry
URL:https://www.parkgate.church/event/sundays-9-a-m/2025-05-04/
LOCATION:Parkgate Community Church\, 3715 Preston Avenue\, Pasadena\, TX\, 77505\, United States
CATEGORIES:IMPACT Student Ministry,KiX Children's Ministry,Sunday Mornings,SundayLife
ATTACH;FMTTYPE=image/png:https://www.parkgate.church/wp-content/uploads/2023/10/Sundays-at-9-a.m.png
END:VEVENT
BEGIN:VEVENT
DTSTART;TZID=America/Chicago:20250501T120000
DTEND;TZID=America/Chicago:20250501T130000
DTSTAMP:20260423T173751
CREATED:20240404T211218Z
LAST-MODIFIED:20240404T211218Z
UID:10004678-1746100800-1746104400@www.parkgate.church
SUMMARY:Bible Study with Pastor Kenneth
DESCRIPTION:This LifeGroup is open to individuals and couples of all ages and seasons of life. For more details\, please reach out to Pastor Kenny at kboggs@parkgate.org.
URL:https://www.parkgate.church/event/bible-study-with-pastor-kenneth/2025-05-01/
LOCATION:Parkgate Community Church\, 3715 Preston Avenue\, Pasadena\, TX\, 77505\, United States
CATEGORIES:Adults,LifeGroups
END:VEVENT
BEGIN:VEVENT
DTSTART;TZID=America/Chicago:20250430T190000
DTEND;TZID=America/Chicago:20250430T200000
DTSTAMP:20260423T173751
CREATED:20240416T205308Z
LAST-MODIFIED:20240416T205308Z
UID:10005953-1746039600-1746043200@www.parkgate.church
SUMMARY:Plugged In
DESCRIPTION:New to Parkgate? Discover what it means to live in community here at Parkgate Church. Childcare is provided\, and programming is available for students K-12.
URL:https://www.parkgate.church/event/plugged-in-2/2025-04-30/
LOCATION:Parkgate Community Church\, 3715 Preston Avenue\, Pasadena\, TX\, 77505\, United States
ATTACH;FMTTYPE=image/png:https://www.parkgate.church/wp-content/uploads/2024/04/Plugged-In-Screen.png
ORGANIZER;CN="Pastor Kenny":MAILTO:kboggs@parkgate.org
END:VEVENT
BEGIN:VEVENT
DTSTART;TZID=America/Chicago:20250430T190000
DTEND;TZID=America/Chicago:20250430T200000
DTSTAMP:20260423T173751
CREATED:20240404T205606Z
LAST-MODIFIED:20240411T212857Z
UID:10005728-1746039600-1746043200@www.parkgate.church
SUMMARY:Steven's LifeGroup
DESCRIPTION:This LifeGroup is open to individuals and couples of all ages and seasons of life. For more details\, please reach out to Pastor Kenny at kboggs@parkgate.org.
URL:https://www.parkgate.church/event/stevens-lifegroup/2025-04-30/
LOCATION:Parkgate Community Church\, 3715 Preston Avenue\, Pasadena\, TX\, 77505\, United States
CATEGORIES:Adults,LifeGroups
ATTACH;FMTTYPE=image/png:https://www.parkgate.church/wp-content/uploads/2024/04/LifeGroup-Screen.png
END:VEVENT
BEGIN:VEVENT
DTSTART;TZID=America/Chicago:20250430T190000
DTEND;TZID=America/Chicago:20250430T200000
DTSTAMP:20260423T173751
CREATED:20240404T181023Z
LAST-MODIFIED:20240411T212741Z
UID:10003955-1746039600-1746043200@www.parkgate.church
SUMMARY:Votaw LifeGroup
DESCRIPTION:This LifeGroup is open to individuals and couples of all ages and seasons of life. For more details\, please reach out to Pastor Kenny at kboggs@parkgate.org.
URL:https://www.parkgate.church/event/votaw-lifegroup/2025-04-30/
LOCATION:Parkgate Community Church\, 3715 Preston Avenue\, Pasadena\, TX\, 77505\, United States
ATTACH;FMTTYPE=image/png:https://www.parkgate.church/wp-content/uploads/2024/04/LifeGroup-Screen.png
ORGANIZER;CN="Shirley Votaw":MAILTO:svotaw@parkgate.org
END:VEVENT
BEGIN:VEVENT
DTSTART;TZID=America/Chicago:20250430T190000
DTEND;TZID=America/Chicago:20250430T200000
DTSTAMP:20260423T173751
CREATED:20231212T174020Z
LAST-MODIFIED:20231228T023812Z
UID:10002326-1746039600-1746043200@www.parkgate.church
SUMMARY:IMPACT Midweek
DESCRIPTION:Students in 6th – 12th grade are invited to join us for our IMPACT Midweek Gatherings\, from 7 – 8 p.m. on Wednesday nights. During this time\, we hang out with our friends\, play games\, worship\, and dive into God’s Word together.
URL:https://www.parkgate.church/event/impact-midweek/2025-04-30/
LOCATION:Parkgate Community Church\, 3715 Preston Avenue\, Pasadena\, TX\, 77505\, United States
CATEGORIES:IMPACT Student Ministry
ATTACH;FMTTYPE=image/png:https://www.parkgate.church/wp-content/uploads/2023/12/IMPACT-Midweek.png
END:VEVENT
BEGIN:VEVENT
DTSTART;TZID=America/Chicago:20250430T190000
DTEND;TZID=America/Chicago:20250430T200000
DTSTAMP:20260423T173751
CREATED:20231212T173720Z
LAST-MODIFIED:20240731T215945Z
UID:10002067-1746039600-1746043200@www.parkgate.church
SUMMARY:Club KiX
DESCRIPTION:Kids age 4 – 5th grade are invited to join us at Club KiX\, a high-energy\, hands-on hour of Bible learning and practical application.
URL:https://www.parkgate.church/event/club-kix/2025-04-30/
LOCATION:Parkgate Community Church\, 3715 Preston Avenue\, Pasadena\, TX\, 77505\, United States
CATEGORIES:KiX Children's Ministry
ATTACH;FMTTYPE=image/png:https://www.parkgate.church/wp-content/uploads/2024/07/Club-KiX-Screen.png
END:VEVENT
BEGIN:VEVENT
DTSTART;TZID=America/Chicago:20250429T190000
DTEND;TZID=America/Chicago:20250429T200000
DTSTAMP:20260423T173751
CREATED:20240904T203227Z
LAST-MODIFIED:20240904T203227Z
UID:10006365-1745953200-1745956800@www.parkgate.church
SUMMARY:Brittney's Group
DESCRIPTION:Ladies of Parkagte\, engage with the Parkgate sisterhood on Tuesdays at 7 p.m. to study the Bible and join in fellowship together. Women of all ages are welcome.
URL:https://www.parkgate.church/event/brittneys-group/2025-04-29/
LOCATION:Parkgate Community Church\, 3715 Preston Avenue\, Pasadena\, TX\, 77505\, United States
CATEGORIES:LifeGroups
ATTACH;FMTTYPE=image/png:https://www.parkgate.church/wp-content/uploads/2024/04/LifeGroup-Screen.png
ORGANIZER;CN="Brittney Mejia":MAILTO:Brittney.martinez16@gmail.com
END:VEVENT
BEGIN:VEVENT
DTSTART;TZID=America/Chicago:20250429T170000
DTEND;TZID=America/Chicago:20250429T183000
DTSTAMP:20260423T173751
CREATED:20240404T210855Z
LAST-MODIFIED:20240411T212625Z
UID:10004465-1745946000-1745951400@www.parkgate.church
SUMMARY:Judy's LifeGroup
DESCRIPTION:This LifeGroup is comprised of couples and individuals aged 50 and up. For more details\, please reach out to Pastor Kenny at kboggs@parkgate.org.
URL:https://www.parkgate.church/event/judys-lifegroup/2025-04-29/
LOCATION:Parkgate Community Church\, 3715 Preston Avenue\, Pasadena\, TX\, 77505\, United States
CATEGORIES:Adults,LifeGroups
ATTACH;FMTTYPE=image/png:https://www.parkgate.church/wp-content/uploads/2024/04/LifeGroup-Screen.png
END:VEVENT
BEGIN:VEVENT
DTSTART;TZID=America/Chicago:20250429T100000
DTEND;TZID=America/Chicago:20250429T110000
DTSTAMP:20260423T173751
CREATED:20240904T200054Z
LAST-MODIFIED:20250609T171823Z
UID:10006104-1745920800-1745924400@www.parkgate.church
SUMMARY:Becky's LifeGroup
DESCRIPTION:This life group is open to ladies of any age. We study the Bible\, using books\, video series\, and discussions to deepen our understanding of what it means to truly walk in the Lord’s plan for our lives.
URL:https://www.parkgate.church/event/beckys-lifegroup-2/2025-04-29/
LOCATION:Parkgate Community Church\, 3715 Preston Avenue\, Pasadena\, TX\, 77505\, United States
CATEGORIES:LifeGroups
ATTACH;FMTTYPE=image/png:https://www.parkgate.church/wp-content/uploads/2024/04/LifeGroup-Screen.png
ORGANIZER;CN="Becky Hicks":MAILTO:bhicks200416@sbcglobal.net
END:VEVENT
BEGIN:VEVENT
DTSTART;TZID=America/Chicago:20250427T104500
DTEND;TZID=America/Chicago:20250427T120000
DTSTAMP:20260423T173751
CREATED:20231212T161833Z
LAST-MODIFIED:20231212T161833Z
UID:10001413-1745750700-1745755200@www.parkgate.church
SUMMARY:Sundays @ 10:45 a.m.
DESCRIPTION:On Sundays at 10:45 a.m.\, we offer: \n\nWorship Service\nSundayLife Gatherings\nKiX Children’s Ministry\n\nOur students (6th – 12th grades) are invited to participate in our worship service.
URL:https://www.parkgate.church/event/sundays-1045-a-m/2025-04-27/
LOCATION:Parkgate Community Church\, 3715 Preston Avenue\, Pasadena\, TX\, 77505\, United States
CATEGORIES:KiX Children's Ministry,Sunday Mornings,SundayLife
ATTACH;FMTTYPE=image/png:https://www.parkgate.church/wp-content/uploads/2023/12/Sundays-at-1045-a.m.png
END:VEVENT
BEGIN:VEVENT
DTSTART;TZID=America/Chicago:20250427T090000
DTEND;TZID=America/Chicago:20250427T101500
DTSTAMP:20260423T173751
CREATED:20231025T073903Z
LAST-MODIFIED:20231212T161518Z
UID:10001146-1745744400-1745748900@www.parkgate.church
SUMMARY:Sundays @ 9 a.m.
DESCRIPTION:On Sundays at 9 a.m.\, we offer: \n\nWorship Service\nSundayLife Gatherings\nKiX Children’s Ministry\nIMPACT Student Ministry
URL:https://www.parkgate.church/event/sundays-9-a-m/2025-04-27/
LOCATION:Parkgate Community Church\, 3715 Preston Avenue\, Pasadena\, TX\, 77505\, United States
CATEGORIES:IMPACT Student Ministry,KiX Children's Ministry,Sunday Mornings,SundayLife
ATTACH;FMTTYPE=image/png:https://www.parkgate.church/wp-content/uploads/2023/10/Sundays-at-9-a.m.png
END:VEVENT
BEGIN:VEVENT
DTSTART;TZID=America/Chicago:20250424T120000
DTEND;TZID=America/Chicago:20250424T130000
DTSTAMP:20260423T173751
CREATED:20240404T211218Z
LAST-MODIFIED:20240404T211218Z
UID:10004677-1745496000-1745499600@www.parkgate.church
SUMMARY:Bible Study with Pastor Kenneth
DESCRIPTION:This LifeGroup is open to individuals and couples of all ages and seasons of life. For more details\, please reach out to Pastor Kenny at kboggs@parkgate.org.
URL:https://www.parkgate.church/event/bible-study-with-pastor-kenneth/2025-04-24/
LOCATION:Parkgate Community Church\, 3715 Preston Avenue\, Pasadena\, TX\, 77505\, United States
CATEGORIES:Adults,LifeGroups
END:VEVENT
BEGIN:VEVENT
DTSTART;TZID=America/Chicago:20250423T190000
DTEND;TZID=America/Chicago:20250423T200000
DTSTAMP:20260423T173751
CREATED:20240404T205606Z
LAST-MODIFIED:20240411T212857Z
UID:10005727-1745434800-1745438400@www.parkgate.church
SUMMARY:Steven's LifeGroup
DESCRIPTION:This LifeGroup is open to individuals and couples of all ages and seasons of life. For more details\, please reach out to Pastor Kenny at kboggs@parkgate.org.
URL:https://www.parkgate.church/event/stevens-lifegroup/2025-04-23/
LOCATION:Parkgate Community Church\, 3715 Preston Avenue\, Pasadena\, TX\, 77505\, United States
CATEGORIES:Adults,LifeGroups
ATTACH;FMTTYPE=image/png:https://www.parkgate.church/wp-content/uploads/2024/04/LifeGroup-Screen.png
END:VEVENT
BEGIN:VEVENT
DTSTART;TZID=America/Chicago:20250423T190000
DTEND;TZID=America/Chicago:20250423T200000
DTSTAMP:20260423T173751
CREATED:20240404T181023Z
LAST-MODIFIED:20240411T212741Z
UID:10003954-1745434800-1745438400@www.parkgate.church
SUMMARY:Votaw LifeGroup
DESCRIPTION:This LifeGroup is open to individuals and couples of all ages and seasons of life. For more details\, please reach out to Pastor Kenny at kboggs@parkgate.org.
URL:https://www.parkgate.church/event/votaw-lifegroup/2025-04-23/
LOCATION:Parkgate Community Church\, 3715 Preston Avenue\, Pasadena\, TX\, 77505\, United States
ATTACH;FMTTYPE=image/png:https://www.parkgate.church/wp-content/uploads/2024/04/LifeGroup-Screen.png
ORGANIZER;CN="Shirley Votaw":MAILTO:svotaw@parkgate.org
END:VEVENT
BEGIN:VEVENT
DTSTART;TZID=America/Chicago:20250423T190000
DTEND;TZID=America/Chicago:20250423T200000
DTSTAMP:20260423T173751
CREATED:20231212T174020Z
LAST-MODIFIED:20231228T023812Z
UID:10002325-1745434800-1745438400@www.parkgate.church
SUMMARY:IMPACT Midweek
DESCRIPTION:Students in 6th – 12th grade are invited to join us for our IMPACT Midweek Gatherings\, from 7 – 8 p.m. on Wednesday nights. During this time\, we hang out with our friends\, play games\, worship\, and dive into God’s Word together.
URL:https://www.parkgate.church/event/impact-midweek/2025-04-23/
LOCATION:Parkgate Community Church\, 3715 Preston Avenue\, Pasadena\, TX\, 77505\, United States
CATEGORIES:IMPACT Student Ministry
ATTACH;FMTTYPE=image/png:https://www.parkgate.church/wp-content/uploads/2023/12/IMPACT-Midweek.png
END:VEVENT
BEGIN:VEVENT
DTSTART;TZID=America/Chicago:20250423T190000
DTEND;TZID=America/Chicago:20250423T200000
DTSTAMP:20260423T173751
CREATED:20231212T173720Z
LAST-MODIFIED:20240731T215945Z
UID:10002066-1745434800-1745438400@www.parkgate.church
SUMMARY:Club KiX
DESCRIPTION:Kids age 4 – 5th grade are invited to join us at Club KiX\, a high-energy\, hands-on hour of Bible learning and practical application.
URL:https://www.parkgate.church/event/club-kix/2025-04-23/
LOCATION:Parkgate Community Church\, 3715 Preston Avenue\, Pasadena\, TX\, 77505\, United States
CATEGORIES:KiX Children's Ministry
ATTACH;FMTTYPE=image/png:https://www.parkgate.church/wp-content/uploads/2024/07/Club-KiX-Screen.png
END:VEVENT
BEGIN:VEVENT
DTSTART;TZID=America/Chicago:20250422T190000
DTEND;TZID=America/Chicago:20250422T200000
DTSTAMP:20260423T173751
CREATED:20240904T203227Z
LAST-MODIFIED:20240904T203227Z
UID:10006364-1745348400-1745352000@www.parkgate.church
SUMMARY:Brittney's Group
DESCRIPTION:Ladies of Parkagte\, engage with the Parkgate sisterhood on Tuesdays at 7 p.m. to study the Bible and join in fellowship together. Women of all ages are welcome.
URL:https://www.parkgate.church/event/brittneys-group/2025-04-22/
LOCATION:Parkgate Community Church\, 3715 Preston Avenue\, Pasadena\, TX\, 77505\, United States
CATEGORIES:LifeGroups
ATTACH;FMTTYPE=image/png:https://www.parkgate.church/wp-content/uploads/2024/04/LifeGroup-Screen.png
ORGANIZER;CN="Brittney Mejia":MAILTO:Brittney.martinez16@gmail.com
END:VEVENT
BEGIN:VEVENT
DTSTART;TZID=America/Chicago:20250422T170000
DTEND;TZID=America/Chicago:20250422T183000
DTSTAMP:20260423T173751
CREATED:20240404T210855Z
LAST-MODIFIED:20240411T212625Z
UID:10004464-1745341200-1745346600@www.parkgate.church
SUMMARY:Judy's LifeGroup
DESCRIPTION:This LifeGroup is comprised of couples and individuals aged 50 and up. For more details\, please reach out to Pastor Kenny at kboggs@parkgate.org.
URL:https://www.parkgate.church/event/judys-lifegroup/2025-04-22/
LOCATION:Parkgate Community Church\, 3715 Preston Avenue\, Pasadena\, TX\, 77505\, United States
CATEGORIES:Adults,LifeGroups
ATTACH;FMTTYPE=image/png:https://www.parkgate.church/wp-content/uploads/2024/04/LifeGroup-Screen.png
END:VEVENT
BEGIN:VEVENT
DTSTART;TZID=America/Chicago:20250422T100000
DTEND;TZID=America/Chicago:20250422T110000
DTSTAMP:20260423T173751
CREATED:20240904T200054Z
LAST-MODIFIED:20250609T171823Z
UID:10006103-1745316000-1745319600@www.parkgate.church
SUMMARY:Becky's LifeGroup
DESCRIPTION:This life group is open to ladies of any age. We study the Bible\, using books\, video series\, and discussions to deepen our understanding of what it means to truly walk in the Lord’s plan for our lives.
URL:https://www.parkgate.church/event/beckys-lifegroup-2/2025-04-22/
LOCATION:Parkgate Community Church\, 3715 Preston Avenue\, Pasadena\, TX\, 77505\, United States
CATEGORIES:LifeGroups
ATTACH;FMTTYPE=image/png:https://www.parkgate.church/wp-content/uploads/2024/04/LifeGroup-Screen.png
ORGANIZER;CN="Becky Hicks":MAILTO:bhicks200416@sbcglobal.net
END:VEVENT
BEGIN:VEVENT
DTSTART;TZID=America/Chicago:20250420T104500
DTEND;TZID=America/Chicago:20250420T120000
DTSTAMP:20260423T173751
CREATED:20231212T161833Z
LAST-MODIFIED:20231212T161833Z
UID:10001412-1745145900-1745150400@www.parkgate.church
SUMMARY:Sundays @ 10:45 a.m.
DESCRIPTION:On Sundays at 10:45 a.m.\, we offer: \n\nWorship Service\nSundayLife Gatherings\nKiX Children’s Ministry\n\nOur students (6th – 12th grades) are invited to participate in our worship service.
URL:https://www.parkgate.church/event/sundays-1045-a-m/2025-04-20/
LOCATION:Parkgate Community Church\, 3715 Preston Avenue\, Pasadena\, TX\, 77505\, United States
CATEGORIES:KiX Children's Ministry,Sunday Mornings,SundayLife
ATTACH;FMTTYPE=image/png:https://www.parkgate.church/wp-content/uploads/2023/12/Sundays-at-1045-a.m.png
END:VEVENT
BEGIN:VEVENT
DTSTART;TZID=America/Chicago:20250420T090000
DTEND;TZID=America/Chicago:20250420T101500
DTSTAMP:20260423T173751
CREATED:20231025T073903Z
LAST-MODIFIED:20231212T161518Z
UID:10001145-1745139600-1745144100@www.parkgate.church
SUMMARY:Sundays @ 9 a.m.
DESCRIPTION:On Sundays at 9 a.m.\, we offer: \n\nWorship Service\nSundayLife Gatherings\nKiX Children’s Ministry\nIMPACT Student Ministry
URL:https://www.parkgate.church/event/sundays-9-a-m/2025-04-20/
LOCATION:Parkgate Community Church\, 3715 Preston Avenue\, Pasadena\, TX\, 77505\, United States
CATEGORIES:IMPACT Student Ministry,KiX Children's Ministry,Sunday Mornings,SundayLife
ATTACH;FMTTYPE=image/png:https://www.parkgate.church/wp-content/uploads/2023/10/Sundays-at-9-a.m.png
END:VEVENT
BEGIN:VEVENT
DTSTART;VALUE=DATE:20250420
DTEND;VALUE=DATE:20250421
DTSTAMP:20260423T173751
CREATED:20250401T162219Z
LAST-MODIFIED:20250401T162229Z
UID:10007187-1745107200-1745193599@www.parkgate.church
SUMMARY:Easter Sunday
DESCRIPTION:Join us in worship as we celebrate the resurrection of our Savior & King. Services at 9 & 10:45 a.m.
URL:https://www.parkgate.church/event/easter-sunday/
LOCATION:Parkgate Community Church\, 3715 Preston Avenue\, Pasadena\, TX\, 77505\, United States
CATEGORIES:Adults,IMPACT Student Ministry,KiX Children's Ministry
ATTACH;FMTTYPE=image/png:https://www.parkgate.church/wp-content/uploads/2025/04/Easter-Screen.png
END:VEVENT
BEGIN:VEVENT
DTSTART;TZID=America/Chicago:20250417T190000
DTEND;TZID=America/Chicago:20250417T200000
DTSTAMP:20260423T173751
CREATED:20250401T161607Z
LAST-MODIFIED:20250401T161607Z
UID:10007135-1744916400-1744920000@www.parkgate.church
SUMMARY:Worship Gathering
DESCRIPTION:Come join us for a time of worship and dedication during this special Worship Gathering on Thursday\, April 17\, at 7 p.m. as we prepare for Easter Sunday. This gathering will be a time of worship\, reflection\, prayer\, and renewal as we seek the heart of God together. \nIMPACT Students will join us for the Worship Gathering. Children ages 4 years old thru 5th grade will have a special Thursday edition of Club KiX. Childcare is provided for ages 1 – 3.
URL:https://www.parkgate.church/event/worship-gathering/
LOCATION:Parkgate Community Church\, 3715 Preston Avenue\, Pasadena\, TX\, 77505\, United States
CATEGORIES:Adults,IMPACT Student Ministry
ATTACH;FMTTYPE=image/png:https://www.parkgate.church/wp-content/uploads/2025/04/Maundy-Thursday-Screen-.png
ORGANIZER;CN="Pastor Kenny":MAILTO:kboggs@parkgate.org
END:VEVENT
BEGIN:VEVENT
DTSTART;TZID=America/Chicago:20250417T120000
DTEND;TZID=America/Chicago:20250417T130000
DTSTAMP:20260423T173751
CREATED:20240404T211218Z
LAST-MODIFIED:20240404T211218Z
UID:10004676-1744891200-1744894800@www.parkgate.church
SUMMARY:Bible Study with Pastor Kenneth
DESCRIPTION:This LifeGroup is open to individuals and couples of all ages and seasons of life. For more details\, please reach out to Pastor Kenny at kboggs@parkgate.org.
URL:https://www.parkgate.church/event/bible-study-with-pastor-kenneth/2025-04-17/
LOCATION:Parkgate Community Church\, 3715 Preston Avenue\, Pasadena\, TX\, 77505\, United States
CATEGORIES:Adults,LifeGroups
END:VEVENT
BEGIN:VEVENT
DTSTART;TZID=America/Chicago:20250416T190000
DTEND;TZID=America/Chicago:20250416T200000
DTSTAMP:20260423T173751
CREATED:20240404T205606Z
LAST-MODIFIED:20240411T212857Z
UID:10005726-1744830000-1744833600@www.parkgate.church
SUMMARY:Steven's LifeGroup
DESCRIPTION:This LifeGroup is open to individuals and couples of all ages and seasons of life. For more details\, please reach out to Pastor Kenny at kboggs@parkgate.org.
URL:https://www.parkgate.church/event/stevens-lifegroup/2025-04-16/
LOCATION:Parkgate Community Church\, 3715 Preston Avenue\, Pasadena\, TX\, 77505\, United States
CATEGORIES:Adults,LifeGroups
ATTACH;FMTTYPE=image/png:https://www.parkgate.church/wp-content/uploads/2024/04/LifeGroup-Screen.png
END:VEVENT
END:VCALENDAR